BEGIN:VCALENDAR
VERSION:2.0
PRODID:-//R.K. Parochie Sint Maarten - ECPv6.10.2//NONSGML v1.0//EN
CALSCALE:GREGORIAN
METHOD:PUBLISH
X-WR-CALNAME:R.K. Parochie Sint Maarten
X-ORIGINAL-URL:https://parochie-sintmaarten.staging.wijzijnmerlin.dev
X-WR-CALDESC:Evenementen voor R.K. Parochie Sint Maarten
REFRESH-INTERVAL;VALUE=DURATION:PT1H
X-Robots-Tag:noindex
X-PUBLISHED-TTL:PT1H
BEGIN:VTIMEZONE
TZID:Europe/Amsterdam
BEGIN:DAYLIGHT
TZOFFSETFROM:+0100
TZOFFSETTO:+0200
TZNAME:CEST
DTSTART:20250330T010000
END:DAYLIGHT
BEGIN:STANDARD
TZOFFSETFROM:+0200
TZOFFSETTO:+0100
TZNAME:CET
DTSTART:20251026T010000
END:STANDARD
END:VTIMEZONE
BEGIN:VEVENT
DTSTART;TZID=Europe/Amsterdam:20250504T183000
DTEND;TZID=Europe/Amsterdam:20250504T200000
DTSTAMP:20260419T222359
CREATED:20250429T090301Z
LAST-MODIFIED:20250429T090301Z
UID:10004199-1746383400-1746388800@parochie-sintmaarten.staging.wijzijnmerlin.dev
SUMMARY:4 mei herdenking
DESCRIPTION:Ook dit jaar start de Dodenherdenking in Driebergen-Rijsenburg om 18.45 uur met een herdenkingsbijeenkomst in de Sint Petrus’ bandenkerk. Om 19.25 uur vertrekt een stille tocht naar het verzetsmonument in Driebergen. Om 19.50 uur vind een toespraak plaats met om 20.00 uur 2 minuten stilte.
URL:https://parochie-sintmaarten.staging.wijzijnmerlin.dev/event/4-mei-herdenking/
LOCATION:St. Petrus’ bandenkerk\,\, Kerkplein 5\, Driebergen\, 3972 EK
CATEGORIES:Gebedsviering
ATTACH;FMTTYPE=image/png:https://parochie-sintmaarten.staging.wijzijnmerlin.dev/wp-content/uploads/2025/04/Monument-WO-2-Driebergen.png
GEO:52.0551733;5.2759292
X-APPLE-STRUCTURED-LOCATION;VALUE=URI;X-ADDRESS=St. Petrus’ bandenkerk Kerkplein 5 Driebergen 3972 EK;X-APPLE-RADIUS=500;X-TITLE=Kerkplein 5:geo:5.2759292,52.0551733
END:VEVENT
END:VCALENDAR