BEGIN:VCALENDAR
VERSION:2.0
PRODID:-//R.K. Parochie Sint Maarten - ECPv6.10.2//NONSGML v1.0//EN
CALSCALE:GREGORIAN
METHOD:PUBLISH
X-ORIGINAL-URL:https://parochie-sintmaarten.staging.wijzijnmerlin.dev
X-WR-CALDESC:Evenementen voor R.K. Parochie Sint Maarten
REFRESH-INTERVAL;VALUE=DURATION:PT1H
X-Robots-Tag:noindex
X-PUBLISHED-TTL:PT1H
BEGIN:VTIMEZONE
TZID:Europe/Amsterdam
BEGIN:DAYLIGHT
TZOFFSETFROM:+0100
TZOFFSETTO:+0200
TZNAME:CEST
DTSTART:20230326T010000
END:DAYLIGHT
BEGIN:STANDARD
TZOFFSETFROM:+0200
TZOFFSETTO:+0100
TZNAME:CET
DTSTART:20231029T010000
END:STANDARD
BEGIN:DAYLIGHT
TZOFFSETFROM:+0100
TZOFFSETTO:+0200
TZNAME:CEST
DTSTART:20240331T010000
END:DAYLIGHT
BEGIN:STANDARD
TZOFFSETFROM:+0200
TZOFFSETTO:+0100
TZNAME:CET
DTSTART:20241027T010000
END:STANDARD
BEGIN:DAYLIGHT
TZOFFSETFROM:+0100
TZOFFSETTO:+0200
TZNAME:CEST
DTSTART:20250330T010000
END:DAYLIGHT
BEGIN:STANDARD
TZOFFSETFROM:+0200
TZOFFSETTO:+0100
TZNAME:CET
DTSTART:20251026T010000
END:STANDARD
END:VTIMEZONE
BEGIN:VEVENT
DTSTART;TZID=Europe/Amsterdam:20250322T140000
DTEND;TZID=Europe/Amsterdam:20250322T170000
DTSTAMP:20260420T020709
CREATED:20250303T104229Z
LAST-MODIFIED:20250303T104229Z
UID:10004188-1742652000-1742662800@parochie-sintmaarten.staging.wijzijnmerlin.dev
SUMMARY:Bridgedrive voor Vastenactieproject
DESCRIPTION:Zaterdagmiddag 22 maart worden de kaarten weer geschud voor de 16de (!) Andriesdrive. We spelen\, net als voorgaande jaren\, voor de gezelligheid\, de beroemde vogelhuisjes van Jan van Wees én voor het goede doel: de Vastenactie met als thema ‘Schoner koken\, beter leven’.
URL:https://parochie-sintmaarten.staging.wijzijnmerlin.dev/event/bridgedrive-voor-vastenactieproject/
LOCATION:Andrieskerk\, Hof 16\, Amerongen\, 3958 CH
CATEGORIES:Activiteiten
ATTACH;FMTTYPE=image/jpeg:https://parochie-sintmaarten.staging.wijzijnmerlin.dev/wp-content/uploads/2025/03/Maken-briketten-11-scaled.jpg
END:VEVENT
BEGIN:VEVENT
DTSTART;TZID=Europe/Amsterdam:20231217T170000
DTEND;TZID=Europe/Amsterdam:20231217T170000
DTSTAMP:20260420T020709
CREATED:20231205T100025Z
LAST-MODIFIED:20231205T100059Z
UID:10003893-1702832400-1702832400@parochie-sintmaarten.staging.wijzijnmerlin.dev
SUMMARY:Lessons and Carols
DESCRIPTION:Een bijzondere zangdienst wordt gehouden: a ceremony of lessons and carols\, uitgevoerd door de cantorij o.l.v. Ad Verhage. De dienst heeft de vorm van een vesper\, bestaande uit Bijbellezingen\, liederen en gebed. Deze specifieke vesper is opgebouwd rondom advents- en kerstlezingen\, afgewisseld met Engelse Carols en Hymnen (advents- en kerstliederen). \nDatum: zondag 17 december 2023 \nTijd: 17.00 uur \nPlaats: Andrieskerk\, Hof 16\, Amerongen \nEntree: gratis\, aan de uitgang is een collecte te bestrijding van de onkosten.
URL:https://parochie-sintmaarten.staging.wijzijnmerlin.dev/event/lessons-and-carols/
LOCATION:Andrieskerk\, Hof 16\, Amerongen\, 3958 CH
CATEGORIES:Activiteiten
ATTACH;FMTTYPE=image/png:https://parochie-sintmaarten.staging.wijzijnmerlin.dev/wp-content/uploads/2021/11/kerstmuziek-pixabay-4776699.png
END:VEVENT
END:VCALENDAR