BEGIN:VCALENDAR
VERSION:2.0
PRODID:-//R.K. Parochie Sint Maarten - ECPv6.10.2//NONSGML v1.0//EN
CALSCALE:GREGORIAN
METHOD:PUBLISH
X-ORIGINAL-URL:https://parochie-sintmaarten.staging.wijzijnmerlin.dev
X-WR-CALDESC:Evenementen voor R.K. Parochie Sint Maarten
REFRESH-INTERVAL;VALUE=DURATION:PT1H
X-Robots-Tag:noindex
X-PUBLISHED-TTL:PT1H
BEGIN:VTIMEZONE
TZID:Europe/Amsterdam
BEGIN:DAYLIGHT
TZOFFSETFROM:+0100
TZOFFSETTO:+0200
TZNAME:CEST
DTSTART:20230326T010000
END:DAYLIGHT
BEGIN:STANDARD
TZOFFSETFROM:+0200
TZOFFSETTO:+0100
TZNAME:CET
DTSTART:20231029T010000
END:STANDARD
END:VTIMEZONE
BEGIN:VEVENT
DTSTART;TZID=Europe/Amsterdam:20231027T200000
DTEND;TZID=Europe/Amsterdam:20231027T220000
DTSTAMP:20260419T215427
CREATED:20230921T191023Z
LAST-MODIFIED:20230921T194838Z
UID:10003829-1698436800-1698444000@parochie-sintmaarten.staging.wijzijnmerlin.dev
SUMMARY:In Gods naam
DESCRIPTION:Hoe ga je in godsnaam met het leven om? In een tijd vol onzekerheden\, onrust en verandering zoekt Bastiaan Ragas\, acteur en zanger\, naar antwoorden in een eeuwenoud verhaal. In een avondvullende voorstelling neemt hij ons mee door de Bijbel met muziek van Bach tot Presley\, humor\, ontwapende kwetsbaarheid en confronterende dialogen. Verhalen over angst\, liefde\, hoop en moed. Een reis door het meest geciteerde en misschien wel onbegrijpelijkste boek ter wereld. \nDatum:  vrijdag 27 oktober\nTijd:  20.00 – 22.00 uur\nLocatie: De Binder\, Hoflaan 29\, Leersum\nEntree: € 10\,-\nKaarten:  Er zijn nog enkele kaarten beschikbaar. Ze zijn te bestellen via https://petrus.protestantsekerk.nl/lokale-verkoop/bastiaan-ragas-leersum-kerkticket \nFoto: Nachtzon Media
URL:https://parochie-sintmaarten.staging.wijzijnmerlin.dev/event/in-gods-naam/
LOCATION:De Binder\, Hoflaan 29\, Leersum
CATEGORIES:Activiteiten
ATTACH;FMTTYPE=image/jpeg:https://parochie-sintmaarten.staging.wijzijnmerlin.dev/wp-content/uploads/2023/08/In-Gods-naam-foto-Nachtzon-Media-webversie.jpg
END:VEVENT
END:VCALENDAR