BEGIN:VCALENDAR
VERSION:2.0
PRODID:-//R.K. Parochie Sint Maarten - ECPv6.10.2//NONSGML v1.0//EN
CALSCALE:GREGORIAN
METHOD:PUBLISH
X-WR-CALNAME:R.K. Parochie Sint Maarten
X-ORIGINAL-URL:https://parochie-sintmaarten.staging.wijzijnmerlin.dev
X-WR-CALDESC:Evenementen voor R.K. Parochie Sint Maarten
REFRESH-INTERVAL;VALUE=DURATION:PT1H
X-Robots-Tag:noindex
X-PUBLISHED-TTL:PT1H
BEGIN:VTIMEZONE
TZID:Europe/Amsterdam
BEGIN:DAYLIGHT
TZOFFSETFROM:+0100
TZOFFSETTO:+0200
TZNAME:CEST
DTSTART:20230326T010000
END:DAYLIGHT
BEGIN:STANDARD
TZOFFSETFROM:+0200
TZOFFSETTO:+0100
TZNAME:CET
DTSTART:20231029T010000
END:STANDARD
BEGIN:DAYLIGHT
TZOFFSETFROM:+0100
TZOFFSETTO:+0200
TZNAME:CEST
DTSTART:20240331T010000
END:DAYLIGHT
BEGIN:STANDARD
TZOFFSETFROM:+0200
TZOFFSETTO:+0100
TZNAME:CET
DTSTART:20241027T010000
END:STANDARD
END:VTIMEZONE
BEGIN:VEVENT
DTSTART;TZID=Europe/Amsterdam:20241017T200000
DTEND;TZID=Europe/Amsterdam:20241017T214500
DTSTAMP:20260419T215805
CREATED:20241007T145749Z
LAST-MODIFIED:20241007T145749Z
UID:10004113-1729195200-1729201500@parochie-sintmaarten.staging.wijzijnmerlin.dev
SUMMARY:Genderdiversiteit
DESCRIPTION:Het lijkt zo vanzelfsprekend. Je hebt als mens een lichaam en daaraan kun je zien of iemand vrouw of man is. Maar zo makkelijk blijken mensen niet in te delen\, het ligt in werkelijkheid veel ingewikkelder. Zo kan bij een kind worden ontdekt dat de uiterlijke geslachtskenmerken vrouwelijk zijn\, maar dat de baarmoeder en eileiders ontbreken: de intersekse conditie. Bij transgenders ligt het nog weer anders: zij ervaren dat hun identiteit niet overeenkomt met het geslacht dat hen bij de geboorte is toegewezen. Ook kunnen mensen zich non-binair noemen: ze voelen zich niet thuis in de tweedeling man/vrouw. \nHeleen Zorgdrager is als hoogleraar systematische theologie en genderstudies verbonden aan de Protestantse Theologische Universiteit. Zij zal ingaan op de religieuze vragen die een rol spelen en vaak draaien om de mens die geschapen is naar Gods beeld. \nDatum: donderdag 17 oktober 2024\nTijd: 20.00-21.45 uur\nLocatie: Koningshof\, Kerkplein 1\, Doorn\nEntree: vrijwillige bijdrage (richtlijn € 6\,-\nBegeleiding: Marjoke Limpens – Timmer
URL:https://parochie-sintmaarten.staging.wijzijnmerlin.dev/event/genderdiversiteit/
LOCATION:Koningshof\,\, Kerkplein 1\, Doorn\, 3941 HV
CATEGORIES:Activiteiten
ATTACH;FMTTYPE=image/png:https://parochie-sintmaarten.staging.wijzijnmerlin.dev/wp-content/uploads/2024/10/genderdiversiteit-toys-5607032_1280-pixabay.jpg-webversie.png
GEO:52.0330762;5.3449881
X-APPLE-STRUCTURED-LOCATION;VALUE=URI;X-ADDRESS=Koningshof Kerkplein 1 Doorn 3941 HV;X-APPLE-RADIUS=500;X-TITLE=Kerkplein 1:geo:5.3449881,52.0330762
END:VEVENT
BEGIN:VEVENT
DTSTART;TZID=Europe/Amsterdam:20241006T143000
DTEND;TZID=Europe/Amsterdam:20241006T143000
DTSTAMP:20260419T215805
CREATED:20240911T174027Z
LAST-MODIFIED:20240911T174112Z
UID:10004100-1728225000-1728225000@parochie-sintmaarten.staging.wijzijnmerlin.dev
SUMMARY:Boekpresentatie 'Roomse restjes'
DESCRIPTION:Oud-wethouder Elisabeth van Oostrum publiceert haar levensverhaal in het boek ‘Roomse Restjes’\, waarin ze ingaat op de doorwerking van een gelovige opvoeding in de rest van je leven. Het boek is verkrijgbaar vanaf 28 september; op zondagmiddag 6 oktober presenteert Elisabeth het in de Koningshof. De presentatie zal plaatsvinden in de vorm van een toelichting op het boek door Elisabeth\, gevolgd door een interview door Marco Oostdijk.                    \n‘Roomse restjes’\, een familiegeschiedenis vol dogma’s\, afhankelijkheid en weerstand. Elisabeth van Oostrum groeide op als oudste kind van een groot katholiek gezin in het zwaar protestantse Ede. Bij het sterfbed van haar moeder haalt ze herinneringen op aan het leven van haar moeder\, en aan het leven van haar broers\, zus en haarzelf. Met op de achtergrond bijna 100 jaar katholiek leven\, zien we de strijd van het afzetten tegen en loslaten van het geloof\, maar ook de zoektocht naar alternatieven en zelfs het goede van de roomse restjes. Zij zoekt naar mogelijke oorzaken van de verslaving van twee broers en haar zus. Hebben die ook met de rigide geloofsbeleving te maken? In haar werk als wethouder en bestuurder zoekt zij antwoorden om haar familieverhaal een plaats te geven. Dit helpt haar om op een andere wijze naar haar moeder en haar eigen leven te kijken.\nHet boek speelt zich af in IJsselstein\, Ede en op de Utrechtse Heuvelrug. \nWie geïnteresseerd is in een boekbespreking en debat is van harte welkom op zondagmiddag 6 oktober bij de vrienden van de Maartenskerk in de Koningshof\, Kerkplein 1 in Doorn om 14.30 uur.  Aanmelding via de site van de Vrienden van de Maartenskerk \n\nEnkele reacties op het boek: \n ‘In een meeslepend persoonlijk verhaal geeft Elisabeth van Oostrum een mooi beeld van waar een strenge katholieke opvoeding toe kan leiden. Ze neemt ons mee in het verdriet\, de verslaving en het verlies die eruit voortkwamen. En vult dat aan met een milde blik op de verbindende werking die religie en levensovertuigingen toch ook kunnen bieden.’ \nRobbert Bodegraven\, directeur Humanistisch Verbond \n‘Dicht op de huid geschreven grijpt de benauwdheid van een kindertijd je bij de strot. Wonderbaarlijk hoe levenskracht\, vrijheidsdrang\, creativiteit en openheid desondanks hun weg vinden.’\nChrista Anbeek\, hoogleraar theologie en schrijver van het beste spirituele boek 2019 \n‘Reflecterend op haar leven\, met subtiliteit en veel empathie\, beschrijft Elisabeth zichzelf en de mensen van wie zij ten diepste houdt\, maar die niet de gemakkelijkste zijn. Gaandeweg ontdekt ze ook dat haar eigen en hun gewonde karakter eigenschappen wel eens niet zo exclusief door de beleden godsdienst zelf te verklaren zijn. Elke godsdienst beleving is immers oh zo doortrokken van beschadigde menselijkheid. Haar oproep versta ik zo dat godsdiensten\, ook in hun ‘heilige resten’\, mogen bijdragen tot liefdevolle heling van deze menselijke gebrokenheid\, en er niet zelf aan ten prooi vallen. Die oproep beaam ik zeer’.\nMgr. E. de Jong\, hulpbisschop van het Bisdom Roermond \n  \n 
URL:https://parochie-sintmaarten.staging.wijzijnmerlin.dev/event/boekpresentatie-roomse-restjes/
LOCATION:Koningshof\,\, Kerkplein 1\, Doorn\, 3941 HV
CATEGORIES:Activiteiten
ATTACH;FMTTYPE=image/png:https://parochie-sintmaarten.staging.wijzijnmerlin.dev/wp-content/uploads/2024/09/Boek-Roomse-restjes-webversie.png
GEO:52.0330762;5.3449881
X-APPLE-STRUCTURED-LOCATION;VALUE=URI;X-ADDRESS=Koningshof Kerkplein 1 Doorn 3941 HV;X-APPLE-RADIUS=500;X-TITLE=Kerkplein 1:geo:5.3449881,52.0330762
END:VEVENT
BEGIN:VEVENT
DTSTART;TZID=Europe/Amsterdam:20241004T193000
DTEND;TZID=Europe/Amsterdam:20241004T193000
DTSTAMP:20260419T215805
CREATED:20240918T163316Z
LAST-MODIFIED:20240918T163316Z
UID:10004106-1728070200-1728070200@parochie-sintmaarten.staging.wijzijnmerlin.dev
SUMMARY:Zin in film: 'Past lives'
DESCRIPTION:Op haar twaalfde verhuist de hoofdrolspeelster in deze Koreaanse film naar Canada\, haar jeugdvriendje achterlatend. Ze hebben twaalf jaar later contact via internet\, maar dat verbreekt ze. Nog weer eens acht jaar later komt de jeugdvriend naar New York\, waar ze inmiddels woont en getrouwd is. Dan diept de film heel ingetogen uit wat beide hoofdrolspelers (nog) voor elkaar betekenen\, hoe ze met ‘het lot’ omgaan en welke keuzes ze maken.\nMagistraal!\n‘Zelden zo’n tedere en wijze liefdesfilm gezien’\, kopt Trouw in de recensie over ‘Past Lives’. \nDatum: vrijdag 4 oktober 2024\nTijd: inloop 19.15 uur\, aanvang film 19.30 uur\nLocatie: Koningshof\, Kerkplein 1\, Doorn\nBegeleiding: Arie van Dijk
URL:https://parochie-sintmaarten.staging.wijzijnmerlin.dev/event/zin-in-film-past-lives/
LOCATION:Koningshof\,\, Kerkplein 1\, Doorn\, 3941 HV
CATEGORIES:Activiteiten
ATTACH;FMTTYPE=image/jpeg:https://parochie-sintmaarten.staging.wijzijnmerlin.dev/wp-content/uploads/2022/08/film-website-pixabay-scaled.jpg
GEO:52.0330762;5.3449881
X-APPLE-STRUCTURED-LOCATION;VALUE=URI;X-ADDRESS=Koningshof Kerkplein 1 Doorn 3941 HV;X-APPLE-RADIUS=500;X-TITLE=Kerkplein 1:geo:5.3449881,52.0330762
END:VEVENT
BEGIN:VEVENT
DTSTART;TZID=Europe/Amsterdam:20240628T170000
DTEND;TZID=Europe/Amsterdam:20240628T200000
DTSTAMP:20260419T215805
CREATED:20240201T090336Z
LAST-MODIFIED:20240603T074253Z
UID:10004001-1719594000-1719604800@parochie-sintmaarten.staging.wijzijnmerlin.dev
SUMMARY:Bioscoopavond voor kinderen (6-12 jaar): Mavka
DESCRIPTION:LET OP: GEWIJZIGDE DATUM. Het begint al een jaarlijkse traditie te worden: de bioscoopavond voor kinderen. Na kennismakingsspelletjes gaan we samen frietjes eten. Daarna kijken we naar de Oekraïense animatiefilm ‘Mavka’. Natuurlijk is er tijdens de pauze ook popcorn! \nWe kijken op deze avond met elkaar naar de magische Oekraïense animatiefilm Mavka die de welkome boodschap van vrede en liefde verkondigt. Mavka heeft de allure van een Disneyfilm met een kleine vrouwelijke heldin die het opneemt tegen het kwaad en een grappige sidekick. Centraal staat de opbloeiende liefde tussen Mavka en de muzikale Lukas. Deze film was een groot succes in Oekraïne en was recent ook in Nederlandse bioscopen te zien. De producente noemt het een klein wonder dat deze film tijdens de oorlog in Oekraïne kon worden voltooid. In dit wonder willen we de kinderen graag laten delen! Samen maken we er een gezellige avond van. Vriendjes en vriendinnetjes zijn ook van harte welkom om mee te komen. \nDeze activiteit wordt gezamenlijk georganiseerd door de Maartenskerkgemeente in Doorn en de Protestantse Gemeente Maarn/Maarsbergen. \nDatum: vrijdag 28 juni 2024 (zou aanvankelijk zijn op 7 juni 2024) \nTijd: 17.00 – 20.00 uur\, incl. samen frietjes eten \nLocatie: Koningshof\, Kerkplein 1\, Doorn \nLeeftijdsadvies: De film heeft als leeftijdsadvies vanaf 6 jaar. Kinderen vanaf 4 jaar zijn welkom mét ouders. \nBegeleiding: ouders van de Maartenskerk Doorn/Ontmoetingskapel Maarn \nEntree: € 5\,- (incl. eten)
URL:https://parochie-sintmaarten.staging.wijzijnmerlin.dev/event/bioscoopavond-voor-kinderen-6-12-jaar-mavka/
LOCATION:Koningshof\,\, Kerkplein 1\, Doorn\, 3941 HV
CATEGORIES:Activiteiten,Activiteiten jong
ATTACH;FMTTYPE=image/jpeg:https://parochie-sintmaarten.staging.wijzijnmerlin.dev/wp-content/uploads/2022/08/film-website-pixabay-scaled.jpg
GEO:52.0330762;5.3449881
X-APPLE-STRUCTURED-LOCATION;VALUE=URI;X-ADDRESS=Koningshof Kerkplein 1 Doorn 3941 HV;X-APPLE-RADIUS=500;X-TITLE=Kerkplein 1:geo:5.3449881,52.0330762
END:VEVENT
BEGIN:VEVENT
DTSTART;TZID=Europe/Amsterdam:20240411T200000
DTEND;TZID=Europe/Amsterdam:20240411T220000
DTSTAMP:20260419T215805
CREATED:20240318T190334Z
LAST-MODIFIED:20240318T190334Z
UID:10004022-1712865600-1712872800@parochie-sintmaarten.staging.wijzijnmerlin.dev
SUMMARY:Primo Levi na God
DESCRIPTION:Verhalen van een nieuwe Bijbel\nHoe kun je schrijven over de mens en God na Auschwitz? Het ‘na’ in de titel verwijst naar het verlies dat Auschwitz veroorzaakte en de uitdaging die het betekende voor het denken over de mens en God\, zowel in het werk van de Italiaans-Joodse scheikundige en schrijver Primo Levi\, als in de theologie en filosofie. Het boek focust op drie thema’s: onrechtvaardig lijden\, chaos en schepping\, en goed en kwaad.\nInleider is dr. Joyce Rondaij (1990)\, theoloog. Zij houdt zich bezig met de vraag wat het betekent om mens te zijn\, in relatie tot de medemens\, de niet-menselijke ander en God. \nDatum: donderdag 11 april\nTijd: 20.00 – 22.00 uur\nLocatie: De Koningshof\, Doorn\nEntree: € 6\,-
URL:https://parochie-sintmaarten.staging.wijzijnmerlin.dev/event/primo-levi-na-god/
LOCATION:Koningshof\,\, Kerkplein 1\, Doorn\, 3941 HV
CATEGORIES:Activiteiten
ATTACH;FMTTYPE=image/jpeg:https://parochie-sintmaarten.staging.wijzijnmerlin.dev/wp-content/uploads/2023/06/boek-book-1283865-pixabay-scaled.jpg
GEO:52.0330762;5.3449881
X-APPLE-STRUCTURED-LOCATION;VALUE=URI;X-ADDRESS=Koningshof Kerkplein 1 Doorn 3941 HV;X-APPLE-RADIUS=500;X-TITLE=Kerkplein 1:geo:5.3449881,52.0330762
END:VEVENT
BEGIN:VEVENT
DTSTART;TZID=Europe/Amsterdam:20240301T193000
DTEND;TZID=Europe/Amsterdam:20240301T193000
DTSTAMP:20260419T215805
CREATED:20230922T170449Z
LAST-MODIFIED:20230922T170717Z
UID:10003833-1709321400-1709321400@parochie-sintmaarten.staging.wijzijnmerlin.dev
SUMMARY:Zin in film: 'The Father'
DESCRIPTION:Er zijn tal van films waarin de ziekte dementie aan bod komt. Niemand wil het slachtoffer worden van dit ziekteproces of er een geliefde onder zien lijden. En dan is het altijd confronterend als dit overtuigend in beeld gebracht wordt.\nDe dementerende hoofdpersoon in ‘The Father’ is Anthony (gespeeld door Anthony Hopkins). Hij woont bij zijn dochter Anne in een smaakvol en comfortabel appartement in Londen. Een plek die we nagenoeg niet zullen verlaten gedurende de film. Het bijzondere van deze film is dat het ziekteproces vooral gevolgd wordt van binnenuit bij Anthony. De verwarring die in hem groeit\, komt zo bij de kijker – ook verwarrend- binnen. Het is dus geen ‘feelgood’ film\, maar wel een film waarin de zoektocht en de compassie die in dit ziekteproces verweven kunnen zijn\, bijzonder in beeld gebracht worden.\nBekijk hier de trailer. \nDeze film kan als opstap gezien worden voor de lezing en workshop ‘Dementie en kerk’ op zaterdagmiddag 9 mrt. 2024 in de Johanneskerk in Leersum. Klik hier voor meer informatie. \nDatum: vrijdag 1 maart 2024\n \nTijd: 19.30 uur\, inloop vanaf 19.15 uur. Aansluitend iets drinken en gesprek. \nPlaats: Koningshof\, Kerkplein 1\, Doorn\n \nBegeleiding: Teun Kruijswijk Jansen\n \nEntree: € 6\,- inclusief consumpties\n \nAanmelden: niet nodig \n  \n 
URL:https://parochie-sintmaarten.staging.wijzijnmerlin.dev/event/zin-in-film-the-father/
LOCATION:Koningshof\,\, Kerkplein 1\, Doorn\, 3941 HV
CATEGORIES:Activiteiten
ATTACH;FMTTYPE=image/jpeg:https://parochie-sintmaarten.staging.wijzijnmerlin.dev/wp-content/uploads/2022/08/film-website-pixabay-scaled.jpg
GEO:52.0330762;5.3449881
X-APPLE-STRUCTURED-LOCATION;VALUE=URI;X-ADDRESS=Koningshof Kerkplein 1 Doorn 3941 HV;X-APPLE-RADIUS=500;X-TITLE=Kerkplein 1:geo:5.3449881,52.0330762
END:VEVENT
BEGIN:VEVENT
DTSTART;TZID=Europe/Amsterdam:20240126T193000
DTEND;TZID=Europe/Amsterdam:20240126T193000
DTSTAMP:20260419T215805
CREATED:20230922T151641Z
LAST-MODIFIED:20230922T164911Z
UID:10003831-1706297400-1706297400@parochie-sintmaarten.staging.wijzijnmerlin.dev
SUMMARY:Zin in film: 'Evan Almighty'
DESCRIPTION:‘Evan Almighty’ is een Amerikaanse komische film uit 2007 van regisseur Tom Shadyac. Baxter wordt lid van het congres in Amerika in 2005. Dan verschijnt God aan Baxter\, waarna zijn leven op zijn kop komt te staan. \nGod wil dat hij een ark bouwt naar het voorbeeld van de ark van Noach\, omdat er een grote overstroming zal komen. Baxter wil in eerste instantie niet geloven wat hem overkomt\, maar geeft toe wanneer hij overal op zijn pad geconfronteerd wordt door dieren en zijn baard op magische wijze steeds blijft terug groeien. Baxter slaagt in zijn opdracht en op tijd is de ark klaar. De vloedgolf waar God het over had komt er\, tot ieders verbazing\, inderdaad. \nBekijk hier de trailer. \nDatum: vrijdag 26 januari 2023\n \nTijd: 19.30 uur\, inloop vanaf 19.15 uur. Aansluitend iets drinken en gesprek. \nPlaats: Koningshof\, Kerkplein 1\, Doorn\n \nBegeleiding: Sonja Bloemers\n \nEntree: € 6\,- inclusief consumpties\n \nAanmelden: niet nodig \n  \n 
URL:https://parochie-sintmaarten.staging.wijzijnmerlin.dev/event/zin-in-film-evan-almighty/
LOCATION:Koningshof\,\, Kerkplein 1\, Doorn\, 3941 HV
CATEGORIES:Activiteiten
ATTACH;FMTTYPE=image/jpeg:https://parochie-sintmaarten.staging.wijzijnmerlin.dev/wp-content/uploads/2022/08/film-website-pixabay-scaled.jpg
GEO:52.0330762;5.3449881
X-APPLE-STRUCTURED-LOCATION;VALUE=URI;X-ADDRESS=Koningshof Kerkplein 1 Doorn 3941 HV;X-APPLE-RADIUS=500;X-TITLE=Kerkplein 1:geo:5.3449881,52.0330762
END:VEVENT
BEGIN:VEVENT
DTSTART;TZID=Europe/Amsterdam:20240115T200000
DTEND;TZID=Europe/Amsterdam:20240115T220000
DTSTAMP:20260419T215805
CREATED:20230922T174114Z
LAST-MODIFIED:20230922T174114Z
UID:10003835-1705348800-1705356000@parochie-sintmaarten.staging.wijzijnmerlin.dev
SUMMARY:Lezing en gesprek: Onbeschikbaarheid
DESCRIPTION:We leven in een tijd van ongekende toegang tot de wereld. Producten\, diensten\, reisbestemmingen\, alles is beschikbaar voor de moderne mens. Hoe kan het dan dat velen toch een gevoel van betekenisverlies en zinloosheid ervaren? Waar komt de toenemende onvrede in de maatschappij vandaan: het gevoel dat je niet gehoord wordt\, er niet toe doet. Over de paradox van onbeschikbaarheid in tijden van maximale beschikbaarheid schreef de Duitse socioloog Hartmut Rosa een boeiend essay. Tijdens een 1e bijeenkomst bespreekt ds. Leo Oosterom de hoofdlijnen van dit essay. In een 2de bijeenkomst\, die voortbouwt op de 1e avond\, bespreken we hoe de theoloog Andrew Root het gedachtegoed van Rosa vruchtbaar maakt voor de wereld van kerk en geloof. \nData: maandag 15 en 22 januari 2024 \nTijd: 20.00 – 22.00 uur \nLocatie: Koningshof\, Kerkplein 1\, Doorn \nEntree:  € 6\,- \nBegeleiding: Ds. Leo Oosterom
URL:https://parochie-sintmaarten.staging.wijzijnmerlin.dev/event/lezing-en-gesprek-onbeschikbaarheid/
LOCATION:Koningshof\,\, Kerkplein 1\, Doorn\, 3941 HV
CATEGORIES:Activiteiten
ATTACH;FMTTYPE=image/jpeg:https://parochie-sintmaarten.staging.wijzijnmerlin.dev/wp-content/uploads/2023/01/lezing-webversie-pixabay.jpg
GEO:52.0330762;5.3449881
X-APPLE-STRUCTURED-LOCATION;VALUE=URI;X-ADDRESS=Koningshof Kerkplein 1 Doorn 3941 HV;X-APPLE-RADIUS=500;X-TITLE=Kerkplein 1:geo:5.3449881,52.0330762
END:VEVENT
BEGIN:VEVENT
DTSTART;TZID=Europe/Amsterdam:20231116T200000
DTEND;TZID=Europe/Amsterdam:20231116T220000
DTSTAMP:20260419T215805
CREATED:20231114T102208Z
LAST-MODIFIED:20231114T120639Z
UID:10003878-1700164800-1700172000@parochie-sintmaarten.staging.wijzijnmerlin.dev
SUMMARY:Pelgrimage naar Assisi\, verslag van ds. Wim in 't Hout
DESCRIPTION:We worden uitgenodigd op weg te gaan: fysiek\, psychisch en geestelijk. We doen dat aan de hand van een daadwerkelijk gehouden pelgrimage van Kevelaer naar Assisi\, een tocht van maanden onderweg. Ook onze levensloop is een groot ‘onderweg’. We zijn voortdurend onderweg: van kind naar volwassene\, naar oud-zijn\, we doorlopen alle levensfasen. Je weet nooit hoe je weg zal gaan. Omdat ‘op-weg-zijn’ zoveel diepte aan beleving en ervaring heeft\, zijn er altijd pelgrimstochten geweest. Vandaag zijn pelgrimages weer ‘in’. De stilte in de natuur\, het afzien tijdens de tocht\, het alleen zijn of samen zijn\, werpen je terug op jezelf. Vragen rijzen onderweg en zetten aan tot denken: wie ben ik\, wat is belangrijk in mijn leven\, waarheen ben ik op weg\, wie is mijn metgezel\, wat zijn de opdrachten voor mijn leven? Op de tocht komt de vraag naar God of het goddelijke ook regelmatig naar boven. Hoe is God in mijn leven al of niet aanwezig? Ds. Wim in ’t Hout deed zijn pelgrimage als spirituele tocht in de voetstappen van St. Franciscus en als reflectie op zijn levensloop. \nDatum: donderdag 16 november 2023 \nTijd: 20.00 – 22.00 uur \nPlaats: De Koningshof\, Kerkplein 1\, Doorn \nEntree: € 6\,- \nAanmelden: niet nodig \nFoto: Wim in ’t Hout
URL:https://parochie-sintmaarten.staging.wijzijnmerlin.dev/event/pelgrimage-naar-assisi-verslag-van-ds-wim-in-t-hout/
LOCATION:Koningshof\,\, Kerkplein 1\, Doorn\, 3941 HV
CATEGORIES:Activiteiten
ATTACH;FMTTYPE=image/jpeg:https://parochie-sintmaarten.staging.wijzijnmerlin.dev/wp-content/uploads/2023/08/FOTO-nr-10-Pelgrimage.jpg
GEO:52.0330762;5.3449881
X-APPLE-STRUCTURED-LOCATION;VALUE=URI;X-ADDRESS=Koningshof Kerkplein 1 Doorn 3941 HV;X-APPLE-RADIUS=500;X-TITLE=Kerkplein 1:geo:5.3449881,52.0330762
END:VEVENT
BEGIN:VEVENT
DTSTART;TZID=Europe/Amsterdam:20231110T193000
DTEND;TZID=Europe/Amsterdam:20231110T193000
DTSTAMP:20260419T215805
CREATED:20230922T150246Z
LAST-MODIFIED:20230922T151506Z
UID:10003830-1699644600-1699644600@parochie-sintmaarten.staging.wijzijnmerlin.dev
SUMMARY:Zin in film: 'De Acht Bergen'
DESCRIPTION:De film ‘De Acht Bergen’ (2022) vertelt het verhaal van de bijzondere vriendschap tussen de stadse Pietro en Bruno\, een jongen uit de bergen. In hun levenslange zoektocht naar geluk zwerft Pietro de wereld over terwijl Bruno trouw blijft aan zijn berg.\nOndanks hun totaal verschillende levens blijft de vriendschap uit hun kinderjaren ogenschijnlijk onverwoestbaar. Een film over liefde tussen mensen\, eenzaamheid\, houvast\, familierelaties en verknochtheid aan een streek. Maar ook dat bergen zowel kunnen helen als verwoesten.\nDe film die gebaseerd is op het boek ‘De Acht Bergen’ van Paolo Cognetti werd grotendeels opgenomen in de bergen van Noord-Italië en Nepal.\nBekijk hier de trailer. \nDatum: vrijdag 10 november 2023\n \nTijd: 19.30 uur\, inloop vanaf 19.15 uur. Aansluitend iets drinken en gesprek. \nPlaats: Koningshof\, Kerkplein 1\, Doorn \nBegeleiding Elsebep Smits \nEntree: € 6\,- inclusief consumpties \nAanmelden: niet nodig
URL:https://parochie-sintmaarten.staging.wijzijnmerlin.dev/event/zin-in-film-de-acht-bergen/
LOCATION:Koningshof\,\, Kerkplein 1\, Doorn\, 3941 HV
CATEGORIES:Activiteiten
ATTACH;FMTTYPE=image/jpeg:https://parochie-sintmaarten.staging.wijzijnmerlin.dev/wp-content/uploads/2022/08/film-website-pixabay-scaled.jpg
GEO:52.0330762;5.3449881
X-APPLE-STRUCTURED-LOCATION;VALUE=URI;X-ADDRESS=Koningshof Kerkplein 1 Doorn 3941 HV;X-APPLE-RADIUS=500;X-TITLE=Kerkplein 1:geo:5.3449881,52.0330762
END:VEVENT
BEGIN:VEVENT
DTSTART;TZID=Europe/Amsterdam:20231006T193000
DTEND;TZID=Europe/Amsterdam:20231006T193000
DTSTAMP:20260419T215805
CREATED:20230918T151326Z
LAST-MODIFIED:20230918T190810Z
UID:10003742-1696620600-1696620600@parochie-sintmaarten.staging.wijzijnmerlin.dev
SUMMARY:Zin in film: 'Adam'
DESCRIPTION:‘Adam’\, gaat over het lot van een jonge vrouw Samia. Zij is eenzaam en zwerft alleen door de straten van Casablanca. Ze is verstoten door haar familie omdat ze ongehuwd zwanger is. Het enige wat ze kan doen is aanbellen bij vreemden op zoek naar een dak boven haar hoofd.\nWanneer ze aanklopt bij Abla blijft ook haar deur in eerste instantie gesloten. Maar als weduwe en alleenstaande moeder van de 8-jarige Warda\, weet Abla hoe moeilijk het leven in Marokko kan zijn en laat de jonge vrouw uiteindelijk toch toe.\nGeleidelijk vinden ze steeds meer steun bij elkaar en gaat Samia aan de slag in Abla’s bakkerij. Samen bakken ze de heerlijkste Marokkaanse lekkernijen.\nDe film is een mooie\, ingetogen ode aan solidariteit en moederschap en vertelt hoe twee vrouwen elkaar een toekomst bieden in het Marokko van nu.\n(Adam (Marokko\, 2019\, drama/fictie\, bekijk hier de trailer) \nDatum: vrijdag 6 oktober 2023 \nPlaats: De Koningshof\, Kerkplein 1\, Doorn \nTijd: 19.15 uur inloop\, 19.30 uur aanvang film. Aansluitend iets drinken en gesprek. \nEntree: €6\,00 (inclusief consumpties) \nBegeleiding: wisselend \nAanmelden: niet nodig
URL:https://parochie-sintmaarten.staging.wijzijnmerlin.dev/event/zin-in-film-adam-2/
LOCATION:Koningshof\,\, Kerkplein 1\, Doorn\, 3941 HV
CATEGORIES:Activiteiten
ATTACH;FMTTYPE=image/jpeg:https://parochie-sintmaarten.staging.wijzijnmerlin.dev/wp-content/uploads/2022/08/film-website-pixabay-scaled.jpg
GEO:52.0330762;5.3449881
X-APPLE-STRUCTURED-LOCATION;VALUE=URI;X-ADDRESS=Koningshof Kerkplein 1 Doorn 3941 HV;X-APPLE-RADIUS=500;X-TITLE=Kerkplein 1:geo:5.3449881,52.0330762
END:VEVENT
END:VCALENDAR