BEGIN:VCALENDAR
VERSION:2.0
PRODID:-//R.K. Parochie Sint Maarten - ECPv6.10.2//NONSGML v1.0//EN
CALSCALE:GREGORIAN
METHOD:PUBLISH
X-ORIGINAL-URL:https://parochie-sintmaarten.staging.wijzijnmerlin.dev
X-WR-CALDESC:Evenementen voor R.K. Parochie Sint Maarten
REFRESH-INTERVAL;VALUE=DURATION:PT1H
X-Robots-Tag:noindex
X-PUBLISHED-TTL:PT1H
BEGIN:VTIMEZONE
TZID:Europe/Amsterdam
BEGIN:DAYLIGHT
TZOFFSETFROM:+0100
TZOFFSETTO:+0200
TZNAME:CEST
DTSTART:20230326T010000
END:DAYLIGHT
BEGIN:STANDARD
TZOFFSETFROM:+0200
TZOFFSETTO:+0100
TZNAME:CET
DTSTART:20231029T010000
END:STANDARD
END:VTIMEZONE
BEGIN:VEVENT
DTSTART;TZID=Europe/Amsterdam:20231213T200000
DTEND;TZID=Europe/Amsterdam:20231213T200000
DTSTAMP:20260420T062350
CREATED:20231114T175244Z
LAST-MODIFIED:20231114T191628Z
UID:10003879-1702497600-1702497600@parochie-sintmaarten.staging.wijzijnmerlin.dev
SUMMARY:Lezing: Kerststallen van over de hele wereld en hun verhaal
DESCRIPTION:Mevrouw Tim Bottema geeft een lezing met de titel ‘Kerststallen van over de hele wereld en hun verhaal’. Deze avond wordt georganiseerd door de Adelbertvereniging. Wilt u de lezing bijwonen? Neem dan contact op met de secretaris\, de heer Th. Storimans\, post@storimans.nl. Over de Adelbertvereniging kunt u meer lezen op www.adelbertvereniging.nl. \nDatum: woensdag 13 december 2023 \nPlaats: Grote zaal van De Wijngaard\, Dennenweg 2\, Bosch en Duin \nTijd: 20.00-22.00 uur \nAdelbertvereniging\nDe Adelbertvereniging bestaat al sinds 1937\, destijds opgericht voor de gegoede katholieke burgerij met als doel de katholieke gedachte om te zetten naar lokaal handelen veelal door het geven van lezingen. De huidige vereniging is een open organisatie\, die zich ten doel stelt haar leden en belangstellenden gelegenheid te bieden voor meningsvorming en onderlinge discussie over actuele vraagstukken van levensbeschouwelijke\, maatschappelijke en cultuurhistorische aard. Er worden lezingen georganiseerd en er is veel ruimte voor persoonlijke aandacht en ontmoeting. Er zijn Adelbertverenigingen in Midden-Brabant\, Nijmegen\, Roermond\, Utrecht\, Venray en Zwolle. De Adelbertvereniging Utrecht en Omstreken bestaat uit ruim 60 leden en komt bijeen in de grote zaal van de Wijngaard in Bosch en Duin.
URL:https://parochie-sintmaarten.staging.wijzijnmerlin.dev/event/kerststallen-van-over-de-hele-wereld-en-hun-verhaal/
LOCATION:De Wijngaard\, Dennenweg 2\, Bosch en Duin\, 3735 MR
CATEGORIES:Activiteiten
ATTACH;FMTTYPE=image/jpeg:https://parochie-sintmaarten.staging.wijzijnmerlin.dev/wp-content/uploads/2021/12/kerststal-56d9751f_1920-pixabay.jpg
END:VEVENT
END:VCALENDAR