BEGIN:VCALENDAR
VERSION:2.0
PRODID:-//R.K. Parochie Sint Maarten - ECPv6.10.2//NONSGML v1.0//EN
CALSCALE:GREGORIAN
METHOD:PUBLISH
X-ORIGINAL-URL:https://parochie-sintmaarten.staging.wijzijnmerlin.dev
X-WR-CALDESC:Evenementen voor R.K. Parochie Sint Maarten
REFRESH-INTERVAL;VALUE=DURATION:PT1H
X-Robots-Tag:noindex
X-PUBLISHED-TTL:PT1H
BEGIN:VTIMEZONE
TZID:Europe/Amsterdam
BEGIN:DAYLIGHT
TZOFFSETFROM:+0100
TZOFFSETTO:+0200
TZNAME:CEST
DTSTART:20230326T010000
END:DAYLIGHT
BEGIN:STANDARD
TZOFFSETFROM:+0200
TZOFFSETTO:+0100
TZNAME:CET
DTSTART:20231029T010000
END:STANDARD
END:VTIMEZONE
BEGIN:VEVENT
DTSTART;TZID=Europe/Amsterdam:20231104T131500
DTEND;TZID=Europe/Amsterdam:20231104T213000
DTSTAMP:20260421T150342
CREATED:20230921T173851Z
LAST-MODIFIED:20231012T190715Z
UID:10003827-1699103700-1699133400@parochie-sintmaarten.staging.wijzijnmerlin.dev
SUMMARY:Katholieke Jongerendag: 'Welkom Thuis'
DESCRIPTION:Als jongere is het soms lastig om je ergens echt thuis te voelen. Je vrienden wonen verspreid door het hele land\, je woont in de grote stad\, maar ook in het dorp van je ouders heb je nog een bed staan. Je gaat wel eens hier\, dan weer daar naar de kerk\, maar een echte gemeenschap lijkt te missen. \n\n\n\n\n\n\n\n\n\n\n\nHerkenbaar? Je bent niet de enige! God roept ons iedere dag opnieuw om bij Hem thuis te komen en voor Hem te kiezen. Hij staat op de uitkijk om ons welkom te heten. Aan jou de keus of je deze uitnodiging aanneemt. Wil je met Hem optrekken? \nKatholieke Jongerendag 2023\nOp zaterdag 4 november zullen we daarom met katholieke jongeren uit het hele land samenkomen om ons geloof te vieren! Zien we jou daar ook?\nDeze dag bestaat uit een afwisselend programma. Samen zullen we de heilige mis vieren\, en God prijzen door aanbidding en muziek. We luisteren naar nationale en internationale sprekers\, Paul Graas en Bernadette Lang. Er zijn verschillende workshops en gedurende de hele dag zal er mogelijkheid zijn voor gebed\, stilte en persoonlijke momenten met God. De dag sluiten we af met een gave artiest! Natuurlijk is er ook ruimte voor ontmoeting en ontspanning. \nWelkom Thuis\nMet het thema Welkom Thuis\, willen wij alle jongeren in Nederland bemoedigen om van hun kerk een thuis te maken. We mogen thuiskomen bij God\, maar ook bij elkaar! We mogen een plaatselijke gemeenschap opbouwen binnen de wereldkerk. Een plek waar jij en andere jongeren zich thuis voelen.\nMisschien ben je naar de wereldjongerendagen in Lissabon geweest en heb je daar gezien hoe levend en groot onze kerk is. Maar niet alleen op een gave reis in het buitenland\, juist ook hier in Nederland hoopt God een blijvende\, opbouwende relatie met jou aan te gaan! \n  \nDatum: zaterdag 4 november 2023 \n\n\n\n\n\n\n\n\n\n\nTijd: 13.15-21.30 uur\, locatie gaat om 13.00 uur open \nLocatie: DGP11\, De Grote Pekken 11\, Veenendaal \nEntree: € 15\,- \nMeer info en tickets: katholiekejongerendag.nl  \n  \n			\n				\n					\n						\n							\n							Aan het laden...\n						\n					\n					\n						\n							\n							Duurt het te lang?\n						\n						\n							\n								 Laad het document opnieuw							\n							|\n							\n								 Openen in nieuwe tab							\n					\n				\n			\n		\n 
URL:https://parochie-sintmaarten.staging.wijzijnmerlin.dev/event/katholieke-jongerendag-welkom-thuis/
LOCATION:DGP11\, De Grote Pekken 11\, Veenendaal\, 3901 JB
CATEGORIES:Activiteiten,Activiteiten jong
ATTACH;FMTTYPE=image/jpeg:https://parochie-sintmaarten.staging.wijzijnmerlin.dev/wp-content/uploads/2023/09/KJD23-Affiche2-1500x1000-1-webversie.jpg
END:VEVENT
END:VCALENDAR