BEGIN:VCALENDAR
VERSION:2.0
PRODID:-//R.K. Parochie Sint Maarten - ECPv6.10.2//NONSGML v1.0//EN
CALSCALE:GREGORIAN
METHOD:PUBLISH
X-ORIGINAL-URL:https://parochie-sintmaarten.staging.wijzijnmerlin.dev
X-WR-CALDESC:Evenementen voor R.K. Parochie Sint Maarten
REFRESH-INTERVAL;VALUE=DURATION:PT1H
X-Robots-Tag:noindex
X-PUBLISHED-TTL:PT1H
BEGIN:VTIMEZONE
TZID:Europe/Amsterdam
BEGIN:DAYLIGHT
TZOFFSETFROM:+0100
TZOFFSETTO:+0200
TZNAME:CEST
DTSTART:20240331T010000
END:DAYLIGHT
BEGIN:STANDARD
TZOFFSETFROM:+0200
TZOFFSETTO:+0100
TZNAME:CET
DTSTART:20241027T010000
END:STANDARD
END:VTIMEZONE
BEGIN:VEVENT
DTSTART;TZID=Europe/Amsterdam:20241012T130000
DTEND;TZID=Europe/Amsterdam:20241012T154500
DTSTAMP:20260419T230147
CREATED:20241007T191845Z
LAST-MODIFIED:20241007T192001Z
UID:10004114-1728738000-1728747900@parochie-sintmaarten.staging.wijzijnmerlin.dev
SUMMARY:Open middag Hospice Heuvelrug
DESCRIPTION:Hospice-Heuvelrug bestaat 25 jaar en houdt op zaterdag 12 oktober een open middag met als thema ‘Vier het leven’. Naast het welkomswoord door Wilma Verkerk\, manager zorg hospice Heuvelrug\, zijn er rondleidingen en geeft de toonaangevende theatergroep Plankgas een speciaal op maat gemaakte voorstelling. \nDe theatergroep Plankgas maakt al meer dan 15 jaar theater- en cabaretvoorstellingen die staan als een huis! Speciaal voor deze open middag spelen ze een op maat gemaakte voorstelling. Een mooi\, persoonlijk en onvergetelijk theater cadeau ter gelegenheid van het 25-jarig jubileum van hospice Heuvelrug. \nWe verwelkomen u graag op onze open middag. Alle bezoekers ontvangen een goodiebag\, speciaal voor dit jubileumjaar. \nDatum: zaterdag 12 oktober 2024\nLocatie: Hospice Heuvelrug\, Arnhemse Bovenweg 80\, Zeist\nProgramma:\n13.00-13.45 uur: rondleidingen\n14.00 uur: welkom door Wilma Verkerk\, manager zorg hospice Heuvelrug\n14.10 uur: voorstelling theatergroep Plankgas\n15.00-15.45 uur: rondleidingen \n 
URL:https://parochie-sintmaarten.staging.wijzijnmerlin.dev/event/open-middag-hospice-heuvelrug/
LOCATION:Hospice Heuvelrug\, Arnhemse Bovenweg 80\, Zeist
CATEGORIES:Activiteiten
ATTACH;FMTTYPE=image/jpeg:https://parochie-sintmaarten.staging.wijzijnmerlin.dev/wp-content/uploads/2021/04/hands_Pixabay-e1726751293821.jpg
END:VEVENT
END:VCALENDAR