BEGIN:VCALENDAR
VERSION:2.0
PRODID:-//R.K. Parochie Sint Maarten - ECPv6.10.2//NONSGML v1.0//EN
CALSCALE:GREGORIAN
METHOD:PUBLISH
X-ORIGINAL-URL:https://parochie-sintmaarten.staging.wijzijnmerlin.dev
X-WR-CALDESC:Evenementen voor R.K. Parochie Sint Maarten
REFRESH-INTERVAL;VALUE=DURATION:PT1H
X-Robots-Tag:noindex
X-PUBLISHED-TTL:PT1H
BEGIN:VTIMEZONE
TZID:Europe/Amsterdam
BEGIN:DAYLIGHT
TZOFFSETFROM:+0100
TZOFFSETTO:+0200
TZNAME:CEST
DTSTART:20230326T010000
END:DAYLIGHT
BEGIN:STANDARD
TZOFFSETFROM:+0200
TZOFFSETTO:+0100
TZNAME:CET
DTSTART:20231029T010000
END:STANDARD
BEGIN:DAYLIGHT
TZOFFSETFROM:+0100
TZOFFSETTO:+0200
TZNAME:CEST
DTSTART:20240331T010000
END:DAYLIGHT
BEGIN:STANDARD
TZOFFSETFROM:+0200
TZOFFSETTO:+0100
TZNAME:CET
DTSTART:20241027T010000
END:STANDARD
BEGIN:DAYLIGHT
TZOFFSETFROM:+0100
TZOFFSETTO:+0200
TZNAME:CEST
DTSTART:20250330T010000
END:DAYLIGHT
BEGIN:STANDARD
TZOFFSETFROM:+0200
TZOFFSETTO:+0100
TZNAME:CET
DTSTART:20251026T010000
END:STANDARD
END:VTIMEZONE
BEGIN:VEVENT
DTSTART;TZID=Europe/Amsterdam:20250425T200000
DTEND;TZID=Europe/Amsterdam:20250425T220000
DTSTAMP:20260420T023227
CREATED:20250414T174750Z
LAST-MODIFIED:20250414T174750Z
UID:10004193-1745611200-1745618400@parochie-sintmaarten.staging.wijzijnmerlin.dev
SUMMARY:Concertlezing Etty Hillesum
DESCRIPTION:In het kader van 80 jaar bevrijding verzorgen Judith Koelemeijer\, auteur van de biografie van Etty Hillesum\, en pianist Marcel Worms een concertlezing over Etty Hillesum. In deze lezing geeft de auteur een nieuw perspectief op Etty’s rusteloze jeugd en familiegeschiedenis\, haar linkse studentenjaren en haar uiteindelijke keuze om ‘het lot van haar volk te delen’ en niet onder te duiken. Etty Hillesum groeide op met muziek\, haar broer Mischa was een zeer begaafd pianist. De verhalende passages worden in de lezing afgewisseld door pianist Marcel Worms\, die composities speelt van onder anderen Chopin\, Rachmaninov\, Joodse componisten als Szymon Laks en Erich Ziegler en de bijzondere prelude op.1 van Mischa Hillesum zelf. Deze bijeenkomst is een initiatief van Johannes in het Dorp. \nVrijdag 25 april\, Johanneskerk\, Lomboklaan 9\, Leersum.\nAanvang 20.00 uur. Entree € 5
URL:https://parochie-sintmaarten.staging.wijzijnmerlin.dev/event/concertlezing-etty-hillesum/
LOCATION:Johanneskerk\, Lomboklaan 9\, Leersum\, 3956 DE
CATEGORIES:Muziek
ATTACH;FMTTYPE=image/jpeg:https://parochie-sintmaarten.staging.wijzijnmerlin.dev/wp-content/uploads/2025/03/omslag-Koelemeijer.jpg
GEO:52.0145392;5.42563
X-APPLE-STRUCTURED-LOCATION;VALUE=URI;X-ADDRESS=Johanneskerk Lomboklaan 9 Leersum 3956 DE;X-APPLE-RADIUS=500;X-TITLE=Lomboklaan 9:geo:5.42563,52.0145392
END:VEVENT
BEGIN:VEVENT
DTSTART;TZID=Europe/Amsterdam:20241026T200000
DTEND;TZID=Europe/Amsterdam:20241026T213000
DTSTAMP:20260420T023227
CREATED:20241007T151025Z
LAST-MODIFIED:20241007T185258Z
UID:10004107-1729972800-1729978200@parochie-sintmaarten.staging.wijzijnmerlin.dev
SUMMARY:Theatervoorstelling: De tuinvrouw en de dood
DESCRIPTION:‘Iedere vroege ochtend loopt zij\nin de schemering over de dijk\nnaar haar volkstuintje\nop het Bakelbos.\nDaar aangekomen schrijft ze\nover haar lief.\nOver koude grond.\nOver nachtschade die ze opliep.\nOver sterven in bed of in bedjes.’ \nTheatermaakster Nicoline van de Beek valt na het sterven van haar geliefde in het nabestaan. Zij maakte hierover een voorstelling over 7 seizoenen sterven\, liefde en rouw. Aarde en natuur worden haar troost. Een vertelling over liefde\, rouw\, inklinken en aanaarden. De vertelling is ontstaan op een volkstuin in de jaren na het verlies van haar geliefde. Nicoline weet dit onderwerp met prachtige metaforen uit de natuur en een zekere lichtheid te brengen. \nBij toeval hoort ze dat de verlaten boomgaard vlakbij haar huis te koop staat. Aangemoedigd door haar kinderen die voor het eerst weer stralende ogen bij haar zien\, koopt ze de grond. “Ik was in de rouw\, ik verloor mijn allerliefste. Hier begon ik\, met mijn kop in de wind\, te werken aan herstel. Van de bomen\, van mijzelf\, van anderen die zich bij mij aansloten. In het diepe blauw na het zwart van de nacht. Op weg naar een nieuwe dag\, met de belofte dat het lichter zal worden. Hoe dan ook.”\nNicoline van de Beek is een vertelster\, die tot haar verdriet en verbijstering merkte dat in gesprekken met bekenden de naam en de verhalen van haar man al gauw verdwenen. “Ook al was ons leven met veel moois gevuld\, ik was veel herinneringen kwijt”. Help me te herinneren\, vraagt ze haar omgeving\, en blijf zijn naam noemen. Herinneren en praten over rouw zijn voor haar een belangrijke drijfveer om deze solovoorstelling te maken voor iedereen die met rouw te maken heeft. \nDatum: zaterdag 26 oktober\nTijd: 20.00-21.30 uur\, inloop vanaf 19.30 uur\, drankje na afloop\nLocatie: Johanneskerk\, Lomboklaan 9\, Leersum\nEntree: € 10\,-\nKaarten reserveren bij: Johan Doornebal\, 06-31643405/Whats-app/johanw.doornenbal@gmail.com. \nIedereen is van harte welkom! \nfoto: William Hoogteijling
URL:https://parochie-sintmaarten.staging.wijzijnmerlin.dev/event/theatervoorstelling-de-tuinvrouw-en-de-dood/
LOCATION:Johanneskerk\, Lomboklaan 9\, Leersum\, 3956 DE
CATEGORIES:Activiteiten
ATTACH;FMTTYPE=image/jpeg:https://parochie-sintmaarten.staging.wijzijnmerlin.dev/wp-content/uploads/2024/09/tuinvrouw-e1728293811813.jpg
GEO:52.0145392;5.42563
X-APPLE-STRUCTURED-LOCATION;VALUE=URI;X-ADDRESS=Johanneskerk Lomboklaan 9 Leersum 3956 DE;X-APPLE-RADIUS=500;X-TITLE=Lomboklaan 9:geo:5.42563,52.0145392
END:VEVENT
BEGIN:VEVENT
DTSTART;TZID=Europe/Amsterdam:20240318T200000
DTEND;TZID=Europe/Amsterdam:20240318T214500
DTSTAMP:20260420T023227
CREATED:20240227T155257Z
LAST-MODIFIED:20240227T155257Z
UID:10004011-1710792000-1710798300@parochie-sintmaarten.staging.wijzijnmerlin.dev
SUMMARY:Vensters op het Onze Vader
DESCRIPTION:Het ‘Onze Vader’ is ongetwijfeld het meest bekende gebed ter wereld. Tegelijk wordt er niet vaak over gepreekt of over gesproken: we kennen het immers al – meestal – van kinds af aan. De ervaring leert dat het gesprek over bidden toch heel vruchtbaar kan uitwerken. Corja Bekius maakte 8 schilderijen bij de acht beden uit het Onze Vader waar Teun Kruijswijk Jansen een uitleg bij heeft gemaakt. Samen met acht liederen vanuit de Iona Community in Schotland maakten ze er een ‘werkboekje’ bij. Op deze avond worden de afbeeldingen\, liederen\, een meditatief moment en gesprek in acht ‘miniaturen’ samengebracht. Tijdens de veertigdagentijd zijn deze schilderijen van Corja Bekius te zien in de Johanneskerk. Teun Kruijswijk Jansen is lid van de Iona Community\, em. predikant en geestelijk begeleider. \nDatum: maandag 18 maart\nTijd: 20.00 – 21.45 uur\nPlaats: Johanneskerk\, Lomboklaan 9\, Leersum\nEntree: vijf euro\nBegeleiding: Teun Monster \nSchilderij: Corja Bekius
URL:https://parochie-sintmaarten.staging.wijzijnmerlin.dev/event/vensters-op-het-onze-vader/
LOCATION:Johanneskerk\, Lomboklaan 9\, Leersum\, 3956 DE
CATEGORIES:Activiteiten
ATTACH;FMTTYPE=image/png:https://parochie-sintmaarten.staging.wijzijnmerlin.dev/wp-content/uploads/2024/02/Corja-Bekius-vensters-op-het-Onze-Vader-webversie.png
GEO:52.0145392;5.42563
X-APPLE-STRUCTURED-LOCATION;VALUE=URI;X-ADDRESS=Johanneskerk Lomboklaan 9 Leersum 3956 DE;X-APPLE-RADIUS=500;X-TITLE=Lomboklaan 9:geo:5.42563,52.0145392
END:VEVENT
BEGIN:VEVENT
DTSTART;TZID=Europe/Amsterdam:20240309T143000
DTEND;TZID=Europe/Amsterdam:20240309T160000
DTSTAMP:20260420T023227
CREATED:20230922T170158Z
LAST-MODIFIED:20240227T192501Z
UID:10003832-1709994600-1710000000@parochie-sintmaarten.staging.wijzijnmerlin.dev
SUMMARY:Lezing en workshop: Dementie en kerk
DESCRIPTION:Over dementie hoor en lees je steeds meer\, ook in de kerk. Wellicht kent u gemeenteleden die dementie hebben. Hoe gaan we daar als geloofsgemeenschap zo goed mogelijk mee om? Welke rol speelt geloof daarbij?\nWat moeten we doen\, of wat moeten we juist laten? Predikant-geestelijk verzorger Annemarie Roding vertelt ons er meer over. In een lezing en in workshops krijgen we handvatten aangereikt en ontdekken we hoe het thema ‘Ga mee’ voor ieder lid van de geloofsgemeenschap gestalte kan krijgen. Daarnaast is er ruimte voor gesprek. \n\n\n\n\n\n\n\n\nDe film ‘The Father’\, die op 1 maart 2024 in de Koningshof vertoond wordt\, kan als opstap gezien worden voor de lezing en workshop ‘Dementie en kerk’. Klik hier voor meer info over de film ‘The Father’. \nDatum: zaterdag 9 maart 2023\n \nTijd: 14.15-16.00 uur \nPlaats: Johanneskerk\, Lomboklaan 9\, Leersum\n \nBegeleiding: Hilje Logtenberg van der Grient\n \nEntree: € 5\,-\n \nAanmelden: niet nodig \nProgramma: \n14.15 uur: Inloop\n14.30 uur: Opening door dagvoorzitter\n14.35 uur: Lezing door ds. Annemarie Roding: omgaan met mensen met dementie\, tips\, wat werkt wel\, wat werkt minder\, wat is belangrijk.\n15.00 uur: Pauze\n15.10 uur: Keuze uit 3 workshops \nDementie en mantelzorg \n\nHoe raakt dementie de mantelzorger?\nOp welke wijze kan de geloofsgemeenschap ook voor mensen die zorgen voor iemand met dementie van betekentis zijn?\n\nDoelgroep: voor mantelzorgers en mensen die rondom hen (willen) staan. \n\nKerkenraad/parochiebestuur \n\nWat kunnen we vanuit de kerk als organisatie doen voor onze parochianen en gemeenteleden die dementie hebben?\nPraktische en  haalbare suggesties.\n\nDoelgroep: Voor wie zich betrokken weet bij het bestuur van gemeenschappen. \n\nEven tot hier…..en weer verder \n\nThuiswonende mensen/partners/mantelzorgers die leven met dementie en hun levens- en geloofsweg.\nPresentatie en ervaringen van een persoonlijk te maken hulpmiddel hierbij.\n\n15.45 uur: Korte samenvatting workshops\n16.00 uur: Afsluiting
URL:https://parochie-sintmaarten.staging.wijzijnmerlin.dev/event/lezing-en-workshop-dementie-en-kerk/
LOCATION:Johanneskerk\, Lomboklaan 9\, Leersum\, 3956 DE
CATEGORIES:Activiteiten
ATTACH;FMTTYPE=image/png:https://parochie-sintmaarten.staging.wijzijnmerlin.dev/wp-content/uploads/2023/09/dementie-Gerd-Altmann-via-Pixabay.png
GEO:52.0145392;5.42563
X-APPLE-STRUCTURED-LOCATION;VALUE=URI;X-ADDRESS=Johanneskerk Lomboklaan 9 Leersum 3956 DE;X-APPLE-RADIUS=500;X-TITLE=Lomboklaan 9:geo:5.42563,52.0145392
END:VEVENT
BEGIN:VEVENT
DTSTART;TZID=Europe/Amsterdam:20231106T200000
DTEND;TZID=Europe/Amsterdam:20231106T214500
DTSTAMP:20260420T023227
CREATED:20231023T145410Z
LAST-MODIFIED:20231023T145410Z
UID:10003872-1699300800-1699307100@parochie-sintmaarten.staging.wijzijnmerlin.dev
SUMMARY:Bach in Weimar
DESCRIPTION:Van 1708 tot 1717 was Bach verbonden aan het hof van Weimar. Het waren jaren waarin hij muzikaal tot volle wasdom kwam wat onder meer resulteerde in een groot aantal orgelcomposities. Ook zijn er een twintigtal cantates bewaard gebleven die stuk voor stuk uitmunten in religieuze diepgang\, intimitiet en kwaliteit. Veel cantates hebben de dood (en het uitzien naar het paradijs) als onderwerp. In de lezing maakt u kennis met een jongvolwassen Bach die open staat voor invloeden uit Frankrijk en Italië. Wim Faas neemt ons mee naar het turbulente hofleven van Weimar en we verdiepen ons in de cantate Komm du süsse Todesstunde (BWV 161). Een cantate die past rond Allerzielen en het eind van het kerkelijk jaar. \nWim Paas is de inleider van deze avond. Hij is werkzaam in de ggz\, en liefhebber van muziek van Johann Sebastian Bach. \nDatum: maandag 6 november\nTijd: 20.00-21.45 uur\nPlaats: Johanneskerk\, Lomboklaan 9\, Leersum\nEntree: € 5\,-\nBegeleiding: Epko Smit\nAanmelden: niet nodig \n 
URL:https://parochie-sintmaarten.staging.wijzijnmerlin.dev/event/bach-in-weimar/
LOCATION:Johanneskerk\, Lomboklaan 9\, Leersum\, 3956 DE
CATEGORIES:Activiteiten
ATTACH;FMTTYPE=image/jpeg:https://parochie-sintmaarten.staging.wijzijnmerlin.dev/wp-content/uploads/2023/09/Bach-leipzig-4737955-pixabay-webversie-scaled.jpg
GEO:52.0145392;5.42563
X-APPLE-STRUCTURED-LOCATION;VALUE=URI;X-ADDRESS=Johanneskerk Lomboklaan 9 Leersum 3956 DE;X-APPLE-RADIUS=500;X-TITLE=Lomboklaan 9:geo:5.42563,52.0145392
END:VEVENT
BEGIN:VEVENT
DTSTART;TZID=Europe/Amsterdam:20231026T200000
DTEND;TZID=Europe/Amsterdam:20231026T214500
DTSTAMP:20260420T023227
CREATED:20230921T190629Z
LAST-MODIFIED:20230921T190722Z
UID:10003828-1698350400-1698356700@parochie-sintmaarten.staging.wijzijnmerlin.dev
SUMMARY:Over afscheidsrituelen
DESCRIPTION:In paradisum deducant te angeli … \nNaar het paradijs mogen engelen jou begeleiden… luiden de beginwoorden van bovenstaand Latijns gezang dat dikwijls gezongen wordt bij het wegdragen van een overledene uit een katholieke kerk. Van oudsher kennen katholieke kerken meer rituelen dan protestantse kerken. Maar daar komt verandering in. Steeds meer wordt ingezien dat rituelen op scharniermomenten in het leven een heilzame functie kunnen hebben. Dus ook bij een uitvaart wanneer we afscheid nemen van een dierbare. Maar hoe doen we dat? In het crematorium met een praatje en een plaatje? In de kerk met psalmen en schriftlezingen? Of? Daarom een avond over oude en nieuwe rituelen bij het afscheid van een overledene. \nKo Schuurmans\, gepensioneerd RK pastor\, verzorgt de inleiding. Vele jaren was hij werkzaam als liturgist in het bisdom Haarlem – Amsterdam en docent liturgie aan diverse theologische hogescholen. \nDatum: donderdag 26 oktober 2023 \nTijd: 20.00-21.45 uur \nPlaats: Johanneskerk\, Lomboklaan 9\, Leersum \nEntree: € 5\,- \nBegeleiding: Epko Smit \nAanmelden: niet nodig \n 
URL:https://parochie-sintmaarten.staging.wijzijnmerlin.dev/event/over-afscheidsrituelen/
LOCATION:Johanneskerk\, Lomboklaan 9\, Leersum\, 3956 DE
CATEGORIES:Activiteiten
ATTACH;FMTTYPE=image/jpeg:https://parochie-sintmaarten.staging.wijzijnmerlin.dev/wp-content/uploads/2023/08/FOTO-nr-7-Afscheidsrituelen.jpg
GEO:52.0145392;5.42563
X-APPLE-STRUCTURED-LOCATION;VALUE=URI;X-ADDRESS=Johanneskerk Lomboklaan 9 Leersum 3956 DE;X-APPLE-RADIUS=500;X-TITLE=Lomboklaan 9:geo:5.42563,52.0145392
END:VEVENT
END:VCALENDAR