BEGIN:VCALENDAR
VERSION:2.0
PRODID:-//R.K. Parochie Sint Maarten - ECPv6.10.2//NONSGML v1.0//EN
CALSCALE:GREGORIAN
METHOD:PUBLISH
X-ORIGINAL-URL:https://parochie-sintmaarten.staging.wijzijnmerlin.dev
X-WR-CALDESC:Evenementen voor R.K. Parochie Sint Maarten
REFRESH-INTERVAL;VALUE=DURATION:PT1H
X-Robots-Tag:noindex
X-PUBLISHED-TTL:PT1H
BEGIN:VTIMEZONE
TZID:Europe/Amsterdam
BEGIN:DAYLIGHT
TZOFFSETFROM:+0100
TZOFFSETTO:+0200
TZNAME:CEST
DTSTART:20240331T010000
END:DAYLIGHT
BEGIN:STANDARD
TZOFFSETFROM:+0200
TZOFFSETTO:+0100
TZNAME:CET
DTSTART:20241027T010000
END:STANDARD
END:VTIMEZONE
BEGIN:VEVENT
DTSTART;TZID=Europe/Amsterdam:20240530T201500
DTEND;TZID=Europe/Amsterdam:20240530T201500
DTSTAMP:20260420T042507
CREATED:20240513T091440Z
LAST-MODIFIED:20240513T091440Z
UID:10004063-1717100100-1717100100@parochie-sintmaarten.staging.wijzijnmerlin.dev
SUMMARY:Themalezing: Sombere gevoelens\, verdriet en het lijden aan een depressie'
DESCRIPTION:Iedereen heeft wel eens last van sombere gevoelens\, dat is normaal. Vrouwen hebben er meer last van dan mannen. Meestal duren die sombere gevoelens niet zo lang. Je kunt wel je werk blijven doen en als er iets leuks gebeurt verdwijnen die sombere gevoelens. Bij verdriet is er een reden voor waarom je verdrietig bent. Gevoelens van verdriet zijn vaak warme gevoelens. \nEen depressie daarentegen is een ernstige ziekte. Alles is dan even grauw. Positieve gevoelens zoals dankbaarheid\, tevreden zijn\, ergens van kunnen genieten bestaan niet meer. Negatieve gevoelens zijn sterk uitvergroot. Daarnaast is er sprake van een lichamelijke geremdheid. Dat wil zeggen dat je nergens meer toe komt of dat het je de grootst mogelijke moeite kost. Een depressie heeft ook gevolgen voor je geloofsleven. Je kunt dan gewoon Gods nabijheid en liefde niet meer ervaren. \nHoe ga je nu met een depressie om? Gelukkig zijn er goede therapieën om ervan te kunnen genezen. \nDe lezing wordt verzorgd door Alie Hoek – van Kooten. De organisatie is in handen van de NPV-Zeist. Klik hier voor meer informatie over de NPV Zeist. \nDatum: donderdag 30 mei\nAanvang: 20.15 uur\, inloop en koffie/thee vanaf 20.00 uur\nLocatie: De Kapel van de Amandelhof\, Arnhemse Bovenweg 2\, Zeist \n  \n  \n 
URL:https://parochie-sintmaarten.staging.wijzijnmerlin.dev/event/themalezing-sombere-gevoelens-verdriet-en-het-lijden-aan-een-depressie/
LOCATION:Kapel Amandelhof\, Arnhemse Bovenweg 2\, Zeist\, 3708 AB
CATEGORIES:Activiteiten
ATTACH;FMTTYPE=image/jpeg:https://parochie-sintmaarten.staging.wijzijnmerlin.dev/wp-content/uploads/2024/04/depressie-desperate-2293377_1280-Anemone123-from-Pixabay.jpg
END:VEVENT
END:VCALENDAR