BEGIN:VCALENDAR
VERSION:2.0
PRODID:-//R.K. Parochie Sint Maarten - ECPv6.10.2//NONSGML v1.0//EN
CALSCALE:GREGORIAN
METHOD:PUBLISH
X-WR-CALNAME:R.K. Parochie Sint Maarten
X-ORIGINAL-URL:https://parochie-sintmaarten.staging.wijzijnmerlin.dev
X-WR-CALDESC:Evenementen voor R.K. Parochie Sint Maarten
REFRESH-INTERVAL;VALUE=DURATION:PT1H
X-Robots-Tag:noindex
X-PUBLISHED-TTL:PT1H
BEGIN:VTIMEZONE
TZID:Europe/Amsterdam
BEGIN:DAYLIGHT
TZOFFSETFROM:+0100
TZOFFSETTO:+0200
TZNAME:CEST
DTSTART:20230326T010000
END:DAYLIGHT
BEGIN:STANDARD
TZOFFSETFROM:+0200
TZOFFSETTO:+0100
TZNAME:CET
DTSTART:20231029T010000
END:STANDARD
BEGIN:DAYLIGHT
TZOFFSETFROM:+0100
TZOFFSETTO:+0200
TZNAME:CEST
DTSTART:20240331T010000
END:DAYLIGHT
BEGIN:STANDARD
TZOFFSETFROM:+0200
TZOFFSETTO:+0100
TZNAME:CET
DTSTART:20241027T010000
END:STANDARD
END:VTIMEZONE
BEGIN:VEVENT
DTSTART;TZID=Europe/Amsterdam:20241102T163000
DTEND;TZID=Europe/Amsterdam:20241102T173000
DTSTAMP:20260419T222559
CREATED:20241007T151007Z
LAST-MODIFIED:20241007T151007Z
UID:10004108-1730565000-1730568600@parochie-sintmaarten.staging.wijzijnmerlin.dev
SUMMARY:Muziek voor Allerzielen
DESCRIPTION:In de serie ‘Muziek in het Kerkelijk Jaar’ presenteert de Raad van Kerken Doorn op Allerzielen de ‘Musicalische Exequien’ van Heinrich Schütz. Schütz schreef dit werk in 1636 voor de uitvaart van een vriend en verwerkte daarin alle 22 Bijbelteksten en passages uit Lutherse kerkliederen\, die zijn vriend op zijn grafkist had laten graveren. \nDe muziek wordt uitgevoerd door de Vespercantorij Nicolaïkerk (Utrecht)\, waarin ook enkele Doornse zangers meezingen. Mede-werking verlenen onder meer Constance Allanic (viola da gamba)\, Berry van Berkum (orgel)\, en vocale solisten\, onder wie Paulien van der Werff (sopraan)\, David Cohen (altus) en Bram Trouwborst (bas). Het geheel staat onder leiding van cantor-organist Ko Zwanenburg. \nIn het eerste deel horen we een afwisseling van passages voor 6 solisten en 6-stemmig koor. Deel twee is een dubbelkorig motet. Deel drie vormt de spectaculaire climax: een vijfstemmig koor zingt een Duitse versie van de lofzang van Simeon\, terwijl een favorietkoor\, bestaande uit ‘de overleden ziel’ en twee engelen\, de tekst ‘zalig zijn de doden’ ten gehore brengt. Al met al een indrukwekkend en troostrijk werk. Daarnaast klinkt onder meer het motet Weint nicht um meinen Tod van Johann Bach (1604-1673)\, een oudoom van Johann Sebastian Bach. \nDatum: zaterdag 2 november 2024\nTijd: 16.30-17.30 uur\nLocatie: Maartenskerk\, Kerkplein 1\, Doorn\nMeer info: Bert Cozijnsen\, bert.cozijnsen@gmail.com.\nToegang: gratis\, vrijwillige bijdrage bij de uitgang (richtprijs \nGratis programmaboekje met toelichting\, tekst en vertaling. \n 
URL:https://parochie-sintmaarten.staging.wijzijnmerlin.dev/event/muziek-voor-allerzielen/
LOCATION:Maartenskerk\,\, Kerkplein 1\, Doorn\, 3941 HV
CATEGORIES:Activiteiten
ATTACH;FMTTYPE=image/jpeg:https://parochie-sintmaarten.staging.wijzijnmerlin.dev/wp-content/uploads/2022/08/muziek-background-g1edb87e75_1920-pixabay.jpg
GEO:52.0330762;5.3449881
X-APPLE-STRUCTURED-LOCATION;VALUE=URI;X-ADDRESS=Maartenskerk Kerkplein 1 Doorn 3941 HV;X-APPLE-RADIUS=500;X-TITLE=Kerkplein 1:geo:5.3449881,52.0330762
END:VEVENT
BEGIN:VEVENT
DTSTART;TZID=Europe/Amsterdam:20240419T200000
DTEND;TZID=Europe/Amsterdam:20240419T220000
DTSTAMP:20260419T222559
CREATED:20240318T192043Z
LAST-MODIFIED:20240318T192043Z
UID:10004023-1713556800-1713564000@parochie-sintmaarten.staging.wijzijnmerlin.dev
SUMMARY:Geloof en een hoop zonnepanelen
DESCRIPTION:In een afwisselende\, vrolijke voorstelling door Kees Posthumus wordt met tal van verhalen en liedjes de schepping gevierd\, zorgen over de schepping gedeeld en onderzocht hoe wij ons kunnen inzetten voor een duurzame toekomst. Er klinken nieuwe scheppingsverhalen en een groen-gelovige meezinger\, er wordt live gekookt en er is eco-fitness. Henk van Glabbeek omlijst dit alles met meditatieve oosterse muziek. \nDatum: vrijdag 19 april\nTijd: 20.00 – 22.00 uur\nLocatie: Maartenskerk\, Kerkplein 1\, Doorn\nEntree: € 6\,-
URL:https://parochie-sintmaarten.staging.wijzijnmerlin.dev/event/geloof-en-een-hoop-zonnepanelen/
LOCATION:Maartenskerk\,\, Kerkplein 1\, Doorn\, 3941 HV
CATEGORIES:Activiteiten
ATTACH;FMTTYPE=image/png:https://parochie-sintmaarten.staging.wijzijnmerlin.dev/wp-content/uploads/2021/09/footprint-groene-stappen-pixabay.-e1710789506537.png
GEO:52.0330762;5.3449881
X-APPLE-STRUCTURED-LOCATION;VALUE=URI;X-ADDRESS=Maartenskerk Kerkplein 1 Doorn 3941 HV;X-APPLE-RADIUS=500;X-TITLE=Kerkplein 1:geo:5.3449881,52.0330762
END:VEVENT
BEGIN:VEVENT
DTSTART;TZID=Europe/Amsterdam:20240208T200000
DTEND;TZID=Europe/Amsterdam:20240208T220000
DTSTAMP:20260419T222559
CREATED:20230922T175506Z
LAST-MODIFIED:20230922T180659Z
UID:10003836-1707422400-1707429600@parochie-sintmaarten.staging.wijzijnmerlin.dev
SUMMARY:Taizé-zangavond met uitleg: U wijst mij de weg
DESCRIPTION:De kloostergemeenschap van Taizé in Midden-Frankrijk trekt jaarlijks tienduizenden mensen (vooral jongeren) uit heel Europa en daarbuiten. Kenmerkend voor Taizé zijn de meditatieve liederen: vaak korte meerstemmige liederen die vele malen worden herhaald.\nHet was de wens van Frère Roger\, de stichter van Taizé\, dat zoveel mogelijk liederen ook in ieders eigen taal beschikbaar zouden zijn. Daarom is voor Nederland in 2019 de bundel ‘Adem in ons’ verschenen. Meer dan de helft van de liederen is vertaald door Gert Landman en in Taizé doorgezongen met de Nederlandstalige broeders. Een Vlaamse broeder coachte Gert bij het componeren van de soloverzen.\nTijdens deze zangavond zingen we\, na toelichting van de vertaler\, een aantal van deze Nederlandse Taizéliederen\, waaronder het lied ‘Behoed mij\, o God’ (waaruit de titel ‘U wijst mij de weg’ komt). De begeleiding is in handen van Bert Boer. \n\n\n\n\nDatum: donderdag 8 februari 2024 \nTijd: 20.00-22.00 uur \nPlaats: Maartenskerk\, Kerkplein 1\, Doorn \nBegeleiding: Marjoke Limpens-Timmer \nEntree: vrijwillige bijdrage (richtlijn € 6\,-) \nOpgeven: niet nodig \n\n\n\n\n\n  \n  \n  \n  \n 
URL:https://parochie-sintmaarten.staging.wijzijnmerlin.dev/event/taize-zangavond-met-uitleg-u-wijst-mij-de-weg/
LOCATION:Maartenskerk\,\, Kerkplein 1\, Doorn\, 3941 HV
CATEGORIES:Activiteiten,Muziek
ATTACH;FMTTYPE=image/png:https://parochie-sintmaarten.staging.wijzijnmerlin.dev/wp-content/uploads/2023/02/koor-zingen-choir-306766_1280-pixabay.png
GEO:52.0330762;5.3449881
X-APPLE-STRUCTURED-LOCATION;VALUE=URI;X-ADDRESS=Maartenskerk Kerkplein 1 Doorn 3941 HV;X-APPLE-RADIUS=500;X-TITLE=Kerkplein 1:geo:5.3449881,52.0330762
END:VEVENT
BEGIN:VEVENT
DTSTART;TZID=Europe/Amsterdam:20231214T200000
DTEND;TZID=Europe/Amsterdam:20231214T200000
DTSTAMP:20260419T222559
CREATED:20230922T172529Z
LAST-MODIFIED:20230922T172529Z
UID:10003834-1702584000-1702584000@parochie-sintmaarten.staging.wijzijnmerlin.dev
SUMMARY:Kunstlezing: Het kerstverhaal in de beeldende kunst
DESCRIPTION:Aan de hand van afbeeldingen vertelt kunsthistoricus Barry Heinrichs over het kerstverhaal in de kunst\, vroeger en nu. \nEeuwenlang was het in opdracht schilderen van de geboorte van Christus of de Heilige familie met Jozef\, Maria en het Christuskind één van de meest eervolle opdrachten die je als kunstenaar ten deel kon vallen. Maar waar is de Heilige familie als thema in de hedendaagse kunst gebleven? In opdracht van de kerk wordt er momenteel weinig tot niets geschilderd in Nederland. Maar zijn er dan nog kunstenaars in hun vrije werk bezig met deze universele en intieme familiethematiek? \nJa\, ze zijn er wel\, maar je moet ernaar speuren en je moet het kunnen herkennen. Dat komt omdat kunstenaars veelal voor een hedendaagse\, moderne setting van Christus’ geboorte hebben gekozen. Het kind heeft dan zijn aureooltje in moeten leveren en gaat in spijkerbroek gehuld door het leven. Jozef in tuinbroek plukt kersen en Maria kan gekleed gaan in een praktische keukenschort. \nDatum: donderdag 14 december 2023\n \nTijd: 20.00 uur \nPlaats: Maartenskerk\, Kerkplein 1\, Doorn\n \nBegeleiding: Brechtje de Boer\n \nEntree: vrijwillige bijdrage (richtijn € 6\,-)\n \nAanmelden: niet nodig \n  \n 
URL:https://parochie-sintmaarten.staging.wijzijnmerlin.dev/event/kunstlezing-het-kerstverhaal-in-de-beeldende-kunst/
LOCATION:Maartenskerk\,\, Kerkplein 1\, Doorn\, 3941 HV
CATEGORIES:Activiteiten
ATTACH;FMTTYPE=image/jpeg:https://parochie-sintmaarten.staging.wijzijnmerlin.dev/wp-content/uploads/2023/01/lezing-webversie-pixabay.jpg
GEO:52.0330762;5.3449881
X-APPLE-STRUCTURED-LOCATION;VALUE=URI;X-ADDRESS=Maartenskerk Kerkplein 1 Doorn 3941 HV;X-APPLE-RADIUS=500;X-TITLE=Kerkplein 1:geo:5.3449881,52.0330762
END:VEVENT
BEGIN:VEVENT
DTSTART;TZID=Europe/Amsterdam:20231209T190000
DTEND;TZID=Europe/Amsterdam:20231209T200000
DTSTAMP:20260419T222559
CREATED:20231129T185933Z
LAST-MODIFIED:20231129T190039Z
UID:10003886-1702148400-1702152000@parochie-sintmaarten.staging.wijzijnmerlin.dev
SUMMARY:Beleef het kerstverhaal met zandkunstenaar Immanuel Boie
DESCRIPTION:Een duif verandert in een engel\, de engel verandert in een prachtig landschap waar Maria en Jozef doorheen trekken\, zij veranderen weer in iets nieuws.\nDe vingers van de zandkunstenaar Immanuel Boie tekenen het kerstverhaal in zand. Door zand te strooien op een lichtbak\, creëert hij donkere lijnen of vlakken. Daarin tekent hij met zijn vingers\, en haalt zo zand weg waar nodig. Je krijgt dus tekeningen die in elkaar overvloeien. Dit wordt gefilmd en geprojecteerd op een scherm. Het is een kunstvorm die niet om het resultaat draait\, maar om het proces: het omvormen van de ene tekening in de andere. Het is niet verkoopbaar; op het einde van de voorstelling verdwijnt het zand terug in een doosje. Het is iets wat je moet ervaren! \nDatum: zaterdag 9 december 2023\n\nTijd: 19.00-20.00 uur\, zaal open 18.45 uur\n\nPlaats: Maartenskerk\, Kerkplein 1\, Doorn\n\nToegang: gratis\, voor alle leeftijden; na afloop kerstdrankje\n\nMeer info: Joël van der Beek\, 123voorjou@gmail.com
URL:https://parochie-sintmaarten.staging.wijzijnmerlin.dev/event/beleef-het-kerstverhaal-met-zandkunstenaar-immanuel-boie-2/
LOCATION:Maartenskerk\,\, Kerkplein 1\, Doorn\, 3941 HV
CATEGORIES:Activiteiten
ATTACH;FMTTYPE=image/jpeg:https://parochie-sintmaarten.staging.wijzijnmerlin.dev/wp-content/uploads/2023/11/kerst-met-zandkunstenaar-webversie-900x675-1.jpg
GEO:52.0330762;5.3449881
X-APPLE-STRUCTURED-LOCATION;VALUE=URI;X-ADDRESS=Maartenskerk Kerkplein 1 Doorn 3941 HV;X-APPLE-RADIUS=500;X-TITLE=Kerkplein 1:geo:5.3449881,52.0330762
END:VEVENT
BEGIN:VEVENT
DTSTART;TZID=Europe/Amsterdam:20231209T190000
DTEND;TZID=Europe/Amsterdam:20231209T200000
DTSTAMP:20260419T222559
CREATED:20231116T150018Z
LAST-MODIFIED:20231129T185731Z
UID:10003883-1702148400-1702152000@parochie-sintmaarten.staging.wijzijnmerlin.dev
SUMMARY:Beleef het kerstverhaal met zandkunstenaar Immanuel Boie
DESCRIPTION:Een duif verandert in een engel\, de engel verandert in een prachtig landschap waar Maria en Jozef doorheen trekken\, zij veranderen weer in iets nieuws.\nDe vingers van de zandkunstenaar Immanuel Boie tekenen het kerstverhaal in zand. Door zand te strooien op een lichtbak\, creëert hij donkere lijnen of vlakken. Daarin tekent hij met zijn vingers\, en haalt zo zand weg waar nodig. Je krijgt dus tekeningen die in elkaar overvloeien. Dit wordt gefilmd en geprojecteerd op een scherm. Het is een kunstvorm die niet om het resultaat draait\, maar om het proces: het omvormen van de ene tekening in de andere. Het is niet verkoopbaar; op het einde van de voorstelling verdwijnt het zand terug in een doosje. Het is iets wat je moet ervaren! \nDatum: zaterdag 9 december 2023\n\nTijd: 19.00-20.00 uur\, zaal open 18.45 uur\n\nPlaats: Maartenskerk\, Kerkplein 1\, Doorn\n\nToegang: gratis\, voor alle leeftijden; na afloop kerstdrankje\n\nMeer info: Joël van der Beek\, 123voorjou@gmail.com
URL:https://parochie-sintmaarten.staging.wijzijnmerlin.dev/event/beleef-het-kerstverhaal-met-zandkunstenaar-immanuel-boie/
LOCATION:Maartenskerk\,\, Kerkplein 1\, Doorn\, 3941 HV
CATEGORIES:Activiteiten,Vieringen jong
ATTACH;FMTTYPE=image/jpeg:https://parochie-sintmaarten.staging.wijzijnmerlin.dev/wp-content/uploads/2023/11/kerst-met-zandkunstenaar-webversie-900x675-1.jpg
GEO:52.0330762;5.3449881
X-APPLE-STRUCTURED-LOCATION;VALUE=URI;X-ADDRESS=Maartenskerk Kerkplein 1 Doorn 3941 HV;X-APPLE-RADIUS=500;X-TITLE=Kerkplein 1:geo:5.3449881,52.0330762
END:VEVENT
BEGIN:VEVENT
DTSTART;TZID=Europe/Amsterdam:20230910T093000
DTEND;TZID=Europe/Amsterdam:20230910T103000
DTSTAMP:20260419T222559
CREATED:20230710T073441Z
LAST-MODIFIED:20230901T193314Z
UID:10003719-1694338200-1694341800@parochie-sintmaarten.staging.wijzijnmerlin.dev
SUMMARY:Kleuterkerk
DESCRIPTION:Vandaag gaan we het bij Kleuterkerk hebben over ‘een nieuw begin’! Kom je ook? Meer info lees je hier op onze website.
URL:https://parochie-sintmaarten.staging.wijzijnmerlin.dev/event/kleuterkerk-14/
LOCATION:Maartenskerk\,\, Kerkplein 1\, Doorn\, 3941 HV
CATEGORIES:Activiteiten
ATTACH;FMTTYPE=image/jpeg:https://parochie-sintmaarten.staging.wijzijnmerlin.dev/wp-content/uploads/2022/09/kleuterkerk-websiteformaat.jpg
GEO:52.0330762;5.3449881
X-APPLE-STRUCTURED-LOCATION;VALUE=URI;X-ADDRESS=Maartenskerk Kerkplein 1 Doorn 3941 HV;X-APPLE-RADIUS=500;X-TITLE=Kerkplein 1:geo:5.3449881,52.0330762
END:VEVENT
END:VCALENDAR