BEGIN:VCALENDAR
VERSION:2.0
PRODID:-//R.K. Parochie Sint Maarten - ECPv6.10.2//NONSGML v1.0//EN
CALSCALE:GREGORIAN
METHOD:PUBLISH
X-ORIGINAL-URL:https://parochie-sintmaarten.staging.wijzijnmerlin.dev
X-WR-CALDESC:Evenementen voor R.K. Parochie Sint Maarten
REFRESH-INTERVAL;VALUE=DURATION:PT1H
X-Robots-Tag:noindex
X-PUBLISHED-TTL:PT1H
BEGIN:VTIMEZONE
TZID:Europe/Amsterdam
BEGIN:DAYLIGHT
TZOFFSETFROM:+0100
TZOFFSETTO:+0200
TZNAME:CEST
DTSTART:20230326T010000
END:DAYLIGHT
BEGIN:STANDARD
TZOFFSETFROM:+0200
TZOFFSETTO:+0100
TZNAME:CET
DTSTART:20231029T010000
END:STANDARD
BEGIN:DAYLIGHT
TZOFFSETFROM:+0100
TZOFFSETTO:+0200
TZNAME:CEST
DTSTART:20240331T010000
END:DAYLIGHT
BEGIN:STANDARD
TZOFFSETFROM:+0200
TZOFFSETTO:+0100
TZNAME:CET
DTSTART:20241027T010000
END:STANDARD
BEGIN:DAYLIGHT
TZOFFSETFROM:+0100
TZOFFSETTO:+0200
TZNAME:CEST
DTSTART:20250330T010000
END:DAYLIGHT
BEGIN:STANDARD
TZOFFSETFROM:+0200
TZOFFSETTO:+0100
TZNAME:CET
DTSTART:20251026T010000
END:STANDARD
END:VTIMEZONE
BEGIN:VEVENT
DTSTART;TZID=Europe/Amsterdam:20250226T200000
DTEND;TZID=Europe/Amsterdam:20250226T220000
DTSTAMP:20260420T060444
CREATED:20250125T130959Z
LAST-MODIFIED:20250125T130959Z
UID:10004186-1740600000-1740607200@parochie-sintmaarten.staging.wijzijnmerlin.dev
SUMMARY:Film in de Ontmoetingskapel
DESCRIPTION:Je passie volgen\, dat is het thema van deze film. Wanneer de charismatische Engelse professor John Keating les gaat geven op een strenge academie\, blazen zijn onconventionele leermethoden nieuw leven in een lesprogramma dat bol staat van de tradities. Maar Keating ontdekt dat hij de toorn heeft opgewekt van een meerdere die daar juist niet van gediend is wanneer de school door een onverwachte tragedie getroffen wordt
URL:https://parochie-sintmaarten.staging.wijzijnmerlin.dev/event/film-in-de-ontmoetingskapel/
LOCATION:Ontmoetingskapel\,\, Kapelweg 45\, Maarn\, 3951 AB
CATEGORIES:Activiteiten
ATTACH;FMTTYPE=image/jpeg:https://parochie-sintmaarten.staging.wijzijnmerlin.dev/wp-content/uploads/2025/01/Maarn-dead-poets-scaled.jpg
GEO:52.0637716;5.3671665
X-APPLE-STRUCTURED-LOCATION;VALUE=URI;X-ADDRESS=Ontmoetingskapel Kapelweg 45 Maarn 3951 AB;X-APPLE-RADIUS=500;X-TITLE=Kapelweg 45:geo:5.3671665,52.0637716
END:VEVENT
BEGIN:VEVENT
DTSTART;TZID=Europe/Amsterdam:20241023T200000
DTEND;TZID=Europe/Amsterdam:20241023T200000
DTSTAMP:20260420T060444
CREATED:20241007T150658Z
LAST-MODIFIED:20241008T193953Z
UID:10004116-1729713600-1729713600@parochie-sintmaarten.staging.wijzijnmerlin.dev
SUMMARY:Zin in film: Kramer versus Kramer
DESCRIPTION:De New Yorkse Ted (Dustin Hoffman) ontdekt dat zijn vrouw Joanna (Meryl Streep) hem en hun zoon verlaat. Ted moet nu zijn zoon alleen opvoeden\, en raakt zijn baan kwijt. Jaren later keert Joanna terug waarna er een heftige strijd om de voogdij ontstaat. Ondanks de leeftijd van de film (45 jaar!) nog steeds actueel. Misschien heeft u de film in het verleden al eens gezien\, het is toch de moeite waard om er nog eens voor te gaan zitten! \nDatum: woensdag 23 oktober 2024\nLocatie: ontmoetingskapel\, Kapelweg 45\, Maarn\nTijd: aanvang 20.00 uur\, vanaf 19:30 welkom\, thee of koffie\, en na afloop napraten bij een glaasje wijn of fris\nBegeleiding en meer info: Jan Spilker\, jan.spilker@planet.nl\, 06-22975996\nEntree: vrijwillige bijdrage (richtbedrag € 7\,-) \n 
URL:https://parochie-sintmaarten.staging.wijzijnmerlin.dev/event/zin-in-film-kramer-versus-kramer/
LOCATION:Ontmoetingskapel\,\, Kapelweg 45\, Maarn\, 3951 AB
CATEGORIES:Activiteiten
ATTACH;FMTTYPE=image/jpeg:https://parochie-sintmaarten.staging.wijzijnmerlin.dev/wp-content/uploads/2022/08/film-website-pixabay-scaled.jpg
GEO:52.0637716;5.3671665
X-APPLE-STRUCTURED-LOCATION;VALUE=URI;X-ADDRESS=Ontmoetingskapel Kapelweg 45 Maarn 3951 AB;X-APPLE-RADIUS=500;X-TITLE=Kapelweg 45:geo:5.3671665,52.0637716
END:VEVENT
BEGIN:VEVENT
DTSTART;TZID=Europe/Amsterdam:20240925T200000
DTEND;TZID=Europe/Amsterdam:20240925T200000
DTSTAMP:20260420T060444
CREATED:20240911T174301Z
LAST-MODIFIED:20240911T174323Z
UID:10004101-1727294400-1727294400@parochie-sintmaarten.staging.wijzijnmerlin.dev
SUMMARY:Zin in film: The Old Oak
DESCRIPTION:Deze film\, van de Britse grootmeester Ken Loach\, gaat bij over mensen zonder hoop voor wie het leven al decennialang stilstaat of slechter wordt. Mensen uit de mijnstreek van weleer\, inmiddels vergeten door de tijd en de beleidsmakers. De publieke voorzieningen zijn er allang wegbezuinigd of gesloten. Buurtkroeg The Old Oak is zo’n beetje hun laatste veilige haven. En dan komen er Syrische vluchtelingen naar het dorp. \nDatum: woensdag 25 september 2024\nLocatie: Ontmoetingskapel\, Kapelweg 45\, Maarn\nTijd:20.00 uur\, vanaf 19.30 uur welkom\, thee of koffie\, en na afloop napraten bij een glaasje wijn of fris\nBegeleiding en meer info: Jan Spilker\, jan.spilker@planet.nl of 06-22975996\nEntree: bij de uitgang staat een mandje voor een vrijwillige bijdrage (richtbedrag € 7)
URL:https://parochie-sintmaarten.staging.wijzijnmerlin.dev/event/zin-in-film-the-old-oak/
LOCATION:Ontmoetingskapel\,\, Kapelweg 45\, Maarn\, 3951 AB
CATEGORIES:Activiteiten
ATTACH;FMTTYPE=image/jpeg:https://parochie-sintmaarten.staging.wijzijnmerlin.dev/wp-content/uploads/2022/08/film-website-pixabay-scaled.jpg
GEO:52.0637716;5.3671665
X-APPLE-STRUCTURED-LOCATION;VALUE=URI;X-ADDRESS=Ontmoetingskapel Kapelweg 45 Maarn 3951 AB;X-APPLE-RADIUS=500;X-TITLE=Kapelweg 45:geo:5.3671665,52.0637716
END:VEVENT
BEGIN:VEVENT
DTSTART;TZID=Europe/Amsterdam:20240417T200000
DTEND;TZID=Europe/Amsterdam:20240417T200000
DTSTAMP:20260420T060444
CREATED:20230922T190418Z
LAST-MODIFIED:20230922T190418Z
UID:10003840-1713384000-1713384000@parochie-sintmaarten.staging.wijzijnmerlin.dev
SUMMARY:Zin in film: 'Capernaum'
DESCRIPTION:De twaalfjarige Zain slijt zijn dagen in de straten van de Libanese hoofdstad Beiroet. Als oudste kind van het gezin moet hij helpen zijn familie te onderhouden. Maar wanneer zijn zusje wordt uitgehuwelijkt aan de eigenaar van de buurtwinkel\, besluit Zain weg te lopen van huis.\nBekijk hier de trailer. \nDatum: woensdag 17 april 2024 \nTijd: 20.00 uur\, inloop vanaf 19.30 uur met koffie/thee. Na afloop napraten bij een glaasje wijn of fris. \nPlaats: Ontmoetingskapel\, Kapelweg 45\, Maarn \nBegeleiding: Jan Spilker \nVragen: Jan Spilker\, jan.spilker@planet.nl of 06-22975996 \nEntree: bij de uitgang staat een mandje voor een vrijwillige bijdrage (richtbedrag € 5)
URL:https://parochie-sintmaarten.staging.wijzijnmerlin.dev/event/zin-in-film-capernaum/
LOCATION:Ontmoetingskapel\,\, Kapelweg 45\, Maarn\, 3951 AB
CATEGORIES:Activiteiten
ATTACH;FMTTYPE=image/jpeg:https://parochie-sintmaarten.staging.wijzijnmerlin.dev/wp-content/uploads/2022/08/film-website-pixabay-scaled.jpg
GEO:52.0637716;5.3671665
X-APPLE-STRUCTURED-LOCATION;VALUE=URI;X-ADDRESS=Ontmoetingskapel Kapelweg 45 Maarn 3951 AB;X-APPLE-RADIUS=500;X-TITLE=Kapelweg 45:geo:5.3671665,52.0637716
END:VEVENT
BEGIN:VEVENT
DTSTART;TZID=Europe/Amsterdam:20240409T200000
DTEND;TZID=Europe/Amsterdam:20240409T213000
DTSTAMP:20260420T060444
CREATED:20240318T185108Z
LAST-MODIFIED:20240318T185108Z
UID:10004021-1712692800-1712698200@parochie-sintmaarten.staging.wijzijnmerlin.dev
SUMMARY:Groei en/of genieten van genoeg?
DESCRIPTION:Deze avond nemen de Maarnse Eveline van Leeuwen\, hoogleraar Urban Economics aan de Wageningen University & Research (WUR)\, en de Doornse theoloog Teun Kruijswijk Jansen ons mee in ons denken over groei en genoeg. Eveline van Leeuwen legt basaal uit wat economie is en hoe je in de vormgeving van stad (of dorp) niet zonder idealen kunt. Wat hebben bewegingen als de-growth en post-groei ons te zeggen? Teun Kruijswijk Jansen zoekt met ons naar een gelovig perspectief. Uiteraard gaan we ook met elkaar in gesprek! \nDatum: dinsdag 9 april\nTijd: 20.00 – 21.30 uur\nLocatie: Ontmoetingskapel\, Kapelweg 45\, Maarn\nEntree: € 5\,-
URL:https://parochie-sintmaarten.staging.wijzijnmerlin.dev/event/groei-en-of-genieten-van-genoeg/
LOCATION:Ontmoetingskapel\,\, Kapelweg 45\, Maarn\, 3951 AB
CATEGORIES:Activiteiten
ATTACH;FMTTYPE=image/jpeg:https://parochie-sintmaarten.staging.wijzijnmerlin.dev/wp-content/uploads/2023/08/schapen-sheeps-3437467_1280-Tom-from-Pixabay-e1710787576237.jpg
GEO:52.0637716;5.3671665
X-APPLE-STRUCTURED-LOCATION;VALUE=URI;X-ADDRESS=Ontmoetingskapel Kapelweg 45 Maarn 3951 AB;X-APPLE-RADIUS=500;X-TITLE=Kapelweg 45:geo:5.3671665,52.0637716
END:VEVENT
BEGIN:VEVENT
DTSTART;TZID=Europe/Amsterdam:20240406T100000
DTEND;TZID=Europe/Amsterdam:20240406T130000
DTSTAMP:20260420T060444
CREATED:20240318T183542Z
LAST-MODIFIED:20240318T184951Z
UID:10004020-1712397600-1712408400@parochie-sintmaarten.staging.wijzijnmerlin.dev
SUMMARY:Ademtocht
DESCRIPTION:Terug van weggeweest: een wandeling tussen de verschillende dorpen van de Utrechtse Heuvelrug\, met elkaar nadenken over het belang van de natuur en onze invloed daarop. Vanuit Maarn wandelen we naar het Blauwe Huis in Maarsbergen waar we een rondleiding krijgen door Gonda. Landgoed het Blauwe Huis bestaat uit een boerderij uit 1850\, een oude schapenschuur en enkele percelen bos en natuurlijk grasland. Het beheer is gericht op het behoud van natuurkwaliteit en het herstel van biodiversiteit. Na koffie of thee wandelen we terug naar Maarn. Totaal zo’n 10 tot 12 km. Graag brood en een beker meenemen voor de gezamenlijke lunch bij het Blauwe Huis. \nDatum: zaterdag 6 april\nTijd: 10.00 – 13.00 uur\nStartpunt: Ontmoetingskapel\, Kapelweg 45\, Maarn\nGezamenlijk met de Maartenskerk Doorn\, Ontmoetingskapel Maarn\, Johanneskerk en St. Andrieskerk Leerum
URL:https://parochie-sintmaarten.staging.wijzijnmerlin.dev/event/ademtocht/
LOCATION:Ontmoetingskapel\,\, Kapelweg 45\, Maarn\, 3951 AB
CATEGORIES:Activiteiten
ATTACH;FMTTYPE=image/jpeg:https://parochie-sintmaarten.staging.wijzijnmerlin.dev/wp-content/uploads/2023/09/wandelschoenen-shoes-1409154-Leopictures-via-Pixabay-scaled.jpg
GEO:52.0637716;5.3671665
X-APPLE-STRUCTURED-LOCATION;VALUE=URI;X-ADDRESS=Ontmoetingskapel Kapelweg 45 Maarn 3951 AB;X-APPLE-RADIUS=500;X-TITLE=Kapelweg 45:geo:5.3671665,52.0637716
END:VEVENT
BEGIN:VEVENT
DTSTART;TZID=Europe/Amsterdam:20240228T200000
DTEND;TZID=Europe/Amsterdam:20240228T200000
DTSTAMP:20260420T060444
CREATED:20230922T185915Z
LAST-MODIFIED:20230922T190311Z
UID:10003839-1709150400-1709150400@parochie-sintmaarten.staging.wijzijnmerlin.dev
SUMMARY:Zin in film: 'Philomena'
DESCRIPTION:Een Ierse journalist helpt de oude Philomena bij het zoeken naar haar verloren gewaande zoon die haar door de nonnen in een Iers kloosters is ontnomen toen ze nog tiener was.\nBekijk hier de trailer. \nDatum: woensdag 28 februari 2024 \nTijd: 20.00 uur\, inloop vanaf 19.30 uur met koffie/thee. Na afloop napraten bij een glaasje wijn of fris. \nPlaats: Ontmoetingskapel\, Kapelweg 45\, Maarn \nBegeleiding: Jan Spilker \nVragen: Jan Spilker\, jan.spilker@planet.nl of 06-22975996 \nEntree: bij de uitgang staat een mandje voor een vrijwillige bijdrage (richtbedrag € 5)
URL:https://parochie-sintmaarten.staging.wijzijnmerlin.dev/event/zin-in-film-philomena/
LOCATION:Ontmoetingskapel\,\, Kapelweg 45\, Maarn\, 3951 AB
CATEGORIES:Activiteiten
ATTACH;FMTTYPE=image/jpeg:https://parochie-sintmaarten.staging.wijzijnmerlin.dev/wp-content/uploads/2022/08/film-website-pixabay-scaled.jpg
GEO:52.0637716;5.3671665
X-APPLE-STRUCTURED-LOCATION;VALUE=URI;X-ADDRESS=Ontmoetingskapel Kapelweg 45 Maarn 3951 AB;X-APPLE-RADIUS=500;X-TITLE=Kapelweg 45:geo:5.3671665,52.0637716
END:VEVENT
BEGIN:VEVENT
DTSTART;TZID=Europe/Amsterdam:20240217T160000
DTEND;TZID=Europe/Amsterdam:20240217T170000
DTSTAMP:20260420T060444
CREATED:20240125T182759Z
LAST-MODIFIED:20240125T183407Z
UID:10004000-1708185600-1708189200@parochie-sintmaarten.staging.wijzijnmerlin.dev
SUMMARY:Maarnse concerten
DESCRIPTION:Zaterdag 17 februari komt het duo Dori Dori\, bestaande uit sopraan Dorella Cela en mezzosopraan Teodora Drozdik-Popovic\, naar Maarn. Zij worden op de piano begeleid door Frederici (Fede) Mosquera Martinez. DoriDori en Fede\, zang en piano\, klassiek met humor. \nTijd: 16.00-17.00 uur\n\nPlaats: Ontmoetingskapel\, Kapelweg 45\, Maarn\n\nToegang: tien euro pp\, inclusief een consumptie na afloop\n\nMeer info: www.maarnseconcerten.nl 
URL:https://parochie-sintmaarten.staging.wijzijnmerlin.dev/event/maarnse-concerten-2/
LOCATION:Ontmoetingskapel\,\, Kapelweg 45\, Maarn\, 3951 AB
CATEGORIES:Activiteiten,Muziek
ATTACH;FMTTYPE=image/jpeg:https://parochie-sintmaarten.staging.wijzijnmerlin.dev/wp-content/uploads/2022/07/muziek-musical-score-7208330_1920-pixabay.jpg
GEO:52.0637716;5.3671665
X-APPLE-STRUCTURED-LOCATION;VALUE=URI;X-ADDRESS=Ontmoetingskapel Kapelweg 45 Maarn 3951 AB;X-APPLE-RADIUS=500;X-TITLE=Kapelweg 45:geo:5.3671665,52.0637716
END:VEVENT
BEGIN:VEVENT
DTSTART;TZID=Europe/Amsterdam:20240110T200000
DTEND;TZID=Europe/Amsterdam:20240110T200000
DTSTAMP:20260420T060444
CREATED:20230922T185653Z
LAST-MODIFIED:20230922T190626Z
UID:10003838-1704916800-1704916800@parochie-sintmaarten.staging.wijzijnmerlin.dev
SUMMARY:Zin in film: 'The Quiet Girl'
DESCRIPTION:Niet het leed\, maar juist het wegnemen van dat leed maakt het Ierse drama ‘The Quiet Girl’ tot zo’n onthutsende kijkervaring. Zonder zich te verliezen in sentiment\, toont scenarist en regisseur Com Bairéad (42) het verschil tussen een kinderleven met of zonder ouderlijke affectie. Sterk geholpen door het spel van debuterende kindactrice en hoofdrolspeler Catherine Clinch\, die al genoeg heeft aan haar blik en lichaamstaal om de gebutste aard te suggereren. De bedplassende Cáit staat permanent in de overlevingsstand\, ervan doordrongen dat ze geen aandacht moet trekken\, niet thuis en ook niet op school. Vader is verbitterd\, kil en lomp\, moeder zit met haar hoofd bij andere zaken en Cáits oudere zussen gedragen zich wreed\, schijnbaar afgestomd door de hardvochtige opvoeding.\nBekijk hier de trailer. \nDatum: woensdag 10 januari 2023 \nTijd: 20.00 uur\, inloop vanaf 19.30 uur met koffie/thee. Na afloop napraten bij een glaasje wijn of fris. \nPlaats: Ontmoetingskapel\, Kapelweg 45\, Maarn \nBegeleiding: Jan Spilker \nVragen: Jan Spilker\, jan.spilker@planet.nl of 06-22975996 \nEntree: bij de uitgang staat een mandje voor een vrijwillige bijdrage (richtbedrag € 5)
URL:https://parochie-sintmaarten.staging.wijzijnmerlin.dev/event/zin-in-film-the-quiet-girl/
LOCATION:Ontmoetingskapel\,\, Kapelweg 45\, Maarn\, 3951 AB
CATEGORIES:Activiteiten
ATTACH;FMTTYPE=image/jpeg:https://parochie-sintmaarten.staging.wijzijnmerlin.dev/wp-content/uploads/2022/08/film-website-pixabay-scaled.jpg
GEO:52.0637716;5.3671665
X-APPLE-STRUCTURED-LOCATION;VALUE=URI;X-ADDRESS=Ontmoetingskapel Kapelweg 45 Maarn 3951 AB;X-APPLE-RADIUS=500;X-TITLE=Kapelweg 45:geo:5.3671665,52.0637716
END:VEVENT
BEGIN:VEVENT
DTSTART;TZID=Europe/Amsterdam:20231108T200000
DTEND;TZID=Europe/Amsterdam:20231108T200000
DTSTAMP:20260420T060444
CREATED:20230922T184105Z
LAST-MODIFIED:20230922T190534Z
UID:10003837-1699473600-1699473600@parochie-sintmaarten.staging.wijzijnmerlin.dev
SUMMARY:Zin in film: 'Living'
DESCRIPTION:In het Londen van de jaren vijftig krijgt een saaie ambtenaar een ernstige diagnose. Hij neemt vrij\, in de hoop vreugde en avontuur te vinden voor het te laat is. Hij ontmoet een sprankelende vrouwelijke collega die alles heeft wat hij nodig heeft.\n‘Living’ stelt met een elegant gebaar de vraag wat van belang is in het leven. Dat hoeft niet van de daken te worden geschreeuwd\, en dat hoeft niet door iedereen te worden opgemerkt. Het kan iets zijn dat betekenisvol is voor jezelf.\n‘Living’ uit 2022\, geregisseerd door Oliver Hermanus\, 102 minuten\nBekijk hier de trailer. \n\n\n\n\nDatum: woensdag 8 november 2023 \nTijd: 20.00 uur\, inloop vanaf 19.30 uur met koffie/thee. Na afloop napraten bij een glaasje wijn of fris. \nPlaats: Ontmoetingskapel\, Kapelweg 45\, Maarn \nBegeleiding: Jan Spilker \nVragen: Jan Spilker\, jan.spilker@planet.nl of 06-22975996 \nEntree: bij de uitgang staat een mandje voor een vrijwillige bijdrage (richtbedrag € 5) \n\n\n\n\n 
URL:https://parochie-sintmaarten.staging.wijzijnmerlin.dev/event/zin-in-film-living/
LOCATION:Ontmoetingskapel\,\, Kapelweg 45\, Maarn\, 3951 AB
CATEGORIES:Activiteiten
ATTACH;FMTTYPE=image/jpeg:https://parochie-sintmaarten.staging.wijzijnmerlin.dev/wp-content/uploads/2022/08/film-website-pixabay-scaled.jpg
GEO:52.0637716;5.3671665
X-APPLE-STRUCTURED-LOCATION;VALUE=URI;X-ADDRESS=Ontmoetingskapel Kapelweg 45 Maarn 3951 AB;X-APPLE-RADIUS=500;X-TITLE=Kapelweg 45:geo:5.3671665,52.0637716
END:VEVENT
BEGIN:VEVENT
DTSTART;TZID=Europe/Amsterdam:20231004T200000
DTEND;TZID=Europe/Amsterdam:20231004T200000
DTSTAMP:20260420T060444
CREATED:20230918T150115Z
LAST-MODIFIED:20230918T204245Z
UID:10003741-1696449600-1696449600@parochie-sintmaarten.staging.wijzijnmerlin.dev
SUMMARY:Zin in film: 'Doubt'
DESCRIPTION:De charismatische priester Brendan Flynn probeert een nieuwe wind te laten waaien door de strenge St. Nicholas school in de Bronx. Dat is niet naar de zin van de directrice\, zuster Aloysius Beauvier\, die met ijzeren hand waakt over de traditionele waarden in haar school.\nMet Meryl Streep in een sterke hoofdrol.\nBekijk hier de trailer. \nDatum: woensdag 4 oktober 2023 \nTijd: 20.00 uur\, inloop met koffie/thee vanaf 19.30 uur \nPlaats: Ontmoetingskapel\, Kapelweg 45\, Maarn \nEntree: € 5\,- \nBegeleiding en contact: Jan Spilker\, jan.spilker@planet.nl\, 06-22975996
URL:https://parochie-sintmaarten.staging.wijzijnmerlin.dev/event/33937/
LOCATION:Ontmoetingskapel\,\, Kapelweg 45\, Maarn\, 3951 AB
CATEGORIES:Activiteiten
ATTACH;FMTTYPE=image/jpeg:https://parochie-sintmaarten.staging.wijzijnmerlin.dev/wp-content/uploads/2022/08/film-website-pixabay-scaled.jpg
GEO:52.0637716;5.3671665
X-APPLE-STRUCTURED-LOCATION;VALUE=URI;X-ADDRESS=Ontmoetingskapel Kapelweg 45 Maarn 3951 AB;X-APPLE-RADIUS=500;X-TITLE=Kapelweg 45:geo:5.3671665,52.0637716
END:VEVENT
END:VCALENDAR