BEGIN:VCALENDAR
VERSION:2.0
PRODID:-//R.K. Parochie Sint Maarten - ECPv6.10.2//NONSGML v1.0//EN
CALSCALE:GREGORIAN
METHOD:PUBLISH
X-ORIGINAL-URL:https://parochie-sintmaarten.staging.wijzijnmerlin.dev
X-WR-CALDESC:Evenementen voor R.K. Parochie Sint Maarten
REFRESH-INTERVAL;VALUE=DURATION:PT1H
X-Robots-Tag:noindex
X-PUBLISHED-TTL:PT1H
BEGIN:VTIMEZONE
TZID:Europe/Amsterdam
BEGIN:DAYLIGHT
TZOFFSETFROM:+0100
TZOFFSETTO:+0200
TZNAME:CEST
DTSTART:20230326T010000
END:DAYLIGHT
BEGIN:STANDARD
TZOFFSETFROM:+0200
TZOFFSETTO:+0100
TZNAME:CET
DTSTART:20231029T010000
END:STANDARD
BEGIN:DAYLIGHT
TZOFFSETFROM:+0100
TZOFFSETTO:+0200
TZNAME:CEST
DTSTART:20240331T010000
END:DAYLIGHT
BEGIN:STANDARD
TZOFFSETFROM:+0200
TZOFFSETTO:+0100
TZNAME:CET
DTSTART:20241027T010000
END:STANDARD
END:VTIMEZONE
BEGIN:VEVENT
DTSTART;TZID=Europe/Amsterdam:20241128T200000
DTEND;TZID=Europe/Amsterdam:20241128T220000
DTSTAMP:20260420T055943
CREATED:20241015T073619Z
LAST-MODIFIED:20241015T074243Z
UID:10004134-1732824000-1732831200@parochie-sintmaarten.staging.wijzijnmerlin.dev
SUMMARY:Inspiratieavond met pastor Jozef Wissink rond evangelie Lucas
DESCRIPTION:Het komend kerkelijk jaar is het Evangelie van Lucas uitgangspunt in de vieringen. Als start van dit kerkelijk jaar is er een inspiratieavond voor voorgangers in de liturgie\, lectoren en andere belangstellenden\, onder de bezielende leiding van pastor Jozef Wissink\, priester van het aartsbisdom Utrecht. Hij is een bevlogen spreker en hoogleraar praktische theologie geweest aan de katholieke universiteit Utrecht/Tilburg. \nDatum: donderdag 28 november 2024 \nPlaats: parochiecentrum De Kom\, Hamersveldseweg 51\, Leusden \nTijd: 20.00-22.00 uur. \nOpgeven bij: Rosella van den Hoeven\, r.van.den.hoeven@parochie-sintmaarten.nl  \nGraag bijbel meenemen.
URL:https://parochie-sintmaarten.staging.wijzijnmerlin.dev/event/inspiratieavond-met-pastor-jozef-wissink-rond-evangelie-lucas/
LOCATION:Parochiecentrum De Kom\, Hamersveldseweg 51\, Leusden\, 3833 GM
CATEGORIES:Activiteiten
ATTACH;FMTTYPE=image/png:https://parochie-sintmaarten.staging.wijzijnmerlin.dev/wp-content/uploads/2018/04/Bijbel-lente-e1665830616957.png
GEO:52.1328842;5.4274848
X-APPLE-STRUCTURED-LOCATION;VALUE=URI;X-ADDRESS=Parochiecentrum De Kom Hamersveldseweg 51 Leusden 3833 GM;X-APPLE-RADIUS=500;X-TITLE=Hamersveldseweg 51:geo:5.4274848,52.1328842
END:VEVENT
BEGIN:VEVENT
DTSTART;TZID=Europe/Amsterdam:20240322T200000
DTEND;TZID=Europe/Amsterdam:20240322T220000
DTSTAMP:20260420T055943
CREATED:20240307T161124Z
LAST-MODIFIED:20240307T161203Z
UID:10004013-1711137600-1711144800@parochie-sintmaarten.staging.wijzijnmerlin.dev
SUMMARY:Uitnodiging gespreksavond 'Voor een synodale kerk'
DESCRIPTION:We gaan in gesprek over de volgende vier thema’s: Verdieping van ons gedoopt-zijn als basis voor ons Kerk-zijn; Vorming in een missionaire Kerk; Deelname aan een verwelkomende Kerk en Vrouwen in het leven en de zending van de Kerk. \nHoe kan onze kerk meer verwelkomend en missionair worden? Daarover ging de eerste zitting van de bisschoppensynode in Rome in oktober jl.\, en daarover zal het later dit jaar ook op de tweede zitting gaan. Maar nu is het woord aan ons. Paus Franciscus heeft de bisschoppen nadrukkelijk gevraagd\, nu weer de gewone gelovigen in de parochies met elkaar in gesprek te laten gaan over hun gelovig aanvoelen van bepaalde urgente gespreksthema’s. Het pastoraal team van de St. Lucasparochie en de St. Maartenparochie organiseert hiervoor twee avonden: op donderdag 14 maart in Driebergen-Rijsenburg en op vrijdag 22 maart in Leusden. \nBijeenkomst donderdag 14 maart Driebergen-Rijsenburg\nWaar:                  Parochiecentrum – Petrus & Pauluszaal\, Rijsenburgselaan 4\nHoe laat:             20.00 uur tot ± 22.00 uur\nO.l.v.:                   Diaken Marcel Sarot \nBijeenkomst vrijdag 22 maart Leusden\nWaar:                  Parochiecentrum ‘De Kom’\, Hamersveldseweg 51\nHoe laat:             20.00 uur tot ± 22.00 uur\nO.l.v.:                   Pastor Johan Rutgers \n\nWat gaan we doen?\nNa een plenaire opening van de avond met verwelkoming en het samen bidden van het synodegebed\, zullen we per gespreksgroep één van de vier thema’s bespreken:\nThema 1: Verdieping van ons gedoopt-zijn als basis voor ons Kerk-zijn\nThema 2: Vorming in een missionaire Kerk\nThema 3: Deelname aan een verwelkomende Kerk\nThema 4: Vrouwen in het leven en de zending van de Kerk \nOpzet van het synodale gesprek\nIedere gespreksgroep wijst zelf aan het begin van het gesprek een gespreksleider en een notulist aan om vervolgens biddend en luisterend het thema te bespreken. De eerste ronde bestaat uit het in stilte nadenken/bidden over het thema (± 7 minuten); vervolgens kan iedereen die wil -kort- delen wat het thema bij hen oproept. Hierna volgt de tweede ronde van stilte en gebed (± 5 minuten)\, gevolgd door de mogelijkheid te reageren op hetgeen door éénieder gezegd is in de vorige ronde of wat je heeft geraakt. In de derde ronde deelt ieder welke inzichten het gesprek heeft opgeleverd. Wat neem je mee naar huis? Waarover wil je verder praten en bidden met anderen? Deze gesprekken zijn niet bedoeld als discussiegroepen; het gaat om vrije en open uitwisseling in een sfeer van gebed en om luisteren naar elkaar. \nOpgave\nIedereen is welkom\, maar met het oog op de catering is het fijn als je je uiterlijk een dag van tevoren opgeeft bij secretariaat@stlucas.nu (bijeenkomst in Leusden) en r.van.den.hoeven@parochie-sintmaarten.nl (bijeenkomst Driebergen-Rijsenburg) o.v.v.: “Gespreksavond Synodale Kerk”. \n 
URL:https://parochie-sintmaarten.staging.wijzijnmerlin.dev/event/37464/
LOCATION:Parochiecentrum De Kom\, Hamersveldseweg 51\, Leusden\, 3833 GM
CATEGORIES:Activiteiten
ATTACH;FMTTYPE=image/png:https://parochie-sintmaarten.staging.wijzijnmerlin.dev/wp-content/uploads/2021/10/logo-synode.png
GEO:52.1328842;5.4274848
X-APPLE-STRUCTURED-LOCATION;VALUE=URI;X-ADDRESS=Parochiecentrum De Kom Hamersveldseweg 51 Leusden 3833 GM;X-APPLE-RADIUS=500;X-TITLE=Hamersveldseweg 51:geo:5.4274848,52.1328842
END:VEVENT
BEGIN:VEVENT
DTSTART;TZID=Europe/Amsterdam:20231121T200000
DTEND;TZID=Europe/Amsterdam:20231121T220000
DTSTAMP:20260420T055943
CREATED:20231026T200349Z
LAST-MODIFIED:20231101T131221Z
UID:10003875-1700596800-1700604000@parochie-sintmaarten.staging.wijzijnmerlin.dev
SUMMARY:Inspiratieavond met pastor Jozef Wissink rond evangelie Marcus
DESCRIPTION:Het komend kerkelijk jaar is het Evangelie van Marcus uitgangspunt in de liturgie. Als start van dit kerkelijk jaar is er een inspiratieavond voor voorgangers in de liturgie\, lectoren en andere belangstellenden\, onder de bezielende leiding van pastor Jozef Wissink\, priester van het aartsbisdom Utrecht. Hij is een bevlogen spreker en hoogleraar praktische theologie geweest aan de katholieke universiteit Utrecht/Tilburg. \nDatum: dinsdag 21 november 2023 \nPlaats: parochiecentrum De Kom\, Hamersveldseweg 51\, Leusden \nTijd: 20.00-22.00 uur. \nOpgeven bij: Rosella van den Hoeven\, r.van.den.hoeven@parochie-sintmaarten.nl  \nGraag bijbel meenemen.
URL:https://parochie-sintmaarten.staging.wijzijnmerlin.dev/event/inspiratieavond-met-pastor-jozef-wissink-rond-evangelie-marcus/
LOCATION:Parochiecentrum De Kom\, Hamersveldseweg 51\, Leusden\, 3833 GM
CATEGORIES:Activiteiten
ATTACH;FMTTYPE=image/png:https://parochie-sintmaarten.staging.wijzijnmerlin.dev/wp-content/uploads/2018/04/Bijbel-lente-e1665830616957.png
GEO:52.1328842;5.4274848
X-APPLE-STRUCTURED-LOCATION;VALUE=URI;X-ADDRESS=Parochiecentrum De Kom Hamersveldseweg 51 Leusden 3833 GM;X-APPLE-RADIUS=500;X-TITLE=Hamersveldseweg 51:geo:5.4274848,52.1328842
END:VEVENT
END:VCALENDAR