BEGIN:VCALENDAR
VERSION:2.0
PRODID:-//R.K. Parochie Sint Maarten - ECPv6.10.2//NONSGML v1.0//EN
CALSCALE:GREGORIAN
METHOD:PUBLISH
X-WR-CALNAME:R.K. Parochie Sint Maarten
X-ORIGINAL-URL:https://parochie-sintmaarten.staging.wijzijnmerlin.dev
X-WR-CALDESC:Evenementen voor R.K. Parochie Sint Maarten
REFRESH-INTERVAL;VALUE=DURATION:PT1H
X-Robots-Tag:noindex
X-PUBLISHED-TTL:PT1H
BEGIN:VTIMEZONE
TZID:Europe/Amsterdam
BEGIN:DAYLIGHT
TZOFFSETFROM:+0100
TZOFFSETTO:+0200
TZNAME:CEST
DTSTART:20250330T010000
END:DAYLIGHT
BEGIN:STANDARD
TZOFFSETFROM:+0200
TZOFFSETTO:+0100
TZNAME:CET
DTSTART:20251026T010000
END:STANDARD
END:VTIMEZONE
BEGIN:VEVENT
DTSTART;TZID=Europe/Amsterdam:20250412T143000
DTEND;TZID=Europe/Amsterdam:20250412T163000
DTSTAMP:20260420T015014
CREATED:20250410T141135Z
LAST-MODIFIED:20250410T141135Z
UID:10004191-1744468200-1744475400@parochie-sintmaarten.staging.wijzijnmerlin.dev
SUMMARY:Palmpaasstokken versieren
DESCRIPTION:Alle kinderen van de geloofsgemeenschap Sint Petrus’ banden zijn op zaterdag 12 april van harte welkom in het parochiecentrum om daar hun palmpaasstok te versieren. Graag zelf een stok meenemen\, materiaal om de stok te versieren is aanwezig. De dag erna\, Palmzondag\, mogen zij hun palmpaasstokken meenemen naar de viering.\nZaterdag 12 april\, 14.30 – 16.30 uur\, in de Pieterburen\, Rijsenburgselaan 4\, Driebergen-Rijsenburg \nOp Palmzondag 13 april mogen de kinderen hun palmpaasstokken meenemen naar de viering. Om 9.00 worden in het parochiecentrum de broodhaantjes uitgedeeld die bovenop de stok horen. Om 9.15 start de viering op de begraafplaats aan de Drieklinken. We lopen dan in processie naar de kerk\, mét zoveel mogelijk palmpaasstokken. Tijdens de viering die om 9.30 begint is er kinderwoorddienst in het parochiecentrum. Rond 10.30 eindigt het kinderprogramma: Ouders kunnen na de mis bij de koffie in het parochiehuis zien wat de kinderen beleefd hebben en ze weer ophalen.
URL:https://parochie-sintmaarten.staging.wijzijnmerlin.dev/event/palmpaasstokken-versieren/
LOCATION:Parochiecentrum\, Driebergen\, Rijsenburgselaan 4\, Driebergen\, 3972 EJ\, Nederland
CATEGORIES:Activiteiten jong
ATTACH;FMTTYPE=image/jpeg:https://parochie-sintmaarten.staging.wijzijnmerlin.dev/wp-content/uploads/2022/03/palmpasen.jpg
GEO:52.054944;5.2749061
X-APPLE-STRUCTURED-LOCATION;VALUE=URI;X-ADDRESS=Parochiecentrum Driebergen Rijsenburgselaan 4 Driebergen 3972 EJ Nederland;X-APPLE-RADIUS=500;X-TITLE=Rijsenburgselaan 4:geo:5.2749061,52.054944
END:VEVENT
END:VCALENDAR