BEGIN:VCALENDAR
VERSION:2.0
PRODID:-//R.K. Parochie Sint Maarten - ECPv6.10.2//NONSGML v1.0//EN
CALSCALE:GREGORIAN
METHOD:PUBLISH
X-ORIGINAL-URL:https://parochie-sintmaarten.staging.wijzijnmerlin.dev
X-WR-CALDESC:Evenementen voor R.K. Parochie Sint Maarten
REFRESH-INTERVAL;VALUE=DURATION:PT1H
X-Robots-Tag:noindex
X-PUBLISHED-TTL:PT1H
BEGIN:VTIMEZONE
TZID:Europe/Amsterdam
BEGIN:DAYLIGHT
TZOFFSETFROM:+0100
TZOFFSETTO:+0200
TZNAME:CEST
DTSTART:20230326T010000
END:DAYLIGHT
BEGIN:STANDARD
TZOFFSETFROM:+0200
TZOFFSETTO:+0100
TZNAME:CET
DTSTART:20231029T010000
END:STANDARD
BEGIN:DAYLIGHT
TZOFFSETFROM:+0100
TZOFFSETTO:+0200
TZNAME:CEST
DTSTART:20240331T010000
END:DAYLIGHT
BEGIN:STANDARD
TZOFFSETFROM:+0200
TZOFFSETTO:+0100
TZNAME:CET
DTSTART:20241027T010000
END:STANDARD
END:VTIMEZONE
BEGIN:VEVENT
DTSTART;TZID=Europe/Amsterdam:20241114T193000
DTEND;TZID=Europe/Amsterdam:20241114T193000
DTSTAMP:20260420T023624
CREATED:20241007T143527Z
LAST-MODIFIED:20241007T144014Z
UID:10004112-1731612600-1731612600@parochie-sintmaarten.staging.wijzijnmerlin.dev
SUMMARY:Boekenclub: Geloven in een kleine gemeenschap
DESCRIPTION:Leo Fijen\, bekend van radio en tv\, bespreekt zijn boek Geloven in een kleine gemeenschap – Het wonder van Maartensdijk in vijfentwintig verhalen. Een verhaal over kansen in deze tijd. Niet als een succesmodel dat je zo kunt navolgen\, maar wel als een inspiratie voor velen die nog steeds dromen over hun kerk ter plekke. Geadviseerd wordt om het boek van tevoren te lezen. Het is o.a. te koop bij Jongbloed Media. \nDatum: donderdag 14 november 2024\nPlaats: parochiecentrum St. Petrus’ banden\, Rijsenburgselaan 4\, Driebergen-Rijsenburg. \nTijd: 19.30 uur.\nAanmelden: Marian van der Laan\, marianvanderlaan1951@gmail.com
URL:https://parochie-sintmaarten.staging.wijzijnmerlin.dev/event/boekenclub-geloven-in-een-kleine-gemeenschap/
LOCATION:Parochiecentrum St. Petrus’ banden\, Driebergen\, Rijsenburgselaan 4\, Driebergen\, 3972 PS
CATEGORIES:Activiteiten
ATTACH;FMTTYPE=image/jpeg:https://parochie-sintmaarten.staging.wijzijnmerlin.dev/wp-content/uploads/2023/06/boek-book-1283865-pixabay-1-scaled.jpg
END:VEVENT
BEGIN:VEVENT
DTSTART;TZID=Europe/Amsterdam:20241024T200000
DTEND;TZID=Europe/Amsterdam:20241024T200000
DTSTAMP:20260420T023624
CREATED:20241008T200722Z
LAST-MODIFIED:20241008T200722Z
UID:10004129-1729800000-1729800000@parochie-sintmaarten.staging.wijzijnmerlin.dev
SUMMARY:Geloven in een kleine gemeenschap
DESCRIPTION:Auteur en tv-maker Leo Fijen komt 24 oktober naar het parochiecentrum van Driebergen-Rijsenburg (Rijsenburgselaan 4) om vanaf 20.00 uur te vertellen over ‘Geloven in een kleine gemeenschap’. Ook gaat hij in gesprek met parochianen. Hij besteedt aandacht aan de toekomst van kleine gemeenschappen. \nFijen schreef van binnenuit op hoe de kleine kerk van Maartensdijk erin slaagt veel mensen – ook op zondag – aan zich te binden\, er vaak voor het dorp\, de wijk te zijn en ook om nieuwe vrijwilligers te werven. Zijn nieuwe boek ‘Geloven in een kleine gemeenschap’\, dat hierover gaat\, was binnen een maand toe aan een tweede druk. \nGeloven in een kleine gemeenschap: het is de werkelijkheid voor de meeste kerken en locaties op dit moment. Deel zijn van een grote parochie met veel kerken\, af en toe de eucharistie vieren met de priester\, maar het meeste zelf moeten doen met de vrijwilligers die steeds zwaarder belast worden: hoe hou je dat vol als locatie en kerk; wat doe je om nieuwe en jongere vrijwilligers te werven; wanneer slaag je er nog in er voor het dorp\, de wijk\, de buurt te zijn? En waarom komen er steeds minder mensen op zondag naar de kerk? Het zijn vragen die bijna elke kerk heeft. \nDatum: donderdag 24 oktober 2024\nTijd: 20.00 uur\nLocatie: Parochiecentrum St. Petrus’ banden\, Rijsenburgselaan 4\, Driebergen-Rijsenburg
URL:https://parochie-sintmaarten.staging.wijzijnmerlin.dev/event/geloven-in-een-kleine-gemeenschap/
LOCATION:Parochiecentrum St. Petrus’ banden\, Driebergen\, Rijsenburgselaan 4\, Driebergen\, 3972 PS
CATEGORIES:Activiteiten
ATTACH;FMTTYPE=image/png:https://parochie-sintmaarten.staging.wijzijnmerlin.dev/wp-content/uploads/2024/10/Leo-Fijen-kleine-geloofsgemeenschappen-webversie.png
END:VEVENT
BEGIN:VEVENT
DTSTART;TZID=Europe/Amsterdam:20240716T193000
DTEND;TZID=Europe/Amsterdam:20240716T193000
DTSTAMP:20260420T023624
CREATED:20240425T103038Z
LAST-MODIFIED:20240702T100141Z
UID:10004053-1721158200-1721158200@parochie-sintmaarten.staging.wijzijnmerlin.dev
SUMMARY:Gesprek over boek 'De vlieger en de vanger'
DESCRIPTION:Leo Fijen\, bekend van radio en tv\, bespreekt op dinsdag 16 juli het boek ‘De vlieger en de vanger’ van Henri Nouwen. Aan de hand van een aantal vragen\, die voorafgaand aan de avond naar de aanwezigen worden gemaild\, gaat Leo Fijen met ons in gesprek. Het is belangrijk om het tijdschrift van tevoren te lezen. Het is voor € 15\,- verkrijgbaar bij Marian van der Laan\, marianvanderlaan1951@gmail.com\, 06-54902728. \nPlaats: parochiecentrum St. Petrus’ banden\, Rijsenburgselaan 4\, Driebergen-Rijsenburg.\nTijd: 19.30 uur.\nLet op: gewijzigde datum\, aanvankelijk zou deze avond plaatsvinden op woensdag 3 juli. \n 
URL:https://parochie-sintmaarten.staging.wijzijnmerlin.dev/event/gesprek-over-boek-de-vlieger-en-de-vanger/
LOCATION:Parochiecentrum St. Petrus’ banden\, Driebergen\, Rijsenburgselaan 4\, Driebergen\, 3972 PS
CATEGORIES:Activiteiten
ATTACH;FMTTYPE=image/jpeg:https://parochie-sintmaarten.staging.wijzijnmerlin.dev/wp-content/uploads/2023/06/boek-book-1283865-pixabay-1-scaled.jpg
END:VEVENT
BEGIN:VEVENT
DTSTART;TZID=Europe/Amsterdam:20240314T200000
DTEND;TZID=Europe/Amsterdam:20240314T220000
DTSTAMP:20260420T023624
CREATED:20240307T160545Z
LAST-MODIFIED:20240307T161328Z
UID:10004012-1710446400-1710453600@parochie-sintmaarten.staging.wijzijnmerlin.dev
SUMMARY:Uitnodiging gespreksavond 'Voor een synodale kerk'
DESCRIPTION:We gaan in gesprek over de volgende vier thema’s: Verdieping van ons gedoopt-zijn als basis voor ons Kerk-zijn; Vorming in een missionaire Kerk; Deelname aan een verwelkomende Kerk en Vrouwen in het leven en de zending van de Kerk. \nHoe kan onze kerk meer verwelkomend en missionair worden? Daarover ging de eerste zitting van de bisschoppensynode in Rome in oktober jl.\, en daarover zal het later dit jaar ook op de tweede zitting gaan. Maar nu is het woord aan ons. Paus Franciscus heeft de bisschoppen nadrukkelijk gevraagd\, nu weer de gewone gelovigen in de parochies met elkaar in gesprek te laten gaan over hun gelovig aanvoelen van bepaalde urgente gespreksthema’s. Het pastoraal team van de St. Lucasparochie en de St. Maartenparochie organiseert hiervoor twee avonden: op donderdag 14 maart in Driebergen-Rijsenburg en op vrijdag 22 maart in Leusden. \nBijeenkomst donderdag 14 maart Driebergen-Rijsenburg\nWaar:                  Parochiecentrum – Petrus & Pauluszaal\, Rijsenburgselaan 4\nHoe laat:             20.00 uur tot ± 22.00 uur\nO.l.v.:                   Diaken Marcel Sarot \nBijeenkomst vrijdag 22 maart Leusden\nWaar:                  Parochiecentrum ‘De Kom’\, Hamersveldseweg 51\nHoe laat:             20.00 uur tot ± 22.00 uur\nO.l.v.:                   Pastor Johan Rutgers \n\nWat gaan we doen?\nNa een plenaire opening van de avond met verwelkoming en het samen bidden van het synodegebed\, zullen we per gespreksgroep één van de vier thema’s bespreken:\nThema 1: Verdieping van ons gedoopt-zijn als basis voor ons Kerk-zijn\nThema 2: Vorming in een missionaire Kerk\nThema 3: Deelname aan een verwelkomende Kerk\nThema 4: Vrouwen in het leven en de zending van de Kerk \nOpzet van het synodale gesprek\nIedere gespreksgroep wijst zelf aan het begin van het gesprek een gespreksleider en een notulist aan om vervolgens biddend en luisterend het thema te bespreken. De eerste ronde bestaat uit het in stilte nadenken/bidden over het thema (± 7 minuten); vervolgens kan iedereen die wil -kort- delen wat het thema bij hen oproept. Hierna volgt de tweede ronde van stilte en gebed (± 5 minuten)\, gevolgd door de mogelijkheid te reageren op hetgeen door éénieder gezegd is in de vorige ronde of wat je heeft geraakt. In de derde ronde deelt ieder welke inzichten het gesprek heeft opgeleverd. Wat neem je mee naar huis? Waarover wil je verder praten en bidden met anderen? Deze gesprekken zijn niet bedoeld als discussiegroepen; het gaat om vrije en open uitwisseling in een sfeer van gebed en om luisteren naar elkaar. \nOpgave\nIedereen is welkom\, maar met het oog op de catering is het fijn als je je uiterlijk een dag van tevoren opgeeft bij secretariaat@stlucas.nu (bijeenkomst in Leusden) en r.van.den.hoeven@parochie-sintmaarten.nl (bijeenkomst Driebergen-Rijsenburg) o.v.v.: “Gespreksavond Synodale Kerk”.
URL:https://parochie-sintmaarten.staging.wijzijnmerlin.dev/event/uitnodiging-gespreksavond-voor-een-synodale-kerk/
LOCATION:Parochiecentrum St. Petrus’ banden\, Driebergen\, Rijsenburgselaan 4\, Driebergen\, 3972 PS
CATEGORIES:Activiteiten
ATTACH;FMTTYPE=image/png:https://parochie-sintmaarten.staging.wijzijnmerlin.dev/wp-content/uploads/2021/10/logo-synode.png
END:VEVENT
BEGIN:VEVENT
DTSTART;TZID=Europe/Amsterdam:20231130T180000
DTEND;TZID=Europe/Amsterdam:20231130T210000
DTSTAMP:20260420T023624
CREATED:20230717T173035Z
LAST-MODIFIED:20230921T173524Z
UID:10003733-1701367200-1701378000@parochie-sintmaarten.staging.wijzijnmerlin.dev
SUMMARY:Alphacursus
DESCRIPTION:De Alphacursus is een mooie manier om anderen te ontmoeten en met elkaar van gedachten te wisselen over wat jij belangrijk vindt in het leven en in het geloof. Na een lekkere maaltijd vertelt een gastspreker een kort\, inspirerend verhaal\, waar in kleine groepjes over zal worden doorgepraat. \nDe Alphacursus bestaat uit tien bijeenkomsten en een Alphaweekend. De bijeenkomsten vinden wekelijks plaats op donderdagavond plaats van 18.00-21.00 uur in het parochiecentrum van St. Petrus’ banden\, Rijsenburgselaan 4\,  Driebergen. \nHet programma van de Alphacursus vind je hier op onze website. \nMeer informatie en aanmelden: Hennie Schutijser\, 0343- 512223.  \nKosten: vrijwillige bijdrage per avond \nMailen kan ook: alpha.sintpetrusbanden@gmail.com \nAanmelden kan tot 18 september 2023 \nGraag tot ziens bij Alpha!\nTeam Alpha
URL:https://parochie-sintmaarten.staging.wijzijnmerlin.dev/event/alphacursus-3/2023-11-30/
LOCATION:Parochiecentrum St. Petrus’ banden\, Driebergen\, Rijsenburgselaan 4\, Driebergen\, 3972 PS
CATEGORIES:Activiteiten
ATTACH;FMTTYPE=image/jpeg:https://parochie-sintmaarten.staging.wijzijnmerlin.dev/wp-content/uploads/2023/09/Alpha-2023-webversie.jpg
END:VEVENT
BEGIN:VEVENT
DTSTART;TZID=Europe/Amsterdam:20231123T180000
DTEND;TZID=Europe/Amsterdam:20231123T210000
DTSTAMP:20260420T023624
CREATED:20230717T173035Z
LAST-MODIFIED:20230921T173524Z
UID:10003732-1700762400-1700773200@parochie-sintmaarten.staging.wijzijnmerlin.dev
SUMMARY:Alphacursus
DESCRIPTION:De Alphacursus is een mooie manier om anderen te ontmoeten en met elkaar van gedachten te wisselen over wat jij belangrijk vindt in het leven en in het geloof. Na een lekkere maaltijd vertelt een gastspreker een kort\, inspirerend verhaal\, waar in kleine groepjes over zal worden doorgepraat. \nDe Alphacursus bestaat uit tien bijeenkomsten en een Alphaweekend. De bijeenkomsten vinden wekelijks plaats op donderdagavond plaats van 18.00-21.00 uur in het parochiecentrum van St. Petrus’ banden\, Rijsenburgselaan 4\,  Driebergen. \nHet programma van de Alphacursus vind je hier op onze website. \nMeer informatie en aanmelden: Hennie Schutijser\, 0343- 512223.  \nKosten: vrijwillige bijdrage per avond \nMailen kan ook: alpha.sintpetrusbanden@gmail.com \nAanmelden kan tot 18 september 2023 \nGraag tot ziens bij Alpha!\nTeam Alpha
URL:https://parochie-sintmaarten.staging.wijzijnmerlin.dev/event/alphacursus-3/2023-11-23/
LOCATION:Parochiecentrum St. Petrus’ banden\, Driebergen\, Rijsenburgselaan 4\, Driebergen\, 3972 PS
CATEGORIES:Activiteiten
ATTACH;FMTTYPE=image/jpeg:https://parochie-sintmaarten.staging.wijzijnmerlin.dev/wp-content/uploads/2023/09/Alpha-2023-webversie.jpg
END:VEVENT
BEGIN:VEVENT
DTSTART;TZID=Europe/Amsterdam:20231116T180000
DTEND;TZID=Europe/Amsterdam:20231116T210000
DTSTAMP:20260420T023624
CREATED:20230717T173035Z
LAST-MODIFIED:20230921T173524Z
UID:10003731-1700157600-1700168400@parochie-sintmaarten.staging.wijzijnmerlin.dev
SUMMARY:Alphacursus
DESCRIPTION:De Alphacursus is een mooie manier om anderen te ontmoeten en met elkaar van gedachten te wisselen over wat jij belangrijk vindt in het leven en in het geloof. Na een lekkere maaltijd vertelt een gastspreker een kort\, inspirerend verhaal\, waar in kleine groepjes over zal worden doorgepraat. \nDe Alphacursus bestaat uit tien bijeenkomsten en een Alphaweekend. De bijeenkomsten vinden wekelijks plaats op donderdagavond plaats van 18.00-21.00 uur in het parochiecentrum van St. Petrus’ banden\, Rijsenburgselaan 4\,  Driebergen. \nHet programma van de Alphacursus vind je hier op onze website. \nMeer informatie en aanmelden: Hennie Schutijser\, 0343- 512223.  \nKosten: vrijwillige bijdrage per avond \nMailen kan ook: alpha.sintpetrusbanden@gmail.com \nAanmelden kan tot 18 september 2023 \nGraag tot ziens bij Alpha!\nTeam Alpha
URL:https://parochie-sintmaarten.staging.wijzijnmerlin.dev/event/alphacursus-3/2023-11-16/
LOCATION:Parochiecentrum St. Petrus’ banden\, Driebergen\, Rijsenburgselaan 4\, Driebergen\, 3972 PS
CATEGORIES:Activiteiten
ATTACH;FMTTYPE=image/jpeg:https://parochie-sintmaarten.staging.wijzijnmerlin.dev/wp-content/uploads/2023/09/Alpha-2023-webversie.jpg
END:VEVENT
BEGIN:VEVENT
DTSTART;TZID=Europe/Amsterdam:20231109T180000
DTEND;TZID=Europe/Amsterdam:20231109T210000
DTSTAMP:20260420T023625
CREATED:20230717T173035Z
LAST-MODIFIED:20230921T173524Z
UID:10003730-1699552800-1699563600@parochie-sintmaarten.staging.wijzijnmerlin.dev
SUMMARY:Alphacursus
DESCRIPTION:De Alphacursus is een mooie manier om anderen te ontmoeten en met elkaar van gedachten te wisselen over wat jij belangrijk vindt in het leven en in het geloof. Na een lekkere maaltijd vertelt een gastspreker een kort\, inspirerend verhaal\, waar in kleine groepjes over zal worden doorgepraat. \nDe Alphacursus bestaat uit tien bijeenkomsten en een Alphaweekend. De bijeenkomsten vinden wekelijks plaats op donderdagavond plaats van 18.00-21.00 uur in het parochiecentrum van St. Petrus’ banden\, Rijsenburgselaan 4\,  Driebergen. \nHet programma van de Alphacursus vind je hier op onze website. \nMeer informatie en aanmelden: Hennie Schutijser\, 0343- 512223.  \nKosten: vrijwillige bijdrage per avond \nMailen kan ook: alpha.sintpetrusbanden@gmail.com \nAanmelden kan tot 18 september 2023 \nGraag tot ziens bij Alpha!\nTeam Alpha
URL:https://parochie-sintmaarten.staging.wijzijnmerlin.dev/event/alphacursus-3/2023-11-09/
LOCATION:Parochiecentrum St. Petrus’ banden\, Driebergen\, Rijsenburgselaan 4\, Driebergen\, 3972 PS
CATEGORIES:Activiteiten
ATTACH;FMTTYPE=image/jpeg:https://parochie-sintmaarten.staging.wijzijnmerlin.dev/wp-content/uploads/2023/09/Alpha-2023-webversie.jpg
END:VEVENT
BEGIN:VEVENT
DTSTART;TZID=Europe/Amsterdam:20231103T193000
DTEND;TZID=Europe/Amsterdam:20231103T203000
DTSTAMP:20260420T023625
CREATED:20230901T145451Z
LAST-MODIFIED:20230901T145534Z
UID:10003740-1699039800-1699043400@parochie-sintmaarten.staging.wijzijnmerlin.dev
SUMMARY:Muzikale avond rondom thema geloof\, hoop en liefde
DESCRIPTION:Het duo Magnificat verzorgt een spirituele\, muzikale avond rondom het thema: geloof\, hoop en liefde. Het duo is in deze bijzondere kerk al eerder te horen geweest tijdens de Maria aanbidding en het H. Geestweekend. Dit keer zijn zij een uur lang te horen met zowel verstilde meditatieve liederen als meer dynamische muziek. Ook zullen zij eigen werk ten gehore brengen. Pastoor Harrold Zemann zal het muzikale gedeelte aanvullen met passende teksten. Zo belooft deze avond een afwisselend geheel te worden van het gesproken en gezongen woord\, waarbij de toehoorders tevens bij een enkel lied zullen worden aangespoord om mee te zingen. \nMagnificat bestaat uit Annamaria Wesseling (zang & harmonium) en Caspar Becx (piano\, saxofoon & zang).\nLaat u vooral inspireren door deze prachtige muziek! \nDatum: vrijdag 3 november 2023\n\nLocatie: St. Petrus’ bandenkerk\, Kerkplein 5\, Driebergen-Rijsenburg\n\nAanvang: 19.30 uur
URL:https://parochie-sintmaarten.staging.wijzijnmerlin.dev/event/muzikale-avond-rondom-thema-geloof-hoop-en-liefde/
LOCATION:Parochiecentrum St. Petrus’ banden\, Driebergen\, Rijsenburgselaan 4\, Driebergen\, 3972 PS
CATEGORIES:Activiteiten,Muziek
ATTACH;FMTTYPE=image/jpeg:https://parochie-sintmaarten.staging.wijzijnmerlin.dev/wp-content/uploads/2022/08/muziek-background-g1edb87e75_1920-pixabay.jpg
END:VEVENT
BEGIN:VEVENT
DTSTART;TZID=Europe/Amsterdam:20231026T180000
DTEND;TZID=Europe/Amsterdam:20231026T210000
DTSTAMP:20260420T023625
CREATED:20230717T173035Z
LAST-MODIFIED:20230921T173524Z
UID:10003729-1698343200-1698354000@parochie-sintmaarten.staging.wijzijnmerlin.dev
SUMMARY:Alphacursus
DESCRIPTION:De Alphacursus is een mooie manier om anderen te ontmoeten en met elkaar van gedachten te wisselen over wat jij belangrijk vindt in het leven en in het geloof. Na een lekkere maaltijd vertelt een gastspreker een kort\, inspirerend verhaal\, waar in kleine groepjes over zal worden doorgepraat. \nDe Alphacursus bestaat uit tien bijeenkomsten en een Alphaweekend. De bijeenkomsten vinden wekelijks plaats op donderdagavond plaats van 18.00-21.00 uur in het parochiecentrum van St. Petrus’ banden\, Rijsenburgselaan 4\,  Driebergen. \nHet programma van de Alphacursus vind je hier op onze website. \nMeer informatie en aanmelden: Hennie Schutijser\, 0343- 512223.  \nKosten: vrijwillige bijdrage per avond \nMailen kan ook: alpha.sintpetrusbanden@gmail.com \nAanmelden kan tot 18 september 2023 \nGraag tot ziens bij Alpha!\nTeam Alpha
URL:https://parochie-sintmaarten.staging.wijzijnmerlin.dev/event/alphacursus-3/2023-10-26/
LOCATION:Parochiecentrum St. Petrus’ banden\, Driebergen\, Rijsenburgselaan 4\, Driebergen\, 3972 PS
CATEGORIES:Activiteiten
ATTACH;FMTTYPE=image/jpeg:https://parochie-sintmaarten.staging.wijzijnmerlin.dev/wp-content/uploads/2023/09/Alpha-2023-webversie.jpg
END:VEVENT
BEGIN:VEVENT
DTSTART;TZID=Europe/Amsterdam:20231021T093000
DTEND;TZID=Europe/Amsterdam:20231021T170000
DTSTAMP:20260420T023625
CREATED:20230717T173035Z
LAST-MODIFIED:20230921T173524Z
UID:10003728-1697880600-1697907600@parochie-sintmaarten.staging.wijzijnmerlin.dev
SUMMARY:Alphacursus
DESCRIPTION:De Alphacursus is een mooie manier om anderen te ontmoeten en met elkaar van gedachten te wisselen over wat jij belangrijk vindt in het leven en in het geloof. Na een lekkere maaltijd vertelt een gastspreker een kort\, inspirerend verhaal\, waar in kleine groepjes over zal worden doorgepraat. \nDe Alphacursus bestaat uit tien bijeenkomsten en een Alphaweekend. De bijeenkomsten vinden wekelijks plaats op donderdagavond plaats van 18.00-21.00 uur in het parochiecentrum van St. Petrus’ banden\, Rijsenburgselaan 4\,  Driebergen. \nHet programma van de Alphacursus vind je hier op onze website. \nMeer informatie en aanmelden: Hennie Schutijser\, 0343- 512223.  \nKosten: vrijwillige bijdrage per avond \nMailen kan ook: alpha.sintpetrusbanden@gmail.com \nAanmelden kan tot 18 september 2023 \nGraag tot ziens bij Alpha!\nTeam Alpha
URL:https://parochie-sintmaarten.staging.wijzijnmerlin.dev/event/alphacursus-3/2023-10-21/
LOCATION:Parochiecentrum St. Petrus’ banden\, Driebergen\, Rijsenburgselaan 4\, Driebergen\, 3972 PS
CATEGORIES:Activiteiten
ATTACH;FMTTYPE=image/jpeg:https://parochie-sintmaarten.staging.wijzijnmerlin.dev/wp-content/uploads/2023/09/Alpha-2023-webversie.jpg
END:VEVENT
BEGIN:VEVENT
DTSTART;TZID=Europe/Amsterdam:20231019T180000
DTEND;TZID=Europe/Amsterdam:20231019T210000
DTSTAMP:20260420T023625
CREATED:20230717T173035Z
LAST-MODIFIED:20230921T173524Z
UID:10003727-1697738400-1697749200@parochie-sintmaarten.staging.wijzijnmerlin.dev
SUMMARY:Alphacursus
DESCRIPTION:De Alphacursus is een mooie manier om anderen te ontmoeten en met elkaar van gedachten te wisselen over wat jij belangrijk vindt in het leven en in het geloof. Na een lekkere maaltijd vertelt een gastspreker een kort\, inspirerend verhaal\, waar in kleine groepjes over zal worden doorgepraat. \nDe Alphacursus bestaat uit tien bijeenkomsten en een Alphaweekend. De bijeenkomsten vinden wekelijks plaats op donderdagavond plaats van 18.00-21.00 uur in het parochiecentrum van St. Petrus’ banden\, Rijsenburgselaan 4\,  Driebergen. \nHet programma van de Alphacursus vind je hier op onze website. \nMeer informatie en aanmelden: Hennie Schutijser\, 0343- 512223.  \nKosten: vrijwillige bijdrage per avond \nMailen kan ook: alpha.sintpetrusbanden@gmail.com \nAanmelden kan tot 18 september 2023 \nGraag tot ziens bij Alpha!\nTeam Alpha
URL:https://parochie-sintmaarten.staging.wijzijnmerlin.dev/event/alphacursus-3/2023-10-19/
LOCATION:Parochiecentrum St. Petrus’ banden\, Driebergen\, Rijsenburgselaan 4\, Driebergen\, 3972 PS
CATEGORIES:Activiteiten
ATTACH;FMTTYPE=image/jpeg:https://parochie-sintmaarten.staging.wijzijnmerlin.dev/wp-content/uploads/2023/09/Alpha-2023-webversie.jpg
END:VEVENT
BEGIN:VEVENT
DTSTART;TZID=Europe/Amsterdam:20231012T180000
DTEND;TZID=Europe/Amsterdam:20231012T210000
DTSTAMP:20260420T023625
CREATED:20230717T173035Z
LAST-MODIFIED:20230921T173524Z
UID:10003726-1697133600-1697144400@parochie-sintmaarten.staging.wijzijnmerlin.dev
SUMMARY:Alphacursus
DESCRIPTION:De Alphacursus is een mooie manier om anderen te ontmoeten en met elkaar van gedachten te wisselen over wat jij belangrijk vindt in het leven en in het geloof. Na een lekkere maaltijd vertelt een gastspreker een kort\, inspirerend verhaal\, waar in kleine groepjes over zal worden doorgepraat. \nDe Alphacursus bestaat uit tien bijeenkomsten en een Alphaweekend. De bijeenkomsten vinden wekelijks plaats op donderdagavond plaats van 18.00-21.00 uur in het parochiecentrum van St. Petrus’ banden\, Rijsenburgselaan 4\,  Driebergen. \nHet programma van de Alphacursus vind je hier op onze website. \nMeer informatie en aanmelden: Hennie Schutijser\, 0343- 512223.  \nKosten: vrijwillige bijdrage per avond \nMailen kan ook: alpha.sintpetrusbanden@gmail.com \nAanmelden kan tot 18 september 2023 \nGraag tot ziens bij Alpha!\nTeam Alpha
URL:https://parochie-sintmaarten.staging.wijzijnmerlin.dev/event/alphacursus-3/2023-10-12/
LOCATION:Parochiecentrum St. Petrus’ banden\, Driebergen\, Rijsenburgselaan 4\, Driebergen\, 3972 PS
CATEGORIES:Activiteiten
ATTACH;FMTTYPE=image/jpeg:https://parochie-sintmaarten.staging.wijzijnmerlin.dev/wp-content/uploads/2023/09/Alpha-2023-webversie.jpg
END:VEVENT
BEGIN:VEVENT
DTSTART;TZID=Europe/Amsterdam:20231005T180000
DTEND;TZID=Europe/Amsterdam:20231005T210000
DTSTAMP:20260420T023625
CREATED:20230717T173035Z
LAST-MODIFIED:20230921T173524Z
UID:10003725-1696528800-1696539600@parochie-sintmaarten.staging.wijzijnmerlin.dev
SUMMARY:Alphacursus
DESCRIPTION:De Alphacursus is een mooie manier om anderen te ontmoeten en met elkaar van gedachten te wisselen over wat jij belangrijk vindt in het leven en in het geloof. Na een lekkere maaltijd vertelt een gastspreker een kort\, inspirerend verhaal\, waar in kleine groepjes over zal worden doorgepraat. \nDe Alphacursus bestaat uit tien bijeenkomsten en een Alphaweekend. De bijeenkomsten vinden wekelijks plaats op donderdagavond plaats van 18.00-21.00 uur in het parochiecentrum van St. Petrus’ banden\, Rijsenburgselaan 4\,  Driebergen. \nHet programma van de Alphacursus vind je hier op onze website. \nMeer informatie en aanmelden: Hennie Schutijser\, 0343- 512223.  \nKosten: vrijwillige bijdrage per avond \nMailen kan ook: alpha.sintpetrusbanden@gmail.com \nAanmelden kan tot 18 september 2023 \nGraag tot ziens bij Alpha!\nTeam Alpha
URL:https://parochie-sintmaarten.staging.wijzijnmerlin.dev/event/alphacursus-3/2023-10-05/
LOCATION:Parochiecentrum St. Petrus’ banden\, Driebergen\, Rijsenburgselaan 4\, Driebergen\, 3972 PS
CATEGORIES:Activiteiten
ATTACH;FMTTYPE=image/jpeg:https://parochie-sintmaarten.staging.wijzijnmerlin.dev/wp-content/uploads/2023/09/Alpha-2023-webversie.jpg
END:VEVENT
BEGIN:VEVENT
DTSTART;TZID=Europe/Amsterdam:20230928T180000
DTEND;TZID=Europe/Amsterdam:20230928T210000
DTSTAMP:20260420T023625
CREATED:20230717T173035Z
LAST-MODIFIED:20230921T173524Z
UID:10003724-1695924000-1695934800@parochie-sintmaarten.staging.wijzijnmerlin.dev
SUMMARY:Alphacursus
DESCRIPTION:De Alphacursus is een mooie manier om anderen te ontmoeten en met elkaar van gedachten te wisselen over wat jij belangrijk vindt in het leven en in het geloof. Na een lekkere maaltijd vertelt een gastspreker een kort\, inspirerend verhaal\, waar in kleine groepjes over zal worden doorgepraat. \nDe Alphacursus bestaat uit tien bijeenkomsten en een Alphaweekend. De bijeenkomsten vinden wekelijks plaats op donderdagavond plaats van 18.00-21.00 uur in het parochiecentrum van St. Petrus’ banden\, Rijsenburgselaan 4\,  Driebergen. \nHet programma van de Alphacursus vind je hier op onze website. \nMeer informatie en aanmelden: Hennie Schutijser\, 0343- 512223.  \nKosten: vrijwillige bijdrage per avond \nMailen kan ook: alpha.sintpetrusbanden@gmail.com \nAanmelden kan tot 18 september 2023 \nGraag tot ziens bij Alpha!\nTeam Alpha
URL:https://parochie-sintmaarten.staging.wijzijnmerlin.dev/event/alphacursus-3/2023-09-28/
LOCATION:Parochiecentrum St. Petrus’ banden\, Driebergen\, Rijsenburgselaan 4\, Driebergen\, 3972 PS
CATEGORIES:Activiteiten
ATTACH;FMTTYPE=image/jpeg:https://parochie-sintmaarten.staging.wijzijnmerlin.dev/wp-content/uploads/2023/09/Alpha-2023-webversie.jpg
END:VEVENT
BEGIN:VEVENT
DTSTART;TZID=Europe/Amsterdam:20230921T180000
DTEND;TZID=Europe/Amsterdam:20230921T210000
DTSTAMP:20260420T023625
CREATED:20230717T173035Z
LAST-MODIFIED:20230921T173524Z
UID:10003723-1695319200-1695330000@parochie-sintmaarten.staging.wijzijnmerlin.dev
SUMMARY:Alphacursus
DESCRIPTION:De Alphacursus is een mooie manier om anderen te ontmoeten en met elkaar van gedachten te wisselen over wat jij belangrijk vindt in het leven en in het geloof. Na een lekkere maaltijd vertelt een gastspreker een kort\, inspirerend verhaal\, waar in kleine groepjes over zal worden doorgepraat. \nDe Alphacursus bestaat uit tien bijeenkomsten en een Alphaweekend. De bijeenkomsten vinden wekelijks plaats op donderdagavond plaats van 18.00-21.00 uur in het parochiecentrum van St. Petrus’ banden\, Rijsenburgselaan 4\,  Driebergen. \nHet programma van de Alphacursus vind je hier op onze website. \nMeer informatie en aanmelden: Hennie Schutijser\, 0343- 512223.  \nKosten: vrijwillige bijdrage per avond \nMailen kan ook: alpha.sintpetrusbanden@gmail.com \nAanmelden kan tot 18 september 2023 \nGraag tot ziens bij Alpha!\nTeam Alpha
URL:https://parochie-sintmaarten.staging.wijzijnmerlin.dev/event/alphacursus-3/2023-09-21/
LOCATION:Parochiecentrum St. Petrus’ banden\, Driebergen\, Rijsenburgselaan 4\, Driebergen\, 3972 PS
CATEGORIES:Activiteiten
ATTACH;FMTTYPE=image/jpeg:https://parochie-sintmaarten.staging.wijzijnmerlin.dev/wp-content/uploads/2023/09/Alpha-2023-webversie.jpg
END:VEVENT
BEGIN:VEVENT
DTSTART;TZID=Europe/Amsterdam:20230920T193000
DTEND;TZID=Europe/Amsterdam:20230920T213000
DTSTAMP:20260420T023625
CREATED:20230717T142530Z
LAST-MODIFIED:20230717T170034Z
UID:10003720-1695238200-1695245400@parochie-sintmaarten.staging.wijzijnmerlin.dev
SUMMARY:Gesprek over boek 'De laatste brieven van H. Titus Brandsma'
DESCRIPTION:Mediapersoonlijkheid Leo Fijen bespreekt op woensdag 20 september het boek: ‘De laatste brieven van H. Titus Brandsma. Reis naar de stilte. 19 januari – 26 juli 1942′. \nAan de hand van een aantal vragen\, die voorafgaand aan de avond naar de aanwezigen worden gemaild\, gaat Leo Fijen met ons in gesprek. Het is belangrijk om het boek van tevoren te lezen. Het boek is voor € 10\,- verkrijgbaar bij Hennie Schutijser\, 0343 512223 of hennie@schutijser.nl. \nDatum: donderdag 20 september 2023. \nPlaats: parochiecentrum St. Petrus’ banden\, Rijsenburgselaan 4\, Driebergen. \nTijd: 19.30 uur.
URL:https://parochie-sintmaarten.staging.wijzijnmerlin.dev/event/gesprek-over-boek-de-laatste-brieven-van-h-titus-brandsma/
LOCATION:Parochiecentrum St. Petrus’ banden\, Driebergen\, Rijsenburgselaan 4\, Driebergen\, 3972 PS
CATEGORIES:Activiteiten
ATTACH;FMTTYPE=image/jpeg:https://parochie-sintmaarten.staging.wijzijnmerlin.dev/wp-content/uploads/2023/06/boek-book-1283865-pixabay-1-scaled.jpg
END:VEVENT
END:VCALENDAR