BEGIN:VCALENDAR
VERSION:2.0
PRODID:-//R.K. Parochie Sint Maarten - ECPv6.10.2//NONSGML v1.0//EN
CALSCALE:GREGORIAN
METHOD:PUBLISH
X-WR-CALNAME:R.K. Parochie Sint Maarten
X-ORIGINAL-URL:https://parochie-sintmaarten.staging.wijzijnmerlin.dev
X-WR-CALDESC:Evenementen voor R.K. Parochie Sint Maarten
REFRESH-INTERVAL;VALUE=DURATION:PT1H
X-Robots-Tag:noindex
X-PUBLISHED-TTL:PT1H
BEGIN:VTIMEZONE
TZID:Europe/Amsterdam
BEGIN:DAYLIGHT
TZOFFSETFROM:+0100
TZOFFSETTO:+0200
TZNAME:CEST
DTSTART:20240331T010000
END:DAYLIGHT
BEGIN:STANDARD
TZOFFSETFROM:+0200
TZOFFSETTO:+0100
TZNAME:CET
DTSTART:20241027T010000
END:STANDARD
BEGIN:DAYLIGHT
TZOFFSETFROM:+0100
TZOFFSETTO:+0200
TZNAME:CEST
DTSTART:20250330T010000
END:DAYLIGHT
BEGIN:STANDARD
TZOFFSETFROM:+0200
TZOFFSETTO:+0100
TZNAME:CET
DTSTART:20251026T010000
END:STANDARD
END:VTIMEZONE
BEGIN:VEVENT
DTSTART;TZID=Europe/Amsterdam:20250309T093000
DTEND;TZID=Europe/Amsterdam:20250309T103000
DTSTAMP:20260419T222611
CREATED:20241125T093336Z
LAST-MODIFIED:20241125T093336Z
UID:10004162-1741512600-1741516200@parochie-sintmaarten.staging.wijzijnmerlin.dev
SUMMARY:Kleuterkerk
DESCRIPTION:Kleuterkerk is een viering van een half uurtje voor alle kinderen t/m 6 jaar. Tijdens kleuterkerk lezen we een mooi verhaal\, passend bij het thema van die zondag. We bidden met elkaar\, delen wat lekkers en natuurlijk is er ook weer tijd om iets leuks te knutselen. Iedereen is elke  tweede zondag van de maand van harte welkom! \nSinds kort hebben we ook een Kleuterkerk-app waarin we je op de hoogte kunnen houden van alle informatie over Kleuterkerk. Mail je gegevens naar annekarien.damen@gmail.com en ik voeg je toe aan onze app. \nMeer info\, zoals thema en locatie: www.parochie-sintmaarten.nl/kleuterkerk
URL:https://parochie-sintmaarten.staging.wijzijnmerlin.dev/event/kleuterkerk-5/
LOCATION:Pastorie Sint Martinus\, Doorn\, Dorpsstraat 15\, Doorn\, 3941 JK\, Nederland
CATEGORIES:Activiteiten,Activiteiten jong
ATTACH;FMTTYPE=image/jpeg:https://parochie-sintmaarten.staging.wijzijnmerlin.dev/wp-content/uploads/2022/09/kleuterkerk-websiteformaat.jpg
GEO:52.0344757;5.34253
X-APPLE-STRUCTURED-LOCATION;VALUE=URI;X-ADDRESS=Pastorie Sint Martinus Doorn Dorpsstraat 15 Doorn 3941 JK Nederland;X-APPLE-RADIUS=500;X-TITLE=Dorpsstraat 15:geo:5.34253,52.0344757
END:VEVENT
BEGIN:VEVENT
DTSTART;TZID=Europe/Amsterdam:20250209T093000
DTEND;TZID=Europe/Amsterdam:20250209T103000
DTSTAMP:20260419T222611
CREATED:20241125T093237Z
LAST-MODIFIED:20241125T093237Z
UID:10004161-1739093400-1739097000@parochie-sintmaarten.staging.wijzijnmerlin.dev
SUMMARY:Kleuterkerk
DESCRIPTION:Kleuterkerk is een viering van een half uurtje voor alle kinderen t/m 6 jaar. Tijdens kleuterkerk lezen we een mooi verhaal\, passend bij het thema van die zondag. We bidden met elkaar\, delen wat lekkers en natuurlijk is er ook weer tijd om iets leuks te knutselen. Iedereen is elke  tweede zondag van de maand van harte welkom! \nSinds kort hebben we ook een Kleuterkerk-app waarin we je op de hoogte kunnen houden van alle informatie over Kleuterkerk. Mail je gegevens naar annekarien.damen@gmail.com en ik voeg je toe aan onze app. \nMeer info\, zoals thema en locatie: www.parochie-sintmaarten.nl/kleuterkerk
URL:https://parochie-sintmaarten.staging.wijzijnmerlin.dev/event/kleuterkerk-4/
LOCATION:Pastorie Sint Martinus\, Doorn\, Dorpsstraat 15\, Doorn\, 3941 JK\, Nederland
CATEGORIES:Activiteiten,Activiteiten jong
ATTACH;FMTTYPE=image/jpeg:https://parochie-sintmaarten.staging.wijzijnmerlin.dev/wp-content/uploads/2022/09/kleuterkerk-websiteformaat.jpg
GEO:52.0344757;5.34253
X-APPLE-STRUCTURED-LOCATION;VALUE=URI;X-ADDRESS=Pastorie Sint Martinus Doorn Dorpsstraat 15 Doorn 3941 JK Nederland;X-APPLE-RADIUS=500;X-TITLE=Dorpsstraat 15:geo:5.34253,52.0344757
END:VEVENT
BEGIN:VEVENT
DTSTART;TZID=Europe/Amsterdam:20250112T093000
DTEND;TZID=Europe/Amsterdam:20250112T103000
DTSTAMP:20260419T222611
CREATED:20241125T093121Z
LAST-MODIFIED:20241125T093121Z
UID:10004160-1736674200-1736677800@parochie-sintmaarten.staging.wijzijnmerlin.dev
SUMMARY:Kleuterkerk
DESCRIPTION:Kleuterkerk is een viering van een half uurtje voor alle kinderen t/m 6 jaar. Tijdens kleuterkerk lezen we een mooi verhaal\, passend bij het thema van die zondag. We bidden met elkaar\, delen wat lekkers en natuurlijk is er ook weer tijd om iets leuks te knutselen. Iedereen is elke  tweede zondag van de maand van harte welkom! \nSinds kort hebben we ook een Kleuterkerk-app waarin we je op de hoogte kunnen houden van alle informatie over Kleuterkerk. Mail je gegevens naar annekarien.damen@gmail.com en ik voeg je toe aan onze app. \nMeer info\, zoals thema en locatie: www.parochie-sintmaarten.nl/kleuterkerk
URL:https://parochie-sintmaarten.staging.wijzijnmerlin.dev/event/kleuterkerk-3/
LOCATION:Pastorie Sint Martinus\, Doorn\, Dorpsstraat 15\, Doorn\, 3941 JK\, Nederland
CATEGORIES:Activiteiten,Activiteiten jong
ATTACH;FMTTYPE=image/jpeg:https://parochie-sintmaarten.staging.wijzijnmerlin.dev/wp-content/uploads/2022/09/kleuterkerk-websiteformaat.jpg
GEO:52.0344757;5.34253
X-APPLE-STRUCTURED-LOCATION;VALUE=URI;X-ADDRESS=Pastorie Sint Martinus Doorn Dorpsstraat 15 Doorn 3941 JK Nederland;X-APPLE-RADIUS=500;X-TITLE=Dorpsstraat 15:geo:5.34253,52.0344757
END:VEVENT
BEGIN:VEVENT
DTSTART;TZID=Europe/Amsterdam:20241208T093000
DTEND;TZID=Europe/Amsterdam:20241208T103000
DTSTAMP:20260419T222611
CREATED:20241125T093012Z
LAST-MODIFIED:20241125T093012Z
UID:10004159-1733650200-1733653800@parochie-sintmaarten.staging.wijzijnmerlin.dev
SUMMARY:Kleuterkerk
DESCRIPTION:Kleuterkerk is een viering van een half uurtje voor alle kinderen t/m 6 jaar. Tijdens kleuterkerk lezen we een mooi verhaal\, passend bij het thema van die zondag. We bidden met elkaar\, delen wat lekkers en natuurlijk is er ook weer tijd om iets leuks te knutselen. Iedereen is elke  tweede zondag van de maand van harte welkom! \nSinds kort hebben we ook een Kleuterkerk-app waarin we je op de hoogte kunnen houden van alle informatie over Kleuterkerk. Mail je gegevens naar annekarien.damen@gmail.com en ik voeg je toe aan onze app. \nMeer info\, zoals thema en locatie: www.parochie-sintmaarten.nl/kleuterkerk
URL:https://parochie-sintmaarten.staging.wijzijnmerlin.dev/event/kleuterkerk-2/
LOCATION:Pastorie Sint Martinus\, Doorn\, Dorpsstraat 15\, Doorn\, 3941 JK\, Nederland
CATEGORIES:Activiteiten,Activiteiten jong
ATTACH;FMTTYPE=image/jpeg:https://parochie-sintmaarten.staging.wijzijnmerlin.dev/wp-content/uploads/2022/09/kleuterkerk-websiteformaat.jpg
GEO:52.0344757;5.34253
X-APPLE-STRUCTURED-LOCATION;VALUE=URI;X-ADDRESS=Pastorie Sint Martinus Doorn Dorpsstraat 15 Doorn 3941 JK Nederland;X-APPLE-RADIUS=500;X-TITLE=Dorpsstraat 15:geo:5.34253,52.0344757
END:VEVENT
END:VCALENDAR