BEGIN:VCALENDAR
VERSION:2.0
PRODID:-//R.K. Parochie Sint Maarten - ECPv6.10.2//NONSGML v1.0//EN
CALSCALE:GREGORIAN
METHOD:PUBLISH
X-WR-CALNAME:R.K. Parochie Sint Maarten
X-ORIGINAL-URL:https://parochie-sintmaarten.staging.wijzijnmerlin.dev
X-WR-CALDESC:Evenementen voor R.K. Parochie Sint Maarten
REFRESH-INTERVAL;VALUE=DURATION:PT1H
X-Robots-Tag:noindex
X-PUBLISHED-TTL:PT1H
BEGIN:VTIMEZONE
TZID:Europe/Amsterdam
BEGIN:DAYLIGHT
TZOFFSETFROM:+0100
TZOFFSETTO:+0200
TZNAME:CEST
DTSTART:20240331T010000
END:DAYLIGHT
BEGIN:STANDARD
TZOFFSETFROM:+0200
TZOFFSETTO:+0100
TZNAME:CET
DTSTART:20241027T010000
END:STANDARD
END:VTIMEZONE
BEGIN:VEVENT
DTSTART;TZID=Europe/Amsterdam:20240926T193000
DTEND;TZID=Europe/Amsterdam:20240926T213000
DTSTAMP:20260420T064349
CREATED:20240806T180906Z
LAST-MODIFIED:20240806T180906Z
UID:10004097-1727379000-1727386200@parochie-sintmaarten.staging.wijzijnmerlin.dev
SUMMARY:Gesprek over boekje 'Onze Vader'
DESCRIPTION:Leo Fijen\, bekend van radio en tv\, bespreekt op donderdag 26 september het boekje ‘Onze Vader’. Ook zal ‘De vlieger en de vanger’ van Henri Nouwen verder besproken worden. Aan de hand van een aantal vragen\, die voorafgaand aan de avond naar de aanwezigen worden gemaild\, gaat Leo Fijen met ons in gesprek. Het is belangrijk om de boeken van tevoren te lezen. Het boekje ‘Onze Vader’ is\, zolang de voorraad strekt\, af te halen bij José Keijzer\, jcekeijzer@gmail.com\, 06-37616056. Het boek ‘De vlieger en de vanger’ is verkrijgbaar bij Adveniat. \n  \n 
URL:https://parochie-sintmaarten.staging.wijzijnmerlin.dev/event/gesprek-over-boekje-onze-vader/
LOCATION:Petrus- en Pauluszaal\, Driebergen\, Rijsenburgselaan 4\, Driebergen\, 3972 EJ\, Nederland
CATEGORIES:Activiteiten
ATTACH;FMTTYPE=image/jpeg:https://parochie-sintmaarten.staging.wijzijnmerlin.dev/wp-content/uploads/2023/06/boek-book-1283865-pixabay-1-scaled.jpg
GEO:52.054944;5.2749061
X-APPLE-STRUCTURED-LOCATION;VALUE=URI;X-ADDRESS=Petrus- en Pauluszaal Driebergen Rijsenburgselaan 4 Driebergen 3972 EJ Nederland;X-APPLE-RADIUS=500;X-TITLE=Rijsenburgselaan 4:geo:5.2749061,52.054944
END:VEVENT
BEGIN:VEVENT
DTSTART;TZID=Europe/Amsterdam:20240211T150000
DTEND;TZID=Europe/Amsterdam:20240211T170000
DTSTAMP:20260420T064349
CREATED:20231116T155038Z
LAST-MODIFIED:20231116T155450Z
UID:10003884-1707663600-1707670800@parochie-sintmaarten.staging.wijzijnmerlin.dev
SUMMARY:Challenge Rummikub: wie verslaat pastoor Zemann?
DESCRIPTION:Pastoor Zemann vertelt graag over zijn grote passie voor Rummikub\, wat hij volgens eigen zeggen altijd wint. Graag gaan wij daarom deze uitdaging aan\, op zondag 11 februari 2024. Tijd: 15.00 tot 17.00 uur. Locatie: parochiecentrum St. Petrus’ banden\, Rijsenburgselaan 4\, Driebergen-Rijsenburg. Opgeven bij: marianvanderlaan1951@gmail.com. Let op: Neem uw eigen Rummikubspel mee.
URL:https://parochie-sintmaarten.staging.wijzijnmerlin.dev/event/challenge-rummikub-wie-verslaat-pastoor-zemann/
LOCATION:Petrus- en Pauluszaal\, Driebergen\, Rijsenburgselaan 4\, Driebergen\, 3972 EJ\, Nederland
CATEGORIES:Activiteiten
ATTACH;FMTTYPE=image/jpeg:https://parochie-sintmaarten.staging.wijzijnmerlin.dev/wp-content/uploads/2023/11/rummikub-foto-R.-van-den-Hoeven-scaled.jpg
GEO:52.054944;5.2749061
X-APPLE-STRUCTURED-LOCATION;VALUE=URI;X-ADDRESS=Petrus- en Pauluszaal Driebergen Rijsenburgselaan 4 Driebergen 3972 EJ Nederland;X-APPLE-RADIUS=500;X-TITLE=Rijsenburgselaan 4:geo:5.2749061,52.054944
END:VEVENT
BEGIN:VEVENT
DTSTART;TZID=Europe/Amsterdam:20240110T193000
DTEND;TZID=Europe/Amsterdam:20240110T193000
DTSTAMP:20260420T064349
CREATED:20231013T183015Z
LAST-MODIFIED:20231013T183015Z
UID:10003847-1704915000-1704915000@parochie-sintmaarten.staging.wijzijnmerlin.dev
SUMMARY:Gesprek over tijdschrift 'Klooster'
DESCRIPTION:Leo Fijen\, bekend van radio en tv\, bespreekt op woensdag 10 januari het tijdschrift ‘Klooster’\, met als thema ‘bronnen’. \nAan de hand van een aantal vragen\, die voorafgaand aan de avond naar de aanwezigen worden gemaild\, gaat Leo Fijen met ons in gesprek. Het is belangrijk om het tijdschrift van tevoren te lezen. Het is voor € 5\,- verkrijgbaar bij Hennie Schutijser\, 0343-512223 of hennie@schutijser.nl. \nDatum: woensdag 10 januari 2024. \nPlaats: parochiecentrum St. Petrus’ banden\, Rijsenburgselaan 4\, Driebergen. \nTijd: 19.30 uur. \n 
URL:https://parochie-sintmaarten.staging.wijzijnmerlin.dev/event/gesprek-over-tijdschrift-klooster/
LOCATION:Petrus- en Pauluszaal\, Driebergen\, Rijsenburgselaan 4\, Driebergen\, 3972 EJ\, Nederland
CATEGORIES:Activiteiten
ATTACH;FMTTYPE=image/jpeg:https://parochie-sintmaarten.staging.wijzijnmerlin.dev/wp-content/uploads/2023/10/tijdschrift-magazine-806073-kconcha-via-Pixabay-1.jpg
GEO:52.054944;5.2749061
X-APPLE-STRUCTURED-LOCATION;VALUE=URI;X-ADDRESS=Petrus- en Pauluszaal Driebergen Rijsenburgselaan 4 Driebergen 3972 EJ Nederland;X-APPLE-RADIUS=500;X-TITLE=Rijsenburgselaan 4:geo:5.2749061,52.054944
END:VEVENT
END:VCALENDAR