BEGIN:VCALENDAR
VERSION:2.0
PRODID:-//R.K. Parochie Sint Maarten - ECPv6.10.2//NONSGML v1.0//EN
CALSCALE:GREGORIAN
METHOD:PUBLISH
X-ORIGINAL-URL:https://parochie-sintmaarten.staging.wijzijnmerlin.dev
X-WR-CALDESC:Evenementen voor R.K. Parochie Sint Maarten
REFRESH-INTERVAL;VALUE=DURATION:PT1H
X-Robots-Tag:noindex
X-PUBLISHED-TTL:PT1H
BEGIN:VTIMEZONE
TZID:Europe/Amsterdam
BEGIN:DAYLIGHT
TZOFFSETFROM:+0100
TZOFFSETTO:+0200
TZNAME:CEST
DTSTART:20230326T010000
END:DAYLIGHT
BEGIN:STANDARD
TZOFFSETFROM:+0200
TZOFFSETTO:+0100
TZNAME:CET
DTSTART:20231029T010000
END:STANDARD
BEGIN:DAYLIGHT
TZOFFSETFROM:+0100
TZOFFSETTO:+0200
TZNAME:CEST
DTSTART:20240331T010000
END:DAYLIGHT
BEGIN:STANDARD
TZOFFSETFROM:+0200
TZOFFSETTO:+0100
TZNAME:CET
DTSTART:20241027T010000
END:STANDARD
END:VTIMEZONE
BEGIN:VEVENT
DTSTART;TZID=Europe/Amsterdam:20241224T180000
DTEND;TZID=Europe/Amsterdam:20241224T180000
DTSTAMP:20260419T190323
CREATED:20241217T100736Z
LAST-MODIFIED:20241218T152519Z
UID:10004172-1735063200-1735063200@parochie-sintmaarten.staging.wijzijnmerlin.dev
SUMMARY:Kerstavondwandeling 'Op reis naar het Licht'
DESCRIPTION:Wandel langs allerlei scènes uit het kerstverhaal. Je ontmoet Jozef en Maria op weg naar Bethlehem\, je kunt even bij de herders om het vuur zitten en luisteren naar de ‘engelenkoren’. De wandeling eindigt op het centrale plein waar muziek is en eten en drinken voor iedereen. Kom je ook beschuit met muisjes eten? \nWanneer: dinsdag 24 december.\nHoe laat en waar: tussen 18.00 en 19.30 uur kun je starten met de wandeling bij RCN het Grote Bos\, Hydeparklaan 4\, Doorn.
URL:https://parochie-sintmaarten.staging.wijzijnmerlin.dev/event/kerstavondwandeling-op-reis-naar-het-licht/
LOCATION:RCN Het Grote Bos\, Hydeparklaan 24\, Doorn\, 3941 ZK
CATEGORIES:Activiteiten,Activiteiten jong
ATTACH;FMTTYPE=image/jpeg:https://parochie-sintmaarten.staging.wijzijnmerlin.dev/wp-content/uploads/2024/12/christmas-2874614-pixabay-scaled.jpg
END:VEVENT
BEGIN:VEVENT
DTSTART;TZID=Europe/Amsterdam:20231224T180000
DTEND;TZID=Europe/Amsterdam:20231224T193000
DTSTAMP:20260419T190323
CREATED:20231129T191238Z
LAST-MODIFIED:20231129T191419Z
UID:10003890-1703440800-1703446200@parochie-sintmaarten.staging.wijzijnmerlin.dev
SUMMARY:Kerstwandeling: op reis naar het Licht
DESCRIPTION:Wegens succes geprolongeerd: de kerstwandeling in het Grote Bos\, georganiseerd door de Raad van Kerken Driebergen-Rijsenburg. Ontmoet op weg naar de geboortegrot Jozef en Maria op weg naar Bethlehem\, luister naar de (engelen)koren\, o.a. ons koor Mediant\, ga in gesprek met de wijzen die op zoek zijn naar het geboren kind\, schuif aan bij de herders rond het vuur. En nadat u kindje Jezus hebt gevonden\, kunt u nog naar de drukke markt van Bethlehem\, met muziek\, koek en zopie en een schaatsbaan. \nDatum: zondag 24 december.\nStart wandeling: tussen 18.00 en 19.30 uur.\nLocatie: Grote Bos\, Hydeparklaan 24\, Doorn. \n			\n				\n					\n						\n							\n							Aan het laden...\n						\n					\n					\n						\n							\n							Duurt het te lang?\n						\n						\n							\n								 Laad het document opnieuw							\n							|\n							\n								 Openen in nieuwe tab							\n					\n				\n			\n		\nFoto: Etienne Oldeman \n 
URL:https://parochie-sintmaarten.staging.wijzijnmerlin.dev/event/kerstwandeling-op-reis-naar-het-licht/
LOCATION:RCN Het Grote Bos\, Hydeparklaan 24\, Doorn\, 3941 ZK
CATEGORIES:Activiteiten,Activiteiten jong
ATTACH;FMTTYPE=image/jpeg:https://parochie-sintmaarten.staging.wijzijnmerlin.dev/wp-content/uploads/2023/11/kerstwandeling-foto-E.-Oldeman-scaled-e1699038060519.jpg
END:VEVENT
END:VCALENDAR