BEGIN:VCALENDAR
VERSION:2.0
PRODID:-//R.K. Parochie Sint Maarten - ECPv6.10.2//NONSGML v1.0//EN
CALSCALE:GREGORIAN
METHOD:PUBLISH
X-ORIGINAL-URL:https://parochie-sintmaarten.staging.wijzijnmerlin.dev
X-WR-CALDESC:Evenementen voor R.K. Parochie Sint Maarten
REFRESH-INTERVAL;VALUE=DURATION:PT1H
X-Robots-Tag:noindex
X-PUBLISHED-TTL:PT1H
BEGIN:VTIMEZONE
TZID:Europe/Amsterdam
BEGIN:DAYLIGHT
TZOFFSETFROM:+0100
TZOFFSETTO:+0200
TZNAME:CEST
DTSTART:20240331T010000
END:DAYLIGHT
BEGIN:STANDARD
TZOFFSETFROM:+0200
TZOFFSETTO:+0100
TZNAME:CET
DTSTART:20241027T010000
END:STANDARD
END:VTIMEZONE
BEGIN:VEVENT
DTSTART;TZID=Europe/Amsterdam:20241229T150000
DTEND;TZID=Europe/Amsterdam:20241229T160000
DTSTAMP:20260420T020939
CREATED:20241016T170753Z
LAST-MODIFIED:20241016T170846Z
UID:10004135-1735484400-1735488000@parochie-sintmaarten.staging.wijzijnmerlin.dev
SUMMARY:Opening Heilig Jaar op 29 december in Utrechtse kathedraal
DESCRIPTION:De opening van het Heilig Jaar wordt voor het Aartsbisdom Utrecht gevierd met een Eucharistieviering in de Sint Catharinakathedraal\, Lange Nieuwstraat 36 te Utrecht op zondag 29 december a.s.\, aanvang 15.00 uur. Kardinaal Eijk zal de hoofdcelebrant zijn. De Eucharistieviering zal een internationaal karakter hebben. Iedereen is van harte welkom. \nIn 2025 viert de Rooms-Katholieke Kerk een ‘Heilig Jaar’ ofwel een ‘Jubeljaar’. Paus Franciscus heeft dit jaar als thema meegegeven ‘Pelgrims van Hoop’. In de meivakantie 2025 zal vanwege dit Heilig Jaar een Nationale Bedevaart naar Rome plaatsvinden. De Nederlandse bisdommen organiseren tijdens het Heilig Jaar tevens een bedevaart in het eigen bisdom op 25 mei in IJsselstein. In alle bisdommen ter wereld wordt in de kathedralen het Heilig Jaar geopend nadat in Rome de paus vanaf Kerstavond de Heilige Deuren van de vier hoofdbasilieken heeft ontsloten.
URL:https://parochie-sintmaarten.staging.wijzijnmerlin.dev/event/opening-heilig-jaar-op-29-december-in-utrechtse-kathedraal/
LOCATION:St. Catharinakathedraal\, Lange Nieuwstraat 36\, Utrecht
CATEGORIES:Activiteiten
ATTACH;FMTTYPE=image/png:https://parochie-sintmaarten.staging.wijzijnmerlin.dev/wp-content/uploads/2023/06/logo-jubeljaar_2025-xl-bron-aartsbisdom.png
GEO:52.0875343;5.1238913
X-APPLE-STRUCTURED-LOCATION;VALUE=URI;X-ADDRESS=St. Catharinakathedraal Lange Nieuwstraat 36 Utrecht;X-APPLE-RADIUS=500;X-TITLE=Lange Nieuwstraat 36:geo:5.1238913,52.0875343
END:VEVENT
END:VCALENDAR