BEGIN:VCALENDAR
VERSION:2.0
PRODID:-//R.K. Parochie Sint Maarten - ECPv6.10.2//NONSGML v1.0//EN
CALSCALE:GREGORIAN
METHOD:PUBLISH
X-WR-CALNAME:R.K. Parochie Sint Maarten
X-ORIGINAL-URL:https://parochie-sintmaarten.staging.wijzijnmerlin.dev
X-WR-CALDESC:Evenementen voor R.K. Parochie Sint Maarten
REFRESH-INTERVAL;VALUE=DURATION:PT1H
X-Robots-Tag:noindex
X-PUBLISHED-TTL:PT1H
BEGIN:VTIMEZONE
TZID:Europe/Amsterdam
BEGIN:DAYLIGHT
TZOFFSETFROM:+0100
TZOFFSETTO:+0200
TZNAME:CEST
DTSTART:20240331T010000
END:DAYLIGHT
BEGIN:STANDARD
TZOFFSETFROM:+0200
TZOFFSETTO:+0100
TZNAME:CET
DTSTART:20241027T010000
END:STANDARD
END:VTIMEZONE
BEGIN:VEVENT
DTSTART;TZID=Europe/Amsterdam:20241130T170000
DTEND;TZID=Europe/Amsterdam:20241130T170000
DTSTAMP:20260420T022241
CREATED:20241008T193637Z
LAST-MODIFIED:20241125T182317Z
UID:10004111-1732986000-1732986000@parochie-sintmaarten.staging.wijzijnmerlin.dev
SUMMARY:Milk & Honey 'Op weg naar de kerststal'
DESCRIPTION:Na het succes van de Passion- en de Hope-tour keert jongerenkoor Milk & Honey terug met een bijzonder verhaal in een muzikaal jasje: ‘Op weg naar de kerststal’. A.d.h.v. popnummers\, gospel\, rock\, musical horen we de parallellen tussen het verhaal van Franciscus van Assisi en van Jozef en Maria onderweg naar de kerststal. Twee verhalen\, met thema’s als hoop\, warmte\, thuiskomen en offers brengen. \n			\n				\n					\n						\n							\n							Aan het laden...\n						\n					\n					\n						\n							\n							Duurt het te lang?\n						\n						\n							\n								 Laad het document opnieuw							\n							|\n							\n								 Openen in nieuwe tab
URL:https://parochie-sintmaarten.staging.wijzijnmerlin.dev/event/milk-honey-op-weg-naar-de-kerststal-3/
LOCATION:St. Maartenskerk\, Nachtegaallaan 40\, Maartensdijk
CATEGORIES:Activiteiten,Activiteiten jong
ATTACH;FMTTYPE=image/png:https://parochie-sintmaarten.staging.wijzijnmerlin.dev/wp-content/uploads/2024/10/Milk-Honey-deel-flyer-kerststal-webversie.png
END:VEVENT
END:VCALENDAR