BEGIN:VCALENDAR
VERSION:2.0
PRODID:-//R.K. Parochie Sint Maarten - ECPv6.10.2//NONSGML v1.0//EN
CALSCALE:GREGORIAN
METHOD:PUBLISH
X-WR-CALNAME:R.K. Parochie Sint Maarten
X-ORIGINAL-URL:https://parochie-sintmaarten.staging.wijzijnmerlin.dev
X-WR-CALDESC:Evenementen voor R.K. Parochie Sint Maarten
REFRESH-INTERVAL;VALUE=DURATION:PT1H
X-Robots-Tag:noindex
X-PUBLISHED-TTL:PT1H
BEGIN:VTIMEZONE
TZID:Europe/Amsterdam
BEGIN:DAYLIGHT
TZOFFSETFROM:+0100
TZOFFSETTO:+0200
TZNAME:CEST
DTSTART:20240331T010000
END:DAYLIGHT
BEGIN:STANDARD
TZOFFSETFROM:+0200
TZOFFSETTO:+0100
TZNAME:CET
DTSTART:20241027T010000
END:STANDARD
END:VTIMEZONE
BEGIN:VEVENT
DTSTART;TZID=Europe/Amsterdam:20240920T140000
DTEND;TZID=Europe/Amsterdam:20240920T163000
DTSTAMP:20260420T023336
CREATED:20240911T175127Z
LAST-MODIFIED:20240911T175127Z
UID:10004104-1726840800-1726849800@parochie-sintmaarten.staging.wijzijnmerlin.dev
SUMMARY:Presentatie van twee nieuwe duurzaamheidsprojecten
DESCRIPTION:Op een vrolijke middag met een interactief programma presenteert de Raad van Kerken op 20 september twee nieuwe projecten rond duurzaamheid: de nieuwe website vierdeschepping.nl – waarop veel tekstjes en gedichten van Jeanette van Osselen\, parochiaan uit Doorn – en de Noach-leergang. Marjolein Tiemens\, parochiaan uit Driebergen-Rijsenburg\, zal een inleiding houden over onze verbondenheid met de schepping. Marjolein Tiemens studeerde plantenveredeling aan de Wageningen Universiteit (WUR). \nVoor algemeen secretaris van de Raad van Kerken Coen Wessel is het niet meer dan logisch dat het samenwerkingsverband met dit thema aan de slag gaat: ‘Duurzaamheid gaat niet alleen over natuur en milieu. Goed beschouwd gaat het bij duurzaamheid om de (verstoorde) verhoudingen tussen mens en mens\, mens en aarde en mens en God. Dat maakt het een voluit christelijk thema en daarmee bij uitstek een verbindend thema tussen christenen over kerkmuren heen.’ \nDe website vierdeschepping.nl  geeft persoonlijke inspiratie\, maar ook input voor het vormgeven van vieringen en bijeenkomsten rond duurzaamheid en schepping. De website bevat daarvoor een schat aan materiaal: recepten\, bloemschikkingen\, gedichten\, inspirerende symbolen en woorden. Je kan zoeken op thema of op periode van het kerkelijk jaar. \nDaarnaast presenteert de Raad van Kerken de Noach-leergang (onderaan deze pagina te downloaden)\, die samen met Micha Nederland is ontwikkeld. Het is uitdagend materiaal voor goede gesprekken over geloof & duurzaamheid voor kringleiders\, kerkleiders en eenieder die wil nadenken over een veranderende wereld. De leergang bevat o.a. modules over ‘omgaan met grenzen’\, ‘doemdenken of hoop’ en ‘biodiversiteit’. De leergang is goed te gebruiken door jongeren. Zie ook: https://michanederland.nl/noach. \nVierdeschepping.nl en de Noach-leergang worden gepresenteerd op een vrolijke middag met (scheppings)liederen\, creativiteit\, eten\, drinken en workshops over recepten en de hoopvolle Noach-leergang. Iedereen is welkom. \nDatum: vrijdag 20 september 2024\nTijd: 14.00 –  16.30 uur\nLocatie: Stadsklooster San Damiano\, Franciscushuis\, Van der Does de Willeboissingel 11\, Den Bosch\nAanmelding: liefst van te voren een berichtje naar rvk@raadvankerken.nl \n Download flyer Noach leergang\n  \n  \n  \n  \n  \n  \n  \n  \n  \n  \n  \n 
URL:https://parochie-sintmaarten.staging.wijzijnmerlin.dev/event/presentatie-van-twee-nieuwe-duurzaamheidsprojecten/
LOCATION:Stadsklooster San Damiano\, Adres: Van der Does de Willeboissingel 12\,\, 's-Hertogenbosch\, 5211 CB
CATEGORIES:Activiteiten
ATTACH;FMTTYPE=image/png:https://parochie-sintmaarten.staging.wijzijnmerlin.dev/wp-content/uploads/2021/09/schepping-aarde-op-hand-pixabay.png
END:VEVENT
END:VCALENDAR