BEGIN:VCALENDAR
VERSION:2.0
PRODID:-//R.K. Parochie Sint Maarten - ECPv6.10.2//NONSGML v1.0//EN
CALSCALE:GREGORIAN
METHOD:PUBLISH
X-ORIGINAL-URL:https://parochie-sintmaarten.staging.wijzijnmerlin.dev
X-WR-CALDESC:Evenementen voor R.K. Parochie Sint Maarten
REFRESH-INTERVAL;VALUE=DURATION:PT1H
X-Robots-Tag:noindex
X-PUBLISHED-TTL:PT1H
BEGIN:VTIMEZONE
TZID:Europe/Amsterdam
BEGIN:DAYLIGHT
TZOFFSETFROM:+0100
TZOFFSETTO:+0200
TZNAME:CEST
DTSTART:20240331T010000
END:DAYLIGHT
BEGIN:STANDARD
TZOFFSETFROM:+0200
TZOFFSETTO:+0100
TZNAME:CET
DTSTART:20241027T010000
END:STANDARD
END:VTIMEZONE
BEGIN:VEVENT
DTSTART;TZID=Europe/Amsterdam:20241113T200000
DTEND;TZID=Europe/Amsterdam:20241113T220000
DTSTAMP:20260419T220254
CREATED:20241017T194311Z
LAST-MODIFIED:20241017T194311Z
UID:10004136-1731528000-1731535200@parochie-sintmaarten.staging.wijzijnmerlin.dev
SUMMARY:Noach leergang
DESCRIPTION:De ecologische crisis houdt velen bezig en terecht. Het bestaan van alle leven op de aarde wordt bedreigd. Het zet ons denken en geloven op zijn kop. Hebben de theologie en de bijbel daarin iets te zeggen? \nHet studiemateriaal van de Noach-leergang leert ons dat het Noachverhaal niet alleen de nood van de huidige tijd laat zien\, maar ook een nieuw ecologisch perspectief voor de ecologische crisis biedt. De werkgroep Theologie Kerk en Duurzaamheid\, een werkgroep van de Raad van Kerken Nederland\, heeft dit uitdagende materiaal ontwikkeld en het wordt op de website van Micha Nederland gratis aangeboden. Het biedt de mogelijkheid om de diepte in te gaan bij goede gesprekken over geloof en duurzaamheid. Het is bedoeld voor kringleiders\, theologen\, filosofen en eigenlijk voor ieder die wil nadenken en praten over een veranderende wereld. Denk mee over de zeven uitdagende vragen bij het Noach-verhaal. \nDe Raad van Kerken Driebergen nodigt je uit om samen met Noach in de Ark te stappen en wel op 13 november om 20.00 uur in ’t Hoge Licht\, Klaproos 2\, Driebergen. Op die avond kunt u kennismaken met de leergang en kijken we voor welke thema’s er animo is om een aantal bijeenkomsten te organiseren. Voor de instap kun je je  opgeven bij Marjolein Tiemens. Het liefst per e-mail: m.tiemens@planet.nl maar bellen mag ook: 06 2077 4093. \nFoto: Marijke van der Giessen \nOverzicht thema’s  \n# 1 Noach actueel; Hoe herkenbaar is het Noach-verhaal in onze eigen tijd?  \nEr is iets fundamenteel misgegaan in de relatie van de mens tot de aarde en een grote overstroming of vloed dreigt. We herkennen er onze tijd met zijn overstromingen en bosbranden naadloos in. Maar na de zondvloed moet het anders worden\, vertelt het verhaal. Kan dat ons troost en/of trust geven? \n\nDe HEER zag dat alle mensen op aarde slecht waren: alles wat ze uitdachten was steeds even slecht. (Gen. 6:5) \n\n#2 Omgaan met grenzen; Hoe kunnen we omgaan met de grenzen van de planeet?  \nHet verhaal vertelt dat er grenzen zijn. In de huidige ecologische crisis merken we dat opnieuw. Hoe gaat Noach om met grenzen en wat zegt ons dat? Met welke grenzen heeft duurzaamheid te maken? Hoe kunnen we die vinden? En hoe kunnen we daaraan werken? \n\nWant door hen is de aarde vol onrecht.\n(Gen. 6:13) \n  \n#3 Verantwoordelijkheid; Noach was rechtschapen\, wat kunnen wij van hem leren?  \nAlleen Noach neemt zijn verantwoordelijkheid. Daarom is een reset nodig\, vertelt het verhaal. Als iedereen zijn verantwoordelijkheid neemt kan in onze tijd de ecologische crisis aangepakt worden. Ieders inbreng is nodig. Kunnen we leven vanuit het idee dat wat goed is voor de natuur\, ook goed zal zijn voor ons? Hoe is God daarin aanwezig? Kunnen we met de bijbel Gods liefde verstaan als een kracht ten gunste van het leven in onderlinge afhankelijkheid en samenhang? \n\nNoach was een rechtschapen mens; hij was in zijn tijd de enige die een voorbeeldig leven leidde\, in nauwe verbondenheid met God. \n(Gen. 6:9) \n\n#4 Biodiversiteit; God sluit zijn verbond met de hele schepping\, wat betekent dat?  \nIn het Noach-verhaal sluit God een verbond met….? Ja\, met wie eigenlijk? Meestal hoor je: God sloot een verbond met de mens. Maar is dat zo? Wat staat er in de bijbel? Misschien is het tijd om je mensgerichte bril af te zetten (!). Dan zie je dat God een verbond sluit met heel de Aarde en alles wat leeft\, de planten\, de mensen en de dieren. Noach krijgt niet voor niets de opdracht om van alle dieren een paartje mee te nemen in de Ark. Waarom? Ze hebben elkaar nodig\, om na de vloed\, de Aarde weer leefbaar te maken. Hoe houden wij de aarde gezond? \n\nEn van alle dieren moet je er twee in de ark brengen\, om ervoor te zorgen dat die met jou in leven blijven. Een mannetje en een wijfje moeten het zijn. Van alle soorten vogels\, van alle soorten vee en van alles wat op de aardbodem rondkruipt\, zullen er twee naar jou toekomen; die zullen in leven blijven. (Gen. 6:19-20) \n\n#5 Goed en kwaad; Zijn wij schuldig richting arme landen en toekomstige generaties?  \nWe vragen ons af wat het kwaad was dat tot de zondvloed leidde\, wat nu tot klimaatverandering leidt\, en wat in onze tijd als ‘klimaatschuld’ in relatie tot arme landen benoemd wordt. Daarbij komt de vraag in hoeverre wij schuldig kunnen worden aan de toekomstige generaties door traagheid\, nalatigheid of ontkenning (‘Na ons de zondvloed’). Of kunnen we er op vertrouwen dat de voortgaande ontwikkeling van kennis en techniek het probleem wel binnen afzienbare tijd zullen oplossen? God sluit volgens het verhaal een nieuw verbond met de hele schepping en wijst zo de weg naar een goede toekomst. \n\nToen dacht God weer aan Noach en aan alle wilde dieren en het vee bij hem in de ark. Op zijn bevel begon er een wind over de aarde te waaien\, waardoor het water afnam. (Gen. 8:1) \n\n# 6 Doemdenken of hoop? Hoe kunnen we omgaan met gevoelens van fatalisme?  \nApocalyptische verhalen die vertellen over de verschrikkingen die ons te wachten staan\, zijn populair in de huidige literatuur\, films en games. Ze putten uit de beeldtaal van het laatste boek van de Bijbel\, de Apocalyps of Openbaring. Het verhaal van Noach en de zondvloed is een apocalyptisch verhaal\, maar ook een verhaal van hoop. De opvatting dat klimaatrampen en oorlogen een straf van God zijn is in onze geseculariseerde samenleving verdwenen. Maar wat doen we met onze gevoelens van schuld en schaamte? Het Noach-verhaal vertelt van een nieuw begin en nodigt uit met God aan een goede uitkomst te werken. \n\nNooit weer zal ik alles wat leeft doden\, zoals ik nu gedaan heb. Zo lang de aarde bestaat\, zal er een tijd zijn om te zaaien en een tijd om te oogsten\, zal er koude zijn en hitte\, zomer en winter\, dag en nacht – nooit komt daar een einde aan. (Gen. 8:21-22) \n\n#7 Meedoen in het verbond; Waarom is een duurzame manier van leven zinvol?  \nHet verhaal nodigt je uit om net als Noach met God mee te kijken. Die verwacht veel van het nieuwe begin van de aarde en al wie daarop wonen. Ook jij kunt dankbaar leven\, blij zijn dat je leeft op deze mooie aarde. Alle reden om aan het werk te gaan en een groene leefstijl op te bouwen\, toch? \n\nOok zei God tegen Noach en zijn zonen: ‘Hierbij sluit ik een verbond met jullie en met je nakomelingen\, en met alle levende wezens die bij jullie zijn: vogels\, vee en wilde dieren\, met alles wat uit de ark is gekomen\, alle dieren op aarde’. (Gen. 9:8) \n\nEerste bijeenkomst: \nDatum: woensdag 13 november 2024\nTijd: 20.00 tot 22.00 uur\nLocatie: ’t Hoge Licht\, Klaproos 22\, Driebergen\nOpgeven: bij Marjolein Tiemens\, m.tiemens@planet.nl of 06 2077 4093
URL:https://parochie-sintmaarten.staging.wijzijnmerlin.dev/event/noach-leergang/
LOCATION:’t Hoge Licht\, Klaproos 2\, Driebergen\, 3972 PX
CATEGORIES:Activiteiten
ATTACH;FMTTYPE=image/png:https://parochie-sintmaarten.staging.wijzijnmerlin.dev/wp-content/uploads/2024/10/Noachleergang-regenboog-met-tekst-klein-e1729193731366.png
END:VEVENT
BEGIN:VEVENT
DTSTART;TZID=Europe/Amsterdam:20240528T100000
DTEND;TZID=Europe/Amsterdam:20240528T120000
DTSTAMP:20260419T220254
CREATED:20240324T103628Z
LAST-MODIFIED:20240326T214703Z
UID:10004024-1716890400-1716897600@parochie-sintmaarten.staging.wijzijnmerlin.dev
SUMMARY:Lezing: Maria in beeld(en)
DESCRIPTION:Een presentatie over Maria in de kunst en iconografie.  \nMaria is bij velen geliefd. De ontelbare afbeeldingen en bedevaartplaatsen die over heel de wereld aan haar gewijd zijn\, getuigen daarvan. We komen Maria tegen in kathedralen\, parochiekerken en (weg)kapelletjes\, in onze huizen en op pleinen\, in grote of kleine bedevaartoorden.\nDe oudste afbeeldingen van Maria dateren uit de derde eeuw; die tonen haar vanwege de geboorte en de aanbidding van Jezus als de Christus. Sindsdien is er een hele ontwikkeling aan voorstellingen van Maria gekomen\, tot op de dag van vandaag\, van grootste kunstwerken tot kleine devotionalia. Uit alle periodes van de christelijke kunstgeschiedenis zullen in een presentatie voorstellingen van Maria – in schildering (waaronder iconen)\, mozaïek\, hout- of beeldhouwwerk – worden getoond en toegelicht. Die grote rijkdom daaraan zal haar betekenis voor Jezus en voor ons willen belichten. \nInleider: Mgr. drs. Herman W. Woorts\, hulpbisschop van Utrecht\, docent christelijke kunst en iconografie aan priester- en diakenopleidingen.\nDatum en tijd: dinsdag 28 mei\, aanvang 10.00 uur\nPlaats: ’t Hoge Licht\, Klaproos 2\, Driebergen-Rijsenburg\nKosten: € 5.00\, koffie en thee inbegrepen. \nFoto: beeld van Maria met Kind uit ca. 1470\, in de parochiekerk van Abcoude (H. Woorts) \n 
URL:https://parochie-sintmaarten.staging.wijzijnmerlin.dev/event/lezing-maria-in-beelden/
LOCATION:’t Hoge Licht\, Klaproos 2\, Driebergen\, 3972 PX
CATEGORIES:Activiteiten
ATTACH;FMTTYPE=image/png:https://parochie-sintmaarten.staging.wijzijnmerlin.dev/wp-content/uploads/2024/03/Maria-met-Kind-uit-ca.-1470-in-de-parochiekerk-van-Abcoude.-uitsnede-foto-H.-Woorts-webversie.png
END:VEVENT
BEGIN:VEVENT
DTSTART;TZID=Europe/Amsterdam:20240426T143000
DTEND;TZID=Europe/Amsterdam:20240426T200811
DTSTAMP:20260419T220254
CREATED:20240326T190517Z
LAST-MODIFIED:20240326T190811Z
UID:10004026-1714141800-1714162091@parochie-sintmaarten.staging.wijzijnmerlin.dev
SUMMARY:Film: 'Onder Het Maaiveld'
DESCRIPTION:Ontdek de ongeziene wereld onder onze voeten. \nDe film ‘Onder Het Maaiveld’ van Ignas van Schaick (van de film De Nieuwe Wildernis) maakt het ongeziene gezien. De film inspireert en verwondert en geeft inzicht in de bodem. Verbonden met de wereld boven de grond bevolkt door planten\, insecten\, vogels en mensen\, bevindt zich een ondergrondse wereld. Een gemeenschap van wortels\, larven\, wormen\, schimmels\, bacteriën\, amoeben\, ongewervelde geleedpotigen en nog veel meer. En al dat ondergrondse leven communiceert druk met elkaar. Dat is ronduit verbazingwekkend. Er zitten meer levende wezens in één theelepel gezonde grond dan er mensen op aarde zijn. Het is een immense samenleving. \nWe staan op het punt om de grootste draai te maken in de geschiedenis van onze zorg en omgang met de natuur in onze bodem. Boeren gaan om\, consumenten willen verstandiger leven en werken\, de industrie moet anders. Maar hoe pakken we dat aan? Hoe leren we met meer wijsheid om te gaan met onze bodem? De film ‘Onder het maaiveld’ laat zien wat er in het groot zal gaan gebeuren door te focussen op de fascinerende wereld direct onder onze voeten en de wereld om ons heen. \nData en tijden:  \n\ndinsdag 16 april\, aanvang film 19.30 uur\, zaal open om 19.00 uur\nvrijdag  26 april\, aanvang film 14.30 uur\, zaal open om 14.00 uur\n\nPlaats: ’t Hoge Licht\, Klaproos 2\, Driebergen-Rijsenburg \nEntree: € 5\,- \n 
URL:https://parochie-sintmaarten.staging.wijzijnmerlin.dev/event/film-onder-het-maaiveld/2024-04-26/
LOCATION:’t Hoge Licht\, Klaproos 2\, Driebergen\, 3972 PX
CATEGORIES:Activiteiten
ATTACH;FMTTYPE=image/png:https://parochie-sintmaarten.staging.wijzijnmerlin.dev/wp-content/uploads/2018/09/Handen-grond-uitsnede.png
END:VEVENT
BEGIN:VEVENT
DTSTART;TZID=Europe/Amsterdam:20240416T193000
DTEND;TZID=Europe/Amsterdam:20240416T193000
DTSTAMP:20260419T220254
CREATED:20240326T190517Z
LAST-MODIFIED:20240326T190811Z
UID:10004025-1713295800-1713295800@parochie-sintmaarten.staging.wijzijnmerlin.dev
SUMMARY:Film: 'Onder Het Maaiveld'
DESCRIPTION:Ontdek de ongeziene wereld onder onze voeten. \nDe film ‘Onder Het Maaiveld’ van Ignas van Schaick (van de film De Nieuwe Wildernis) maakt het ongeziene gezien. De film inspireert en verwondert en geeft inzicht in de bodem. Verbonden met de wereld boven de grond bevolkt door planten\, insecten\, vogels en mensen\, bevindt zich een ondergrondse wereld. Een gemeenschap van wortels\, larven\, wormen\, schimmels\, bacteriën\, amoeben\, ongewervelde geleedpotigen en nog veel meer. En al dat ondergrondse leven communiceert druk met elkaar. Dat is ronduit verbazingwekkend. Er zitten meer levende wezens in één theelepel gezonde grond dan er mensen op aarde zijn. Het is een immense samenleving. \nWe staan op het punt om de grootste draai te maken in de geschiedenis van onze zorg en omgang met de natuur in onze bodem. Boeren gaan om\, consumenten willen verstandiger leven en werken\, de industrie moet anders. Maar hoe pakken we dat aan? Hoe leren we met meer wijsheid om te gaan met onze bodem? De film ‘Onder het maaiveld’ laat zien wat er in het groot zal gaan gebeuren door te focussen op de fascinerende wereld direct onder onze voeten en de wereld om ons heen. \nData en tijden:  \n\ndinsdag 16 april\, aanvang film 19.30 uur\, zaal open om 19.00 uur\nvrijdag  26 april\, aanvang film 14.30 uur\, zaal open om 14.00 uur\n\nPlaats: ’t Hoge Licht\, Klaproos 2\, Driebergen-Rijsenburg \nEntree: € 5\,- \n 
URL:https://parochie-sintmaarten.staging.wijzijnmerlin.dev/event/film-onder-het-maaiveld/2024-04-16/
LOCATION:’t Hoge Licht\, Klaproos 2\, Driebergen\, 3972 PX
CATEGORIES:Activiteiten
ATTACH;FMTTYPE=image/png:https://parochie-sintmaarten.staging.wijzijnmerlin.dev/wp-content/uploads/2018/09/Handen-grond-uitsnede.png
END:VEVENT
END:VCALENDAR