BEGIN:VCALENDAR
VERSION:2.0
PRODID:-//R.K. Parochie Sint Maarten - ECPv6.10.2//NONSGML v1.0//EN
CALSCALE:GREGORIAN
METHOD:PUBLISH
X-WR-CALNAME:R.K. Parochie Sint Maarten
X-ORIGINAL-URL:https://parochie-sintmaarten.staging.wijzijnmerlin.dev
X-WR-CALDESC:Evenementen voor R.K. Parochie Sint Maarten
REFRESH-INTERVAL;VALUE=DURATION:PT1H
X-Robots-Tag:noindex
X-PUBLISHED-TTL:PT1H
BEGIN:VTIMEZONE
TZID:Europe/Amsterdam
BEGIN:DAYLIGHT
TZOFFSETFROM:+0100
TZOFFSETTO:+0200
TZNAME:CEST
DTSTART:20240331T010000
END:DAYLIGHT
BEGIN:STANDARD
TZOFFSETFROM:+0200
TZOFFSETTO:+0100
TZNAME:CET
DTSTART:20241027T010000
END:STANDARD
END:VTIMEZONE
BEGIN:VEVENT
DTSTART;TZID=Europe/Amsterdam:20240925T133000
DTEND;TZID=Europe/Amsterdam:20240925T173000
DTSTAMP:20260420T021908
CREATED:20240911T175323Z
LAST-MODIFIED:20240911T175323Z
UID:10004105-1727271000-1727285400@parochie-sintmaarten.staging.wijzijnmerlin.dev
SUMMARY:Studiemiddag: Kerkelijke omgang met het thema homoseksualiteit
DESCRIPTION:Het lopend debat over de omgang binnen de RK kerk met homoseksuele mensen is vaak complexer en delicater dan vanuit de blik van onze westerse samenleving gezien wordt\, mede omdat de diversiteit in de universele kerk groot is. De theologie heeft een eigen rol in het mogelijk maken van dat gesprek\, dat soms moeizaam op gang komt. \nTegen de dubbele horizon van het LHBTI+ emancipatiestreven in vele continenten enerzijds en een lopend synodaal proces waarin de wereldkerk tussen de synodebijeenkomsten van oktober 2023 en 2024 in blijvend gesprek is anderzijds\, vormt deze middag een momentopname. In deze context wil de Tilburgse faculteit ruimte bieden om academische sprekers uit menswetenschappen\, ethiek en theologie aan het woord te laten\, alsook enkele betrokken ervaringsdeskundigen. In gesprek met de aanwezigen wordt ingegaan op de actuele stand van zaken en worden sporen richting de toekomst besproken. \n\n\nDeze studiemiddag wordt georganiseerd door de Tilburg School of Catholic Theology en het Werkverband van Katholieke Homo-Pastores. \n\n\nDatum: woensdag 25 september 2024\nTijd: 13.30 – 17.30 uur\nLocatie: Tilburg University\, Dante gebouw zaal 1\, Warandelaan 2\, Tilburg\nMeer info en programma: www.tilburguniversity.edu/nl\nKosten: 10 euro\nAanmelden: https://tiu.nu/studiemiddag25sep
URL:https://parochie-sintmaarten.staging.wijzijnmerlin.dev/event/studiemiddag-kerkelijke-omgang-met-het-thema-homoseksualiteit/
LOCATION:Tilburg University\, Warandelaan 2\, Tilburg
CATEGORIES:Activiteiten
ATTACH;FMTTYPE=image/png:https://parochie-sintmaarten.staging.wijzijnmerlin.dev/wp-content/uploads/2024/09/studieboeken-apple-256261_1920-Michal-Jarmoluk-from-Pixabay.jpg-webversie.png
END:VEVENT
END:VCALENDAR