BEGIN:VCALENDAR
VERSION:2.0
PRODID:-//R.K. Parochie Sint Maarten - ECPv6.10.2//NONSGML v1.0//EN
CALSCALE:GREGORIAN
METHOD:PUBLISH
X-WR-CALNAME:R.K. Parochie Sint Maarten
X-ORIGINAL-URL:https://parochie-sintmaarten.staging.wijzijnmerlin.dev
X-WR-CALDESC:Evenementen voor R.K. Parochie Sint Maarten
REFRESH-INTERVAL;VALUE=DURATION:PT1H
X-Robots-Tag:noindex
X-PUBLISHED-TTL:PT1H
BEGIN:VTIMEZONE
TZID:Europe/Amsterdam
BEGIN:DAYLIGHT
TZOFFSETFROM:+0100
TZOFFSETTO:+0200
TZNAME:CEST
DTSTART:20240331T010000
END:DAYLIGHT
BEGIN:STANDARD
TZOFFSETFROM:+0200
TZOFFSETTO:+0100
TZNAME:CET
DTSTART:20241027T010000
END:STANDARD
END:VTIMEZONE
BEGIN:VEVENT
DTSTART;TZID=Europe/Amsterdam:20240915T130000
DTEND;TZID=Europe/Amsterdam:20240915T160000
DTSTAMP:20260419T215527
CREATED:20240911T174725Z
LAST-MODIFIED:20240911T174725Z
UID:10004103-1726405200-1726416000@parochie-sintmaarten.staging.wijzijnmerlin.dev
SUMMARY:Gesprek uit stilte over vrede
DESCRIPTION:Zondag 15 september organiseren de Quakers een gesprek uit stilte over vrede. Er zijn 3 sprekers uitgenodigd die het thema ‘Quakers en vrede’ zullen inleiding vanuit hun eigen vredesactiviteiten. Daarna zal vanuit de stilte eenieder uitgenodigd worden om te delen hoe het thema vrede bij haar/hem leeft en wat hij/zij hier actief mee doet in het dagelijks leven. Van harte welkom! \nDatum: zondag 15 september 2024\nTijd: 13.00-16.00 uur\nLocatie: Villa Xaverius\, Rijsenburgselaan 11\, Driebergen-Rijsenburg\nAanmelden: Driebergen@quakers.nl  \n  \n 
URL:https://parochie-sintmaarten.staging.wijzijnmerlin.dev/event/gesprek-uit-stilte-over-vrede/
LOCATION:Villa Xaverius\, Rijsenburgselaan 11\, Driebergen-Rijsenburg
CATEGORIES:Activiteiten
ATTACH;FMTTYPE=image/png:https://parochie-sintmaarten.staging.wijzijnmerlin.dev/wp-content/uploads/2024/09/stilte-meer-lake-1452521_1280-Openpics-from-Pixabay.jpg-webversie.png
END:VEVENT
END:VCALENDAR