BEGIN:VCALENDAR
VERSION:2.0
PRODID:-//R.K. Parochie Sint Maarten - ECPv6.10.2//NONSGML v1.0//EN
CALSCALE:GREGORIAN
METHOD:PUBLISH
X-ORIGINAL-URL:https://parochie-sintmaarten.staging.wijzijnmerlin.dev
X-WR-CALDESC:Evenementen voor R.K. Parochie Sint Maarten
REFRESH-INTERVAL;VALUE=DURATION:PT1H
X-Robots-Tag:noindex
X-PUBLISHED-TTL:PT1H
BEGIN:VTIMEZONE
TZID:Europe/Amsterdam
BEGIN:DAYLIGHT
TZOFFSETFROM:+0100
TZOFFSETTO:+0200
TZNAME:CEST
DTSTART:20230326T010000
END:DAYLIGHT
BEGIN:STANDARD
TZOFFSETFROM:+0200
TZOFFSETTO:+0100
TZNAME:CET
DTSTART:20231029T010000
END:STANDARD
BEGIN:DAYLIGHT
TZOFFSETFROM:+0100
TZOFFSETTO:+0200
TZNAME:CEST
DTSTART:20240331T010000
END:DAYLIGHT
BEGIN:STANDARD
TZOFFSETFROM:+0200
TZOFFSETTO:+0100
TZNAME:CET
DTSTART:20241027T010000
END:STANDARD
END:VTIMEZONE
BEGIN:VEVENT
DTSTART;TZID=Europe/Amsterdam:20240609T093000
DTEND;TZID=Europe/Amsterdam:20240609T103000
DTSTAMP:20260420T062114
CREATED:20231214T151234Z
LAST-MODIFIED:20240909T061351Z
UID:10003969-1717925400-1717929000@parochie-sintmaarten.staging.wijzijnmerlin.dev
SUMMARY:Kleuterkerk
DESCRIPTION:Kleuterkerk is een viering van een half uurtje voor alle kinderen t/m 6 jaar. Tijdens kleuterkerk lezen we een mooi verhaal\, passend bij het thema van die zondag. We bidden met elkaar\, delen wat lekkers en natuurlijk is er ook weer tijd om iets leuks te knutselen. Iedereen is elke  tweede zondag van de maand van harte welkom! \nSinds kort hebben we ook een Kleuterkerk-app waarin we je op de hoogte kunnen houden van alle informatie over Kleuterkerk. Mail je gegevens naar annekarien.damen@gmail.com en ik voeg je toe aan onze app. \nMeer info\, zoals thema en locatie: www.parochie-sintmaarten.nl/kleuterkerk
URL:https://parochie-sintmaarten.staging.wijzijnmerlin.dev/event/kleuterkerk-15/2024-06-09/
LOCATION:Ons Centrum\, Doorn\, Dorpsstraat 15\, Doorn\, 3941 JK\, Nederland
CATEGORIES:Activiteiten,Activiteiten jong
ATTACH;FMTTYPE=image/jpeg:https://parochie-sintmaarten.staging.wijzijnmerlin.dev/wp-content/uploads/2022/09/kleuterkerk-websiteformaat.jpg
GEO:52.0344757;5.34253
X-APPLE-STRUCTURED-LOCATION;VALUE=URI;X-ADDRESS=Ons Centrum Doorn Dorpsstraat 15 Doorn 3941 JK Nederland;X-APPLE-RADIUS=500;X-TITLE=Dorpsstraat 15:geo:5.34253,52.0344757
END:VEVENT
BEGIN:VEVENT
DTSTART;TZID=Europe/Amsterdam:20240512T093000
DTEND;TZID=Europe/Amsterdam:20240512T103000
DTSTAMP:20260420T062114
CREATED:20231214T151234Z
LAST-MODIFIED:20240909T061351Z
UID:10003968-1715506200-1715509800@parochie-sintmaarten.staging.wijzijnmerlin.dev
SUMMARY:Kleuterkerk
DESCRIPTION:Kleuterkerk is een viering van een half uurtje voor alle kinderen t/m 6 jaar. Tijdens kleuterkerk lezen we een mooi verhaal\, passend bij het thema van die zondag. We bidden met elkaar\, delen wat lekkers en natuurlijk is er ook weer tijd om iets leuks te knutselen. Iedereen is elke  tweede zondag van de maand van harte welkom! \nSinds kort hebben we ook een Kleuterkerk-app waarin we je op de hoogte kunnen houden van alle informatie over Kleuterkerk. Mail je gegevens naar annekarien.damen@gmail.com en ik voeg je toe aan onze app. \nMeer info\, zoals thema en locatie: www.parochie-sintmaarten.nl/kleuterkerk
URL:https://parochie-sintmaarten.staging.wijzijnmerlin.dev/event/kleuterkerk-15/2024-05-12/
LOCATION:Ons Centrum\, Doorn\, Dorpsstraat 15\, Doorn\, 3941 JK\, Nederland
CATEGORIES:Activiteiten,Activiteiten jong
ATTACH;FMTTYPE=image/jpeg:https://parochie-sintmaarten.staging.wijzijnmerlin.dev/wp-content/uploads/2022/09/kleuterkerk-websiteformaat.jpg
GEO:52.0344757;5.34253
X-APPLE-STRUCTURED-LOCATION;VALUE=URI;X-ADDRESS=Ons Centrum Doorn Dorpsstraat 15 Doorn 3941 JK Nederland;X-APPLE-RADIUS=500;X-TITLE=Dorpsstraat 15:geo:5.34253,52.0344757
END:VEVENT
BEGIN:VEVENT
DTSTART;TZID=Europe/Amsterdam:20240414T093000
DTEND;TZID=Europe/Amsterdam:20240414T103000
DTSTAMP:20260420T062114
CREATED:20231214T151234Z
LAST-MODIFIED:20240909T061351Z
UID:10003967-1713087000-1713090600@parochie-sintmaarten.staging.wijzijnmerlin.dev
SUMMARY:Kleuterkerk
DESCRIPTION:Kleuterkerk is een viering van een half uurtje voor alle kinderen t/m 6 jaar. Tijdens kleuterkerk lezen we een mooi verhaal\, passend bij het thema van die zondag. We bidden met elkaar\, delen wat lekkers en natuurlijk is er ook weer tijd om iets leuks te knutselen. Iedereen is elke  tweede zondag van de maand van harte welkom! \nSinds kort hebben we ook een Kleuterkerk-app waarin we je op de hoogte kunnen houden van alle informatie over Kleuterkerk. Mail je gegevens naar annekarien.damen@gmail.com en ik voeg je toe aan onze app. \nMeer info\, zoals thema en locatie: www.parochie-sintmaarten.nl/kleuterkerk
URL:https://parochie-sintmaarten.staging.wijzijnmerlin.dev/event/kleuterkerk-15/2024-04-14/
LOCATION:Ons Centrum\, Doorn\, Dorpsstraat 15\, Doorn\, 3941 JK\, Nederland
CATEGORIES:Activiteiten,Activiteiten jong
ATTACH;FMTTYPE=image/jpeg:https://parochie-sintmaarten.staging.wijzijnmerlin.dev/wp-content/uploads/2022/09/kleuterkerk-websiteformaat.jpg
GEO:52.0344757;5.34253
X-APPLE-STRUCTURED-LOCATION;VALUE=URI;X-ADDRESS=Ons Centrum Doorn Dorpsstraat 15 Doorn 3941 JK Nederland;X-APPLE-RADIUS=500;X-TITLE=Dorpsstraat 15:geo:5.34253,52.0344757
END:VEVENT
BEGIN:VEVENT
DTSTART;TZID=Europe/Amsterdam:20240310T093000
DTEND;TZID=Europe/Amsterdam:20240310T103000
DTSTAMP:20260420T062114
CREATED:20231214T151234Z
LAST-MODIFIED:20240909T061351Z
UID:10003966-1710063000-1710066600@parochie-sintmaarten.staging.wijzijnmerlin.dev
SUMMARY:Kleuterkerk
DESCRIPTION:Kleuterkerk is een viering van een half uurtje voor alle kinderen t/m 6 jaar. Tijdens kleuterkerk lezen we een mooi verhaal\, passend bij het thema van die zondag. We bidden met elkaar\, delen wat lekkers en natuurlijk is er ook weer tijd om iets leuks te knutselen. Iedereen is elke  tweede zondag van de maand van harte welkom! \nSinds kort hebben we ook een Kleuterkerk-app waarin we je op de hoogte kunnen houden van alle informatie over Kleuterkerk. Mail je gegevens naar annekarien.damen@gmail.com en ik voeg je toe aan onze app. \nMeer info\, zoals thema en locatie: www.parochie-sintmaarten.nl/kleuterkerk
URL:https://parochie-sintmaarten.staging.wijzijnmerlin.dev/event/kleuterkerk-15/2024-03-10/
LOCATION:Ons Centrum\, Doorn\, Dorpsstraat 15\, Doorn\, 3941 JK\, Nederland
CATEGORIES:Activiteiten,Activiteiten jong
ATTACH;FMTTYPE=image/jpeg:https://parochie-sintmaarten.staging.wijzijnmerlin.dev/wp-content/uploads/2022/09/kleuterkerk-websiteformaat.jpg
GEO:52.0344757;5.34253
X-APPLE-STRUCTURED-LOCATION;VALUE=URI;X-ADDRESS=Ons Centrum Doorn Dorpsstraat 15 Doorn 3941 JK Nederland;X-APPLE-RADIUS=500;X-TITLE=Dorpsstraat 15:geo:5.34253,52.0344757
END:VEVENT
BEGIN:VEVENT
DTSTART;TZID=Europe/Amsterdam:20240211T093000
DTEND;TZID=Europe/Amsterdam:20240211T103000
DTSTAMP:20260420T062114
CREATED:20231214T151234Z
LAST-MODIFIED:20240909T061351Z
UID:10003965-1707643800-1707647400@parochie-sintmaarten.staging.wijzijnmerlin.dev
SUMMARY:Kleuterkerk
DESCRIPTION:Kleuterkerk is een viering van een half uurtje voor alle kinderen t/m 6 jaar. Tijdens kleuterkerk lezen we een mooi verhaal\, passend bij het thema van die zondag. We bidden met elkaar\, delen wat lekkers en natuurlijk is er ook weer tijd om iets leuks te knutselen. Iedereen is elke  tweede zondag van de maand van harte welkom! \nSinds kort hebben we ook een Kleuterkerk-app waarin we je op de hoogte kunnen houden van alle informatie over Kleuterkerk. Mail je gegevens naar annekarien.damen@gmail.com en ik voeg je toe aan onze app. \nMeer info\, zoals thema en locatie: www.parochie-sintmaarten.nl/kleuterkerk
URL:https://parochie-sintmaarten.staging.wijzijnmerlin.dev/event/kleuterkerk-15/2024-02-11/
LOCATION:Ons Centrum\, Doorn\, Dorpsstraat 15\, Doorn\, 3941 JK\, Nederland
CATEGORIES:Activiteiten,Activiteiten jong
ATTACH;FMTTYPE=image/jpeg:https://parochie-sintmaarten.staging.wijzijnmerlin.dev/wp-content/uploads/2022/09/kleuterkerk-websiteformaat.jpg
GEO:52.0344757;5.34253
X-APPLE-STRUCTURED-LOCATION;VALUE=URI;X-ADDRESS=Ons Centrum Doorn Dorpsstraat 15 Doorn 3941 JK Nederland;X-APPLE-RADIUS=500;X-TITLE=Dorpsstraat 15:geo:5.34253,52.0344757
END:VEVENT
BEGIN:VEVENT
DTSTART;TZID=Europe/Amsterdam:20240114T093000
DTEND;TZID=Europe/Amsterdam:20240114T103000
DTSTAMP:20260420T062114
CREATED:20231214T151234Z
LAST-MODIFIED:20240909T061351Z
UID:10003964-1705224600-1705228200@parochie-sintmaarten.staging.wijzijnmerlin.dev
SUMMARY:Kleuterkerk
DESCRIPTION:Kleuterkerk is een viering van een half uurtje voor alle kinderen t/m 6 jaar. Tijdens kleuterkerk lezen we een mooi verhaal\, passend bij het thema van die zondag. We bidden met elkaar\, delen wat lekkers en natuurlijk is er ook weer tijd om iets leuks te knutselen. Iedereen is elke  tweede zondag van de maand van harte welkom! \nSinds kort hebben we ook een Kleuterkerk-app waarin we je op de hoogte kunnen houden van alle informatie over Kleuterkerk. Mail je gegevens naar annekarien.damen@gmail.com en ik voeg je toe aan onze app. \nMeer info\, zoals thema en locatie: www.parochie-sintmaarten.nl/kleuterkerk
URL:https://parochie-sintmaarten.staging.wijzijnmerlin.dev/event/kleuterkerk-15/2024-01-14/
LOCATION:Ons Centrum\, Doorn\, Dorpsstraat 15\, Doorn\, 3941 JK\, Nederland
CATEGORIES:Activiteiten,Activiteiten jong
ATTACH;FMTTYPE=image/jpeg:https://parochie-sintmaarten.staging.wijzijnmerlin.dev/wp-content/uploads/2022/09/kleuterkerk-websiteformaat.jpg
GEO:52.0344757;5.34253
X-APPLE-STRUCTURED-LOCATION;VALUE=URI;X-ADDRESS=Ons Centrum Doorn Dorpsstraat 15 Doorn 3941 JK Nederland;X-APPLE-RADIUS=500;X-TITLE=Dorpsstraat 15:geo:5.34253,52.0344757
END:VEVENT
BEGIN:VEVENT
DTSTART;TZID=Europe/Amsterdam:20230910T093000
DTEND;TZID=Europe/Amsterdam:20230910T103000
DTSTAMP:20260420T062114
CREATED:20230710T073441Z
LAST-MODIFIED:20230901T193314Z
UID:10003719-1694338200-1694341800@parochie-sintmaarten.staging.wijzijnmerlin.dev
SUMMARY:Kleuterkerk
DESCRIPTION:Vandaag gaan we het bij Kleuterkerk hebben over ‘een nieuw begin’! Kom je ook? Meer info lees je hier op onze website.
URL:https://parochie-sintmaarten.staging.wijzijnmerlin.dev/event/kleuterkerk-14/
LOCATION:Maartenskerk\,\, Kerkplein 1\, Doorn\, 3941 HV
CATEGORIES:Activiteiten
ATTACH;FMTTYPE=image/jpeg:https://parochie-sintmaarten.staging.wijzijnmerlin.dev/wp-content/uploads/2022/09/kleuterkerk-websiteformaat.jpg
GEO:52.0330762;5.3449881
X-APPLE-STRUCTURED-LOCATION;VALUE=URI;X-ADDRESS=Maartenskerk Kerkplein 1 Doorn 3941 HV;X-APPLE-RADIUS=500;X-TITLE=Kerkplein 1:geo:5.3449881,52.0330762
END:VEVENT
END:VCALENDAR