BEGIN:VCALENDAR
VERSION:2.0
PRODID:-//R.K. Parochie Sint Maarten - ECPv6.10.2//NONSGML v1.0//EN
CALSCALE:GREGORIAN
METHOD:PUBLISH
X-ORIGINAL-URL:https://parochie-sintmaarten.staging.wijzijnmerlin.dev
X-WR-CALDESC:Evenementen voor R.K. Parochie Sint Maarten
REFRESH-INTERVAL;VALUE=DURATION:PT1H
X-Robots-Tag:noindex
X-PUBLISHED-TTL:PT1H
BEGIN:VTIMEZONE
TZID:Europe/Amsterdam
BEGIN:DAYLIGHT
TZOFFSETFROM:+0100
TZOFFSETTO:+0200
TZNAME:CEST
DTSTART:20230326T010000
END:DAYLIGHT
BEGIN:STANDARD
TZOFFSETFROM:+0200
TZOFFSETTO:+0100
TZNAME:CET
DTSTART:20231029T010000
END:STANDARD
END:VTIMEZONE
BEGIN:VEVENT
DTSTART;TZID=Europe/Amsterdam:20231225T150000
DTEND;TZID=Europe/Amsterdam:20231225T150000
DTSTAMP:20260419T183746
CREATED:20231129T190439Z
LAST-MODIFIED:20231213T093318Z
UID:10003887-1703516400-1703516400@parochie-sintmaarten.staging.wijzijnmerlin.dev
SUMMARY:Kindje Wiegen
DESCRIPTION:Eerste kerstdag\, maandag 25 december\, komen we in Zeist traditioneel om 15.00 uur samen rond de kerststal\, bij het Kindje Jezus in de kribbe. Er is een kerstvertelling en samen zingen wij kerstliederen. Elk jaar klimmen kinderen op de grote stoel om te zingen of te spelen op een muziekinstrument. Kindje Wiegen is het feest in de kerk voor de jongste kinderen. Kom gerust langs\, met ouders\, opa’s en oma’s. Welkom in de St. Josephkerk\, Rozenstraat 20\, Zeist.
URL:https://parochie-sintmaarten.staging.wijzijnmerlin.dev/event/kindje-wiegen-6/
LOCATION:St. Josephkerk\, Zeist\, Rozenstraat 20\, Zeist\, 3702 VP\, Nederland
CATEGORIES:Activiteiten,Activiteiten jong
ATTACH;FMTTYPE=image/gif:https://parochie-sintmaarten.staging.wijzijnmerlin.dev/wp-content/uploads/2023/11/Kerststal-Kindje-Wiegen-webversie.gif
GEO:52.089143;5.2385939
X-APPLE-STRUCTURED-LOCATION;VALUE=URI;X-ADDRESS=St. Josephkerk Zeist Rozenstraat 20 Zeist 3702 VP Nederland;X-APPLE-RADIUS=500;X-TITLE=Rozenstraat 20:geo:5.2385939,52.089143
END:VEVENT
END:VCALENDAR