BEGIN:VCALENDAR
VERSION:2.0
PRODID:-//R.K. Parochie Sint Maarten - ECPv6.10.2//NONSGML v1.0//EN
CALSCALE:GREGORIAN
METHOD:PUBLISH
X-WR-CALNAME:R.K. Parochie Sint Maarten
X-ORIGINAL-URL:https://parochie-sintmaarten.staging.wijzijnmerlin.dev
X-WR-CALDESC:Evenementen voor R.K. Parochie Sint Maarten
REFRESH-INTERVAL;VALUE=DURATION:PT1H
X-Robots-Tag:noindex
X-PUBLISHED-TTL:PT1H
BEGIN:VTIMEZONE
TZID:Europe/Amsterdam
BEGIN:DAYLIGHT
TZOFFSETFROM:+0100
TZOFFSETTO:+0200
TZNAME:CEST
DTSTART:20240331T010000
END:DAYLIGHT
BEGIN:STANDARD
TZOFFSETFROM:+0200
TZOFFSETTO:+0100
TZNAME:CET
DTSTART:20241027T010000
END:STANDARD
END:VTIMEZONE
BEGIN:VEVENT
DTSTART;TZID=Europe/Amsterdam:20240324T160000
DTEND;TZID=Europe/Amsterdam:20240324T170000
DTSTAMP:20260420T020010
CREATED:20231206T202700Z
LAST-MODIFIED:20240307T094459Z
UID:10003897-1711296000-1711299600@parochie-sintmaarten.staging.wijzijnmerlin.dev
SUMMARY:The Passion
DESCRIPTION:The Passion\, een gebedsviering met moderne muziek\, waarin het lijden en sterven van Jezus centraal zal staan. Het koor Milk & Honey\, onder leiding van Melissa Zijsling\, zingt bekende en minder bekende liederen van diverse artiesten. Pastoor Harrold Zemann verbindt deze liederen met inspirerende teksten. Iedereen is van harte welkom. \nNieuwe deelnemers aan het koor\, bij voorkeur jongeren tussen de 15 en 30 jaar met een goede zangstem en ervaring met koorzang\, zijn van harte welkom. Geïnteresseerden kunnen een mailtje sturen naar milkandhoneynl@gmail.com of een privé berichtje via Instagram naar @milkandhoneynl. \nWil je meezingen (bij voorkeur jongeren tussen de 15 en 30 jaar) heb je een goede zangstem en ervaring met koorzang\, stuur dan een mailjte naar milkandhoneynl@gmail.com of een privé berichtje via Instagram naar @milkandhoneynl. Je bent van harte welkom! \nMeer informatie: Marian van der Laan\, marianvanderlaan1951@gmail.com \n  \n  \n  \n 
URL:https://parochie-sintmaarten.staging.wijzijnmerlin.dev/event/the-passion-3/
LOCATION:St. Petrus’ bandenkerk\,\, Kerkplein 5\, Driebergen\, 3972 EK
CATEGORIES:Activiteiten,Activiteiten jong
ATTACH;FMTTYPE=image/png:https://parochie-sintmaarten.staging.wijzijnmerlin.dev/wp-content/uploads/2023/12/Poster-The-Passion-1080-x-1350-px-webversie-2024.png
GEO:52.0551733;5.2759292
X-APPLE-STRUCTURED-LOCATION;VALUE=URI;X-ADDRESS=St. Petrus’ bandenkerk Kerkplein 5 Driebergen 3972 EK;X-APPLE-RADIUS=500;X-TITLE=Kerkplein 5:geo:5.2759292,52.0551733
END:VEVENT
END:VCALENDAR